Workbook

Sheet CLS
F1: Bio | G1: Chem | H1: Comp Sci | I1: Engineering Gr. | J1: English | K1: Math | L1: Physics
A2: Varsity | B2: Ahbi | C2: Arulanandan | F2: 33 | J2: 63
B3: Anna | C3: Austin | I3: 21 | J3: 58
B4: Armin | C4: Daneshbodi | H4: 15 | L4: 18
B5: Evan | C5: Fater | K5: 17 | L5: 16
B6: Trini | C6: Feng | J6: 64 | K6: 15
B7: Alex | C7: Godsell | K7: 21 | L7: 20
B8: Zander | C8: Kitchen | G8: 30 | K8: 18
B9: Connie | C9: Lin | F9: 20 | J9: 57
B10: Akash | C10: Patel | F10: 44 | G10: 40
B11: Nina | C11: Petrouski | J11: 64 | K11: 14
B12: Matthew | C12: Pham | G12: 37 | L12: 20
B13: Cyril | C13: Pillai | F13: 43 | G13: 32
B14: Cassie | C14: Rausch | I14: 22 | J14: 58
B15: Irving | C15: Silva | J15: 62 | K15: 14
E16: Subject Raw Score | F16: =SUM(LARGE(F2:F15,1)+LARGE(F2:F15,2)) -> 87 | G16: =SUM(LARGE(G2:G15,1)+LARGE(G2:G15,2)) -> 77 | H16: =SUM(LARGE(H2:H15,1)+LARGE(H2:H15,2)) -> #NUM! | I16: =SUM(LARGE(I2:I15,1)+LARGE(I2:I15,2)) -> 43 | J16: =SUM(LARGE(J2:J15,1)+LARGE(J2:J15,2)) -> 128 | K16: =SUM(LARGE(K2:K15,1)+LARGE(K2:K15,2)) -> 39 | L16: =SUM(LARGE(L2:L15,1)+LARGE(L2:L15,2)) -> 40
E17: Max Score | F17: 87 | G17: 77 | H17: 46 | I17: 51 | J17: 133 | K17: 47 | L17: 51
E18: Normalizing Constant | F18: =100/F17 -> 1.1494253 | G18: =100/G17 -> 1.2987013 | H18: =100/H17 -> 2.173913 | I18: =100/I17 -> 1.9607843 | J18: =100/J17 -> 0.7518797 | K18: =100/K17 -> 2.1276596 | L18: =100/L17 -> 1.9607843
E19: Subject Norm. Score | F19: =F16*F18 -> 100 | G19: =G16*G18 -> 100 | H19: =H16*H18 -> #NUM! | I19: =I16*I18 -> 84.313725 | J19: =J16*J18 -> 96.240602 | K19: =K16*K18 -> 82.978723 | L19: =L16*L18 -> 78.431373
E20: Team Total | F20: =G19+J19+K19+F19+I19 -> 463.53305
A22: AT LARGE | B22: Elena | C22: Cangelosi | I22: 17 | J22: 54
B23: Emma | C23: Hartman | H23: 14 | J23: 57
B24: Carissa | C24: Hufford | J24: 70 | K24: 14
B25: Aidan | C25: Kitchen | G25: 33 | L25: 19
B26: Megan | C26: Lowe | J26: 65 | K26: 15
B27: Adam | C27: Russell | H27: 14 | L27: 21
B28: Kaithlyn | C28: Tesorero | F28: 24 | G28: 29
A30: JV | B30: Michael | C30: Andal | F30: 27 | G30: 14
B31: Marissa | C31: Baietto | G31: 20 | H31: 10
B32: Abby | C32: Bierkness | F32: 26 | K32: 13
B33: Christina | C33: Lin | F33: 27 | G33: 13
B34: Ashley | C34: Marunde | F34: 31 | K34: 14
B35: Skye | C35: McCord | F35: 29 | J35: 63

Sheet PR
B1: VARSITY | F1: Bio | G1: Chem | H1: Comp Sci | I1: Engineering Gr. | J1: English | K1: Math | L1: Physics
A2: Varsity | B2: Grace Rogers | J2: 61 | K2: 10
B3: Sajiv Shah | J3: 69 | K3: 19
B4: Daisy Kucharski | G4: 33 | L4: 18
B5: Lauren Pokonosky | J5: 64 | K5: 21
B6: Mychal Trznadel | F6: 30 | J6: 63
B7: Max Beck | H7: 26 | K7: 21
B8: Spencer Alvey | G8: 33 | K8: 22
B9: Braeden Harrell | F9: 32 | K9: 20
B10: Kate Lanza | I10: 26 | L10: 17
B11: Matt Pactol | I11: 20 | L11: 19
B12: Paul Lim | H12: 16 | L12: 17
B13: Erin Mahon | G13: 22 | I13: 18
B14: Ryan Huellen | G14: 16 | H14: 20
B15: Amelia Jensen | G15: 29 | K15: 19
E16: Subject Raw Score | F16: =SUM(LARGE(F2:F15,1)+LARGE(F2:F15,2)) -> 62 | G16: =SUM(LARGE(G2:G15,1)+LARGE(G2:G15,2)) -> 66 | H16: =SUM(LARGE(H2:H15,1)+LARGE(H2:H15,2)) -> 46 | I16: =SUM(LARGE(I2:I15,1)+LARGE(I2:I15,2)) -> 46 | J16: =SUM(LARGE(J2:J15,1)+LARGE(J2:J15,2)) -> 133 | K16: =SUM(LARGE(K2:K15,1)+LARGE(K2:K15,2)) -> 43 | L16: =SUM(LARGE(L2:L15,1)+LARGE(L2:L15,2)) -> 37
E17: Max Score | F17: 87 | G17: 77 | H17: 46 | I17: 51 | J17: 133 | K17: 47 | L17: 51
E18: Normalizing Constant | F18: =100/F17 -> 1.1494253 | G18: =100/G17 -> 1.2987013 | H18: =100/H17 -> 2.173913 | I18: =100/I17 -> 1.9607843 | J18: =100/J17 -> 0.7518797 | K18: =100/K17 -> 2.1276596 | L18: =100/L17 -> 1.9607843
E19: Subject Norm. Score | F19: =F16*F18 -> 71.264368 | G19: =G16*G18 -> 85.714286 | H19: =H16*H18 -> 100 | I19: =I16*I18 -> 90.196078 | J19: =J16*J18 -> 100 | K19: =K16*K18 -> 91.489362 | L19: =L16*L18 -> 72.54902
E20: Team Total | F20: =G19+J19+K19+H19+I19 -> 467.39973
B22: AT LARGE
B23: Nick Lingner | H23: 16 | K23: 15
B24: Luke Kim | J24: 62 | K24: 23
B31: JV

Sheet Woodstock
B1: VARSITY | F1: Bio | G1: Chem | H1: Comp Sci | I1: Engineering Gr. | J1: English | K1: Math | L1: Physics
A2: Varsity | B2: Zach | C2: Adams | K2: 18 | L2: 6
B3: Caroline | C3: Arnold | F3: 28 | L3: 13
B4: Nole | C4: Bristen | K4: 18 | L4: 12
B5: Chris | C5: Crenshaw | I5: 18 | K5: 18
B6: Evan | C6: Crenshaw | H6: 15 | K6: 11
B7: Logan | C7: Daniels | G7: 26 | L7: 17
B8: Ireland | C8: Dunnett | G8: 17 | H8: 12
B9: Matthew | C9: Gray | G9: 21 | I9: 17
B10: Susan | C10: Hansen | F10: 29 | J10: 62
B11: Jeff | C11: Hughes | G11: 22 | I11: 13
B12: Tanner | C12: Hurless | K12: 16 | L12: 12
B13: Andrew | C13: Iversen | H13: 20 | I13: 23
B14: Cara | C14: Orndahl | F14: 33 | J14: 61
B15: Darsha | C15: Patel | J15: 49 | K15: 10
E16: Subject Raw Score | F16: =SUM(LARGE(F2:F15,1)+LARGE(F2:F15,2)) -> 62 | G16: =SUM(LARGE(G2:G15,1)+LARGE(G2:G15,2)) -> 48 | H16: =SUM(LARGE(H2:H15,1)+LARGE(H2:H15,2)) -> 35 | I16: =SUM(LARGE(I2:I15,1)+LARGE(I2:I15,2)) -> 41 | J16: =SUM(LARGE(J2:J15,1)+LARGE(J2:J15,2)) -> 123 | K16: =SUM(LARGE(K2:K15,1)+LARGE(K2:K15,2)) -> 36 | L16: =SUM(LARGE(L2:L15,1)+LARGE(L2:L15,2)) -> 30
E17: Max Score | F17: 87 | G17: 77 | H17: 46 | I17: 51 | J17: 133 | K17: 47 | L17: 51
E18: Normalizing Constant | F18: =100/F17 -> 1.1494253 | G18: =100/G17 -> 1.2987013 | H18: =100/H17 -> 2.173913 | I18: =100/I17 -> 1.9607843 | J18: =100/J17 -> 0.7518797 | K18: =100/K17 -> 2.1276596 | L18: =100/L17 -> 1.9607843
E19: Subject Norm. Score | F19: =F16*F18 -> 71.264368 | G19: =G16*G18 -> 62.337662 | H19: =H16*H18 -> 76.086957 | I19: =I16*I18 -> 80.392157 | J19: =J16*J18 -> 92.481203 | K19: =K16*K18 -> 76.595745 | L19: =L16*L18 -> 58.823529
E20: Team Total | F20: =G19+J19+K19+H19+I19 -> 387.89372
B22: AT LARGE
B31: JV

Sheet Woodstock North
B1: VARSITY | F1: Bio | G1: Chem | H1: Comp Sci | I1: Engineering Gr. | J1: English | K1: Math | L1: Physics
A2: Varsity | B2: John | C2: Massman | G2: 35 | K2: 22
B3: Jackson | C3: Granat | K3: 20 | L3: 20
B4: Aidan | C4: Riley | I4: 28 | K4: 21
B5: Jason | C5: Thurow | K5: 25 | L5: 29
B6: Tony | C6: Manschula | I6: 23 | L6: 18
B7: Lauren | C7: Lee | F7: 30 | J7: 55
B8: Nathan | C8: Jansen | G8: 28 | L8: 22
B9: Julian | C9: Anguiano | G9: 26 | J9: 60
B10: Meghan | C10: McCann | G10: 27 | J10: 62
B11: Gerald | C11: Nacague | F11: 39 | J11: 58
B12: Andrew | C12: Johnson | F12: 40 | G12: 30
B13: JT | C13: Termanas | I13: 21 | K13: 19
B14: Anne | C14: Jansen | G14: 24 | J14: 61
B15: Carter | C15: Mitter | F15: 33 | K15: 18
E16: Subject Raw Score | F16: =SUM(LARGE(F2:F15,1)+LARGE(F2:F15,2)) -> 79 | G16: =SUM(LARGE(G2:G15,1)+LARGE(G2:G15,2)) -> 65 | H16: =SUM(LARGE(H2:H15,1)+LARGE(H2:H15,2)) -> #NUM! | I16: =SUM(LARGE(I2:I15,1)+LARGE(I2:I15,2)) -> 51 | J16: =SUM(LARGE(J2:J15,1)+LARGE(J2:J15,2)) -> 123 | K16: =SUM(LARGE(K2:K15,1)+LARGE(K2:K15,2)) -> 47 | L16: =SUM(LARGE(L2:L15,1)+LARGE(L2:L15,2)) -> 51
E17: Max Score | F17: 87 | G17: 77 | H17: 46 | I17: 51 | J17: 133 | K17: 47 | L17: 51
E18: Normalizing Constant | F18: =100/F17 -> 1.1494253 | G18: =100/G17 -> 1.2987013 | H18: =100/H17 -> 2.173913 | I18: =100/I17 -> 1.9607843 | J18: =100/J17 -> 0.7518797 | K18: =100/K17 -> 2.1276596 | L18: =100/L17 -> 1.9607843
E19: Subject Norm. Score | F19: =F16*F18 -> 90.804598 | G19: =G16*G18 -> 84.415584 | H19: =H16*H18 -> #NUM! | I19: =I16*I18 -> 100 | J19: =J16*J18 -> 92.481203 | K19: =K16*K18 -> 100 | L19: =L16*L18 -> 100
E20: Team Total | F20: =G19+J19+K19+I19+L19 -> 476.89679
B22: AT LARGE
B31: JV

Sheet Marengo
B1: VARSITY | F1: Bio | G1: Chem | H1: Comp Sci | I1: Engineering Gr. | J1: English | K1: Math | L1: Physics
A2: Varsity | B2: Daniel | C2: Antonson | H2: 7 | J2: 67
B3: Brooke | C3: Aubry | K3: 11 | L3: 7
B4: Libby | C4: Bowen | H4: 10 | J4: 62
B5: Clyde | C5: Chanthalansy | F5: 33 | G5: 23
B6: Jake | C6: Doyle | K6: 25 | L6: 26
B7: Jordyn | C7: Guse | F7: 32 | K7: 14
B8: Dani | C8: Hartman | F8: 25 | J8: 58
B9: Brant | C9: Leshner | H9: 9 | J9: 42
B10: Sierra | C10: Markus | H10: 11 | J10: 56
B11: Haley | C11: Minogue | K11: 10 | L11: 12
B12: Aaron | C12: Moehlin | G12: 36 | K12: 23
B13: Justin | C13: Peters | F13: 32 | L13: 15
B14: Aaron | C14: Phillips | G14: 32 | K14: 18
B15: Lillie | C15: Simons | H15: 7 | K15: 14
E16: Subject Raw Score | F16: =SUM(LARGE(F2:F15,1)+LARGE(F2:F15,2)) -> 65 | G16: =SUM(LARGE(G2:G15,1)+LARGE(G2:G15,2)) -> 68 | H16: =SUM(LARGE(H2:H15,1)+LARGE(H2:H15,2)) -> 21 | I16: =SUM(LARGE(I2:I15,1)+LARGE(I2:I15,2)) -> #NUM! | J16: =SUM(LARGE(J2:J15,1)+LARGE(J2:J15,2)) -> 129 | K16: =SUM(LARGE(K2:K15,1)+LARGE(K2:K15,2)) -> 48 | L16: =SUM(LARGE(L2:L15,1)+LARGE(L2:L15,2)) -> 41
E17: Max Score | F17: 83 | G17: 69 | H17: 39 | I17: 55 | J17: 133 | K17: 49 | L17: 42
E18: Normalizing Constant | F18: =100/F17 -> 1.2048193 | G18: =100/G17 -> 1.4492754 | H18: =100/H17 -> 2.5641026 | I18: =100/I17 -> 1.8181818 | J18: =100/J17 -> 0.7518797 | K18: =100/K17 -> 2.0408163 | L18: =100/L17 -> 2.3809524
E19: Subject Norm. Score | F19: =F16*F18 -> 78.313253 | G19: =G16*G18 -> 98.550725 | H19: =H16*H18 -> 53.846154 | I19: =I16*I18 -> #NUM! | J19: =J16*J18 -> 96.992481 | K19: =K16*K18 -> 97.959184 | L19: =L16*L18 -> 97.619048
E20: Team Total | F20: =SUM(F19,G19,K19,J19,L19) -> 469.43469
B22: AT LARGE | C22: Michael | D22: Ashbaugh | I22: 23 | J22: 64
B23: 2 | C23: Logan | D23: Chanthalansky | G23: 22 | K23: 16
B24: 3 | C24: Kiley | D24: Christopher | G24: 18 | J24: 51
B25: 4 | C25: Ryan | D25: Clark | G25: 15 | K25: 17
B26: 5 | C26: Riley | D26: Coudal | I26: 21 | L26: 12
B27: 6 | C27: Dawson | D27: Distler | G27: 19 | H27: 7
B28: 7 | C28: Jacqueline | D28: Euker | G28: 22 | J28: 62
B29: 8 | C29: Maddy | D29: Fitch | I29: 12 | J29: 52
B30: 9 | C30: Cari | D30: Hasse | H30: 8 | J30: 47
B31: 10 | C31: Madison | D31: Johnstone | G31: 21 | K31: 10
B32: 11 | C32: Olivia | D32: Kalter | G32: 18 | J32: 48
B33: 12 | C33: Samuel | D33: Leidig | I33: 14 | J33: 51
B34: 13 | C34: Tommy | D34: Luliinski | I34: 19 | K34: 17
B35: 14 | C35: Rebecca | D35: Millard | G35: 14 | J35: 58
B36: 15 | C36: Sabrina | D36: Rosenquest | F36: 19 | K36: 7
B37: 16 | C37: Robert | D37: Scianna | H37: 4 | I37: 18
B38: 17 | C38: Alden | D38: Smith | G38: 22 | K38: 16
B39: 18 | C39: Alexa | D39: Stallings | G39: 20 | K39: 13
B40: 19 | C40: Sean | D40: Trainer | G40: 16 | I40: 19
B41: 20 | C41: Caroline | D41: Westmoreland | F41: 31 | K41: 12

Sheet Marian Ctl.
B1: VARSITY | F1: Bio | G1: Chem | H1: Comp Sci | I1: Engineering Gr. | J1: English | K1: Math | L1: Physics
A2: Varsity | B2: Andrew | C2: Pascente | K2: 11 | L2: 21
B3: Benjamin | C3: Reuter | J3: 68 | L3: 21
B4: Jamie | C4: Atadero | F4: 36 | J4: 61
B5: Connor | C5: Blaz | F5: 43 | J5: 65
B6: Susan | C6: Lim | F6: 26 | J6: 47
B7: Alex | C7: Eshenbacher | G7: 24 | L7: 18
B8: Jack | C8: Harmon | H8: 9 | I8: 13
B9: Chris | C9: Atadero | F9: 26 | G9: 12
B10: Luke | C10: Morehead | H10: 12 | J10: 51
B11: Sam | C11: Lavin | I11: 15 | K11: 12
B12: Brian | C12: Pascente | G12: 14 | K12: 9
B13: Stephen | C13: Foster | I13: 14 | K13: 11
E16: Subject Raw Score | F16: =SUM(LARGE(F2:F15,1)+LARGE(F2:F15,2)) -> 79 | G16: =SUM(LARGE(G2:G15,1)+LARGE(G2:G15,2)) -> 38 | H16: =SUM(LARGE(H2:H15,1)+LARGE(H2:H15,2)) -> 21 | I16: =SUM(LARGE(I2:I15,1)+LARGE(I2:I15,2)) -> 29 | J16: =SUM(LARGE(J2:J15,1)+LARGE(J2:J15,2)) -> 133 | K16: =SUM(LARGE(K2:K15,1)+LARGE(K2:K15,2)) -> 23 | L16: =SUM(LARGE(L2:L15,1)+LARGE(L2:L15,2)) -> 42
E17: Max Score | F17: 83 | G17: 69 | H17: 39 | I17: 55 | J17: 133 | K17: 49 | L17: 42
E18: Normalizing Constant | F18: =100/F17 -> 1.2048193 | G18: =100/G17 -> 1.4492754 | H18: =100/H17 -> 2.5641026 | I18: =100/I17 -> 1.8181818 | J18: =100/J17 -> 0.7518797 | K18: =100/K17 -> 2.0408163 | L18: =100/L17 -> 2.3809524
E19: Subject Norm. Score | F19: =F16*F18 -> 95.180723 | G19: =G16*G18 -> 55.072464 | H19: =H16*H18 -> 53.846154 | I19: =I16*I18 -> 52.727273 | J19: =J16*J18 -> 100 | K19: =K16*K18 -> 46.938776 | L19: =L16*L18 -> 100
E20: Team Total | F20: =F19+G19+J19+G20+K19+L19 -> 397.19196
B22: AT LARGE
B31: JV

Sheet RB
B1: VARSITY | F1: Bio | G1: Chem | H1: Comp Sci | I1: Engineering Gr. | J1: English | K1: Math | L1: Physics
A2: Varsity | B2: Kyle | C2: Denzel | F2: 23 | K2: 14
B3: JP | C3: Elder | G3: 29 | K3: 22
B4: Tyler | C4: Fossum | F4: 41 | G4: 38
B5: Roger | C5: Hickey | F5: 31 | I5: 28
B6: Kiley | C6: Kennedy | G6: 11 | J6: 62
B7: Joshua | C7: Leslie | H7: 7 | J7: 59
B8: Connor | C8: Lindsey | H8: 16 | I8: cont.
B9: Cassie | C9: Luedke | G9: 30 | I9: 19
B10: Sammy | C10: Ortmeyer | F10: 35 | I10: 14
B11: Simran | C11: Patel | F11: 33 | I11: 27
B12: Amelia | C12: Persons | G12: 8 | J12: 59
B13: Nick | C13: Porter | F13: 42 | G13: 27
B14: Danny | C14: Sullivan | G14: 31 | J14: 65
B15: Manas | C15: Trivedi | H15: 23 | K15: 27
E16: Subject Raw Score | F16: =SUM(LARGE(F2:F15,1)+LARGE(F2:F15,2)) -> 83 | G16: =SUM(LARGE(G2:G15,1)+LARGE(G2:G15,2)) -> 69 | H16: =SUM(LARGE(H2:H15,1)+LARGE(H2:H15,2)) -> 39 | I16: =SUM(LARGE(I2:I15,1)+LARGE(I2:I15,2)) -> 55 | J16: =SUM(LARGE(J2:J15,1)+LARGE(J2:J15,2)) -> 127 | K16: =SUM(LARGE(K2:K15,1)+LARGE(K2:K15,2)) -> 49 | L16: 0
E17: Max Score | F17: 83 | G17: 69 | H17: 39 | I17: 55 | J17: 133 | K17: 49 | L17: 42
E18: Normalizing Constant | F18: =100/F17 -> 1.2048193 | G18: =100/G17 -> 1.4492754 | H18: =100/H17 -> 2.5641026 | I18: =100/I17 -> 1.8181818 | J18: =100/J17 -> 0.7518797 | K18: =100/K17 -> 2.0408163 | L18: =100/L17 -> 2.3809524
E19: Subject Norm. Score | F19: =F16*F18 -> 100 | G19: =G16*G18 -> 100 | H19: =H16*H18 -> 100 | I19: =I16*I18 -> 100 | J19: =J16*J18 -> 95.488722 | K19: =K16*K18 -> 100 | L19: =L16*L18 -> 0
E20: Team Total | F20: =SUM(400+J19) -> 495.48872
A22: AT LARGE | B22: Charles | C22: Hardesty | F22: 17 | I22: 10
B23: Elyssa | C23: Horcher | F23: 29 | I23: 16
B24: Sydney | C24: Meyer | F24: 23 | J24: 58
B25: Megan | C25: Miltimore | G25: 15 | K25: 11
B31: JV

Sheet Barrington
B1: VARSITY | F1: Bio | G1: Chem | H1: Comp Sci | I1: Engineering Gr. | J1: English | K1: Math | L1: Physics
A2: Varsity | B2: Sophia Cai | J2: 67 | K2: 26
B3: Aarnav Patel | G3: 32 | J3: 59
B4: Michael Chamiel | F4: 34 | J4: 69
B5: Jake Mayer | H5: 27 | L5: 17
B6: Aidan Moi | G6: 30 | H6: 20
B7: Rishi Ray | F7: 38 | G7: 26
B8: Ananya Sehgal | G8: 28 | I8: 27
B9: Julia Sun | G9: 36 | I9: 15
B10: Liam Starnes | H10: 15 | K10: 24
B11: Keegan Teal | G11: 33 | I11: 28
B12: Zacharay George | K12: 27 | L12: 22
B13: Victoria Huang | G13: 22 | J13: 65
B14: Isabella Lebovic | F14: 34 | J14: 70
B15: Aashna Patel | G15: 34 | J15: 66
E16: Subject Raw Score | F16: =SUM(LARGE(F2:F15,1)+LARGE(F2:F15,2)) -> 72 | G16: =SUM(LARGE(G2:G15,1)+LARGE(G2:G15,2)) -> 70 | H16: =SUM(LARGE(H2:H15,1)+LARGE(H2:H15,2)) -> 47 | I16: =SUM(LARGE(I2:I15,1)+LARGE(I2:I15,2)) -> 55 | J16: =SUM(LARGE(J2:J15,1)+LARGE(J2:J15,2)) -> 139 | K16: =SUM(LARGE(K2:K15,1)+LARGE(K2:K15,2)) -> 53 | L16: =SUM(LARGE(L2:L15,1)+LARGE(L2:L15,2)) -> 39
E17: Max Score | F17: 83 | G17: 70 | H17: 47 | I17: 55 | J17: 147 | K17: 53 | L17: 43
E18: Normalizing Constant | F18: =100/F17 -> 1.2048193 | G18: =100/G17 -> 1.4285714 | H18: =100/H17 -> 2.1276596 | I18: =100/I17 -> 1.8181818 | J18: =100/J17 -> 0.68027211 | K18: =100/K17 -> 1.8867925 | L18: =100/L17 -> 2.3255814
E19: Subject Norm. Score | F19: =F16*F18 -> 86.746988 | G19: =G16*G18 -> 100 | H19: =H16*H18 -> 100 | I19: =I16*I18 -> 100 | J19: =J16*J18 -> 94.557823 | K19: =K16*K18 -> 100 | L19: =L16*L18 -> 90.697674
E20: Team Total | F20: 494.56
B22: AT LARGE
B23: Mahil Venkatesh | F23: 20 | K23: 3
B24: Ananya Jain | H24: 14 | K24: 16
B31: JV

Sheet CLC
B1: VARSITY | F1: Bio | G1: Chem | H1: Comp Sci | I1: Engineering Gr. | J1: English | K1: Math | L1: Physics
A2: Varsity
B3: Steven | C3: Schmidt | I3: 28 | K3: 21
B4: Natalie | C4: Volling | G4: 32 | J4: 67
B5: Henry | C5: Yentsch | G5: 31 | I5: 16
B6: Faith | C6: Vancayco | K6: 19 | L6: 12
B7: Sam | C7: Mackeben | I7: 20 | L7: 18
B8: Drew | C8: Jenkins | J8: 55 | K8: 21
B9: Easton | C9: Walsh | J9: 51 | K9: 21
B10: Zach | C10: Ryan | F10: 45 | J10: 68
B11: Tyler | C11: Holden | F11: 38 | H11: 14
B12: Aiden | C12: Keck | H12: 22 | K12: 19
B13: Sreetaj | C13: Ponnan | F13: 32 | H13: 13
B14: Noah | C14: Blome | H14: 10 | L14: 14
E16: Subject Raw Score | F16: =SUM(LARGE(F2:F15,1)+LARGE(F2:F15,2)) -> 83 | G16: =SUM(LARGE(G2:G15,1)+LARGE(G2:G15,2)) -> 63 | H16: =SUM(LARGE(H2:H15,1)+LARGE(H2:H15,2)) -> 36 | I16: =SUM(LARGE(I2:I15,1)+LARGE(I2:I15,2)) -> 48 | J16: =SUM(LARGE(J2:J15,1)+LARGE(J2:J15,2)) -> 135 | K16: =SUM(LARGE(K2:K15,1)+LARGE(K2:K15,2)) -> 42 | L16: =SUM(LARGE(L2:L15,1)+LARGE(L2:L15,2)) -> 32
E17: Max Score | F17: 83 | G17: 70 | H17: 47 | I17: 55 | J17: 147 | K17: 53 | L17: 43
E18: Normalizing Constant | F18: =100/F17 -> 1.2048193 | G18: =100/G17 -> 1.4285714 | H18: =100/H17 -> 2.1276596 | I18: =100/I17 -> 1.8181818 | J18: =100/J17 -> 0.68027211 | K18: =100/K17 -> 1.8867925 | L18: =100/L17 -> 2.3255814
E19: Subject Norm. Score | F19: =F16*F18 -> 100 | G19: =G16*G18 -> 90 | H19: =H16*H18 -> 76.595745 | I19: =I16*I18 -> 87.272727 | J19: =J16*J18 -> 91.836735 | K19: =K16*K18 -> 79.245283 | L19: =L16*L18 -> 74.418605
E20: Team Total | F20: 448.4
B22: AT LARGE
B31: JV

Sheet CG
B1: VARSITY | F1: Bio | G1: Chem | H1: Comp Sci | I1: Engineering Gr. | J1: English | K1: Math | L1: Physics
A2: Varsity | B2: 1 | E2: Colin Brasch | K2: 21 | L2: 22
B3: 2 | E3: Jared Bright | I3: 28 | K3: 24
B4: 3 | E4: Eric Christensen | H4: 11 | I4: 15
B5: 4 | E5: Kaitlyn Kinsch | F5: 24 | J5: 33
B6: 5 | E6: Michael Kreiger | G6: 35 | K6: 26
B7: 6 | E7: Matthew Kreiger | G7: 32 | K7: 20
B8: 7 | E8: Robbie Nollett | F8: 40 | J8: 71
B9: 8 | E9: Ashton O´Rourke | G9: 27 | I9: 26
B10: 9 | E10: Erin Palmero | J10: 60 | L10: 10
B11: 10 | E11: Ved Patel | F11: 41 | J11: 76
B12: 11 | E12: Ari Rozhon | F12: 23 | J12: 52
B13: 12 | E13: Olivia Schladt | G13: 25 | K13: 15
B14: 13 | E14: Chloe Sorensen | K14: 19 | L14: 21
B15: 14 | E15: Jeremy Yokup | H15: 16 | J15: 62
E16: Subject Raw Score | F16: =SUM(LARGE(F2:F15,1)+LARGE(F2:F15,2)) -> 81 | G16: =SUM(LARGE(G2:G15,1)+LARGE(G2:G15,2)) -> 67 | H16: =SUM(LARGE(H2:H15,1)+LARGE(H2:H15,2)) -> 27 | I16: =SUM(LARGE(I2:I15,1)+LARGE(I2:I15,2)) -> 54 | J16: =SUM(LARGE(J2:J15,1)+LARGE(J2:J15,2)) -> 147 | K16: =SUM(LARGE(K2:K15,1)+LARGE(K2:K15,2)) -> 50 | L16: =SUM(LARGE(L2:L15,1)+LARGE(L2:L15,2)) -> 43
E17: Max Score | F17: 83 | G17: 70 | H17: 47 | I17: 55 | J17: 147 | K17: 53 | L17: 43
E18: Normalizing Constant | F18: =100/F17 -> 1.2048193 | G18: =100/G17 -> 1.4285714 | H18: =100/H17 -> 2.1276596 | I18: =100/I17 -> 1.8181818 | J18: =100/J17 -> 0.68027211 | K18: =100/K17 -> 1.8867925 | L18: =100/L17 -> 2.3255814
E19: Subject Norm. Score | F19: =F16*F18 -> 97.590361 | G19: =G16*G18 -> 95.714286 | H19: =H16*H18 -> 57.446809 | I19: =I16*I18 -> 98.181818 | J19: =J16*J18 -> 100 | K19: =K16*K18 -> 94.339623 | L19: =L16*L18 -> 100
E20: Team Total | F20: 488.2
A22: AT LARGE | B22: 1 | E22: Lauren Passaglia | K22: 8 | L22: 10
B23: 2 | E23: Josip Pusic | K23: 19 | L23: 22
B24: 3 | E24: Kathryn Thompson | I24: 28 | J24: 50
A31: JV

Sheet Team Results
A1: Division 700 | B1: Richmond Burton | C1: =RB!F20 -> 495.48872
B2: Marengo | C2: =Marengo!F20 -> 469.43469
B3: Marian Central | C3: ='Marian Ctl.'!F20 -> 397.19196
A6: Division 1500 | B6: Woodstock North | C6: ='Woodstock North'!F20 -> 476.89679
B7: Prairie Ridge | C7: =PR!F20 -> 467.39973
B8: Crystal Lake South | C8: =CLS!F20 -> 463.53305
B9: Woodstock | C9: =Woodstock!F20 -> 387.89372
A12: Division Unlimited | B12: Barrington | C12: 494.6
B13: Crystal Lake Central | C13: =CLC!F20 -> 448.4
B14: Cary Grove | C14: =CG!F20 -> 488.2

Sheet Individuals
A2: Division 700 | B2: 1st | C2: School | D2: 2nd | E2: School | F2: 3rd | G2: School
A4: Bio | B4: Connor Blaz (43) | C4: Marian Central Catholic HS | D4: Nick Porter (42) | E4: Richmond-Burton | F4: Tyler Fossum (41) | G4: Richmond-Burton
A5: Chem | B5: Tyler Fossum (38) | C5: Richmond-Burton | D5: Aaron Moehlin(36) | E5: Marengo | F5: Aaron Phillips(32) | G5: Marengo
A6: Comp Sci | B6: Manas Trivedi (23) | C6: Richmond-Burton | D6: Connor Lindsey (16) | E6: Richmond-Burton | F6: Luke Morehead (12) | G6: Marian Central Catholic HS
A7: Engineering Gr. | B7: Roger Hickey (28) | C7: Richmond-Burton | D7: Simran Patel (27) | E7: Richmond-Burton | F7: Michael Ashbaugh(23) TIE | G7: Marengo
A8: Engineering Gr.cont | F8: Connor Lindsey (23) TIE | G8: Richmond-Burton
A9: English | B9: Benjamin Reuter (68) | C9: Marian Central Catholic HS | D9: Daniel Antonson (67) | E9: Marengo | F9: Connor Blaz (65) TIE | G9: Marian Central Catholic HS
A10: English-cont. | F10: Danny Sullivan (65) TIE | G10: Richmond-Burton
A11: Math | B11: Manas Trivedi (27) | C11: Richmond-Burton | D11: Jake Doyle (25) | E11: Marengo | F11: Aaron Moerlin(23) | G11: Marengo
A12: Physics | B12: Jake Doyle (26) | C12: Marengo | D12: Andrew Pascente (21) TIE | E12: Marian Central Catholic HS | F12: Alex Eschenbacher (18) | G12: Marian Central Catholic HS
A13: Physics-cont | D13: Benjamin Reuter (21) TIE | E13: Marian Central Catholic HS
A15: Division 1500
A17: Bio | B17: Akash Patel (44) | C17: Crystal Lake South | D17: Cyril Pillai (43) | E17: Crystal Lake South | F17: Andrew Johnson (40) | G17: Woodstock North
A18: Chem | B18: Akash Patel (40) | C18: Crystal Lake South | D18: Matthew Pham (37) | E18: Crystal Lake South | F18: John Massman (35) | G18: Woodstock North
A19: Comp Sci | B19: Max Beck (26) | C19: Prairie Ridge | D19: Andrew Iversen (20), Ryan Huellen (20) | E19: Woodstock; Prairie Ridge | F19: Paul Lim (16) | G19: Prairie Ridge
A20: Engineering Gr. | B20: Aidan Riley (28) | C20: Woodstock North | D20: Kate Lanza (26) | E20: Prairie Ridge | F20: Andrew Iversen (23); Tony Manschula (23) | G20: Woodstock; Woodstock North
A21: English | B21: Carissa Hufford (70) | C21: Crystal Lake South | D21: Sajiv Shah (69) | E21: Prairie Ridge | F21: Megan Lowe (65) | G21: Crystal Lake South
A22: Math | B22: Jason Thurow (25) | C22: Woodstock North | D22: Spencer Alvey (22), John Massman (22) | E22: Prairie Ridge; Woodstock North | F22: Aidan Riley (21); Lauren Pokonosky (21); Max Beck (21); Alex Godsell (21) | G22: Woodstock North, PR, PR, Crystal Lake South
A23: Physics | B23: Jason Thurow (29) | C23: Woodstock North | D23: Nathan Jansen (22) | E23: Woodstock North | F23: Adam Russell (21) | G23: Crystal Lake South
A26: Division Unlimited
A28: Bio | D28: 1st | E28: 45 | F28: Zach Ryan | G28: CLC
D29: 2nd | E29: 41 | F29: Ved Patel | G29: CG
D30: 3rd | E30: 40 | F30: Robbie Nollett | G30: CG
A32: Chem | D32: 1st | E32: 36 | F32: Julia Sun | G32: Barrington
D33: 2nd | E33: 35 | F33: Michael Kreiger | G33: CG
D34: 3rd | E34: 34 | F34: Aashna Patel | G34: Barrington
A36: Comp Sci | D36: 1st | E36: 27 | F36: Jake Mayer | G36: Barrington
D37: 2nd | E37: 22 | F37: Aiden Keck | G37: CLC
D38: 3rd | E38: 20 | F38: Aidan Moi | G38: Barrington
A40: Engineering Graphics | D40: 1st | E40: 28 | F40: Keegan Teal | G40: Barrington
E41: 28 | F41: Steven Schmidt | G41: CLC
E42: 28 | F42: Jared Bright | G42: CG
E43: 28 | F43: Kathryn Thompson | G43: CG
D44: 2nd | E44: 27 | F44: Ananya Sehgal | G44: Barrington
D45: 3rd | E45: 26 | F45: Ashton O'Rourke | G45: CG
A47: English | D47: 1st | E47: 76 | F47: Ved Patel | G47: CG
D48: 2nd | E48: 71 | F48: Robbie Nollett | G48: CG
D49: 3rd | E49: 70 | F49: Isabella Lebovic | G49: Barrington
A51: Math | D51: 1st | E51: 27 | F51: Zachary George | G51: Barrington
D52: 2nd | E52: 26 | F52: Sophia Cai | G52: Barrington
E53: 26 | F53: Michael Kreiger | G53: CG
D54: 3rd | E54: 24 | F54: Liam Starnes | G54: Barrington
E55: 24 | F55: Jared Bright | G55: CG
A57: Physics | D57: 1st | E57: 22 | F57: Zachary George | G57: Barrington
E58: 22 | F58: Colin Brasch | G58: CG
E59: 22 | F59: Josip Pusic | G59: CG
D60: 2nd | E60: 21 | F60: Chloe Sorensen | G60: CG
D61: 3rd | E61: 18 | F61: Sam Mackeven | G61: CLC
