Workbook
Name DATATABLE: [1]ROSTER!$A$1:$G5999
Name RB: Sheet1!$A$1:$AH$290

Sheet Sheet2
A1: 22101 | C1: 26402 | E1: 33713
A2: 29603 | C2: 26401 | E2: 28907
A3: 31209 | C3: 38502 | E3: 14908
A4: 19509 | C4: 34409 | E4: 25809
A5: 37406 | C5: 28305 | E5: 28906
A6: 14202 | C6: 38501 | E6: 14912
A7: 17414 | C7: 38505 | E7: 14910
A8: 28010 | C8: 28301 | E8: 14910
A9: 18414 | C9: 32101 | E9: 25810
A10: 19514 | C10: 31105 | E10: 25811
A11: 19504 | C11: 34410 | E11: 28913
A12: 31206 | C12: 28310 | E12: 27303
... A24: 37412 | C24: 34400 | E24: 14909
A25: 27603 | C25: 26708
A26: 28010 | C26: 19609
A27: 37406 | C27: 26403
A28: 37401 | C28: 30003
A29: 16903 | C29: 12107
A30: 16902 | C30: 12102
A31: 37402 | C31: 16212
A32: 27601
A35: 18806 | C35: 12912 | E35: 14706 | G35: 34707
A36: 32508 | C36: 12907 | E36: 14713 | G36: 20301
A37: 18814 | C37: 12911 | E37: 14710 | G37: 21701
A38: 18322 | C38: 12904 | E38: 14713 | G38: 21702
A39: 18813 | C39: 38306 | E39: 14709 | G39: 34702
A40: 18804 | C40: 41908 | E40: 24407 | G40: 34702
A41: 18812 | C41: 12901 | E41: 14708 | G41: 34708
A42: 18802 | C42: 12904 | E42: 14711 | G42: 22902
A43: 22509 | C43: 12903 | E43: 14705 | G43: 23908
A44: 32501 | C44: 43303 | E44: 14707 | G44: 23906
A45: 18801 | C45: 12905 | E45: 24406 | G45: 20311
A46: 18810 | C46: 41912 | E46: 14707 | G46: 20306
... A61: 18307 | C61: 12904 | E61: 24412 | G61: 21705
A62: 18114 | C62: 38306 | G62: 20312
A63: 23507 | C63: 41908 | G63: 41801
A64: 35909 | G64: 22902
A65: 32509 | G65: 34714
A66: 34221 | G66: 20312
G67: 34705
G68: 20306
G69: 20303
G70: 21704
A73: 20203 | C73: 24201 | E73: 13209
A74: 20803 | C74: 32904 | E74: 29009
A75: 20807 | C75: 27114 | E75: 13210
A76: 15901 | C76: 14002 | E76: 29003
A77: 30507 | C77: 14009 | E77: 13202
A78: 39208 | C78: 14003 | E78: 13206
A79: 20207 | C79: 14011 | E79: 13210
A80: 39214 | C80: 13812 | E80: 29008
A81: 30512 | C81: 14001 | E81: 13206
C82: 27103 | E82: 13204
A83: 20212 | C83: 22206 | E83: 29013
A84: 39211 | C84: 14001 | E84: 29004
A85: 20205 | C85: 32609 | E85: 29007
A86: 41602 | C86: 40703 | E86: 29004
A87: 20209 | C87: 11805 | E87: 29005
A88: 20212 | C88: 21914 | E88: 13211
A89: 41602 | C89: 24201 | E89: 13209
A90: 20806 | C90: 14002 | E90: 29001
A91: 20201 | C91: 32614 | E91: 13211
A92: 41601 | C92: 40701 | E92: 13204
A93: 36304 | C93: 32614 | E93: 13201
A94: 20221 | C94: 13810 | E94: 29001
... A97: 20806 | C97: 32608 | E97: 29014
A98: 16301 | C98: 11802
A99: 30504 | C99: 11812
A100: 30502 | C100: 13804
A101: 30508
A102: 39210
A103: 36301
A104: 36314
A109: 17709 | C109: 16129 | E109: 41305
A110: 17701 | C110: 16111 | E110: 41304
A111: 17706 | C111: 16107 | E111: 41103
A112: 17708 | C112: 23102 | E112: 41308
A113: 17711 | C113: 16108 | E113: 41108
A114: 17714 | C114: 16101 | E114: 41302
A115: 17702 | C115: 16110 | E115: 41101
A116: 17709 | C116: 31606 | E116: 41102
A117: 17714 | C117: 16109 | E117: 41302
A118: 17710 | C118: 31614 | E118: 41311
A119: 17705 | C119: 16113 | E119: 41307
A120: 17701 | C120: 16104 | E120: 41301
... A123: 17710 | C123: 16114 | E123: 41112
C124: 23101 | E124: 41102
C125: 31603 | E125: 41109
C126: 16103 | E126: 41106
C127: 16114 | E127: 41132
C128: 16108 | E128: 41301
C129: 16101 | E129: 41309
C130: 16110 | E130: 41105
C131: 23101 | E131: 41303
E132: 41130
E133: 41103
E134: 41132
E135: 41312
A138: 42305 | C138: 33805 | E138: 13614 | G138: 19005
A139: 42307 | C139: 33807 | E139: 17208 | G139: 10229
...

Sheet Sheet1
A1: 100 | B1: 300 | C1: Biology | D1: 22101 | E1: 38 | F1: =IF(D1<>0,VLOOKUP(D1,DATATABLE,2,0),"") -> Owen Ashbrook | G1: =IF(ISNUMBER(D1),VLOOKUP(D1,DATATABLE,3,0),"") -> Heritage High School | I1: 700 | J1: Biology | K1: 26402 | L1: 39 | M1: =IF(ISNUMBER(K1),VLOOKUP(K1,DATATABLE,2,0),"") -> Saarah Qureshi | N1: =IF(ISNUMBER(K1),VLOOKUP(K1,DATATABLE,3,0),"") -> Maroa Forsyth High School | R1: 1500 | S1: Biology | U1: 40 | V1: =IF(ISNUMBER(Sheet2!E1),VLOOKUP(Sheet2!E1,DATATABLE,2,0),"") -> Mai Buachaiyo | W1: =IF(ISNUMBER(Sheet2!E1),VLOOKUP(Sheet2!E1,DATATABLE,3,0),"") -> Richland County High School
D2: 29603 | E2: 35 | F2: =IF(D2<>0,VLOOKUP(D2,DATATABLE,2,0),"") -> Laney Brandenburg | G2: =IF(ISNUMBER(D2),VLOOKUP(D2,DATATABLE,3,0),"") -> Neoga High School | K2: 26401 | L2: 37 | M2: =IF(ISNUMBER(K2),VLOOKUP(K2,DATATABLE,2,0),"") -> Usman Qureshi | N2: =IF(ISNUMBER(K2),VLOOKUP(K2,DATATABLE,3,0),"") -> Maroa Forsyth High School | U2: 38 | V2: =IF(ISNUMBER(Sheet2!E2),VLOOKUP(Sheet2!E2,DATATABLE,2,0),"") -> Peyton Hamilton | W2: =IF(ISNUMBER(Sheet2!E2),VLOOKUP(Sheet2!E2,DATATABLE,3,0),"") -> Mount Zion High School
D3: 31209 | E3: 33 | F3: =IF(D3<>0,VLOOKUP(D3,DATATABLE,2,0),"") -> Rylan Legg | G3: =IF(ISNUMBER(D3),VLOOKUP(D3,DATATABLE,3,0),"") -> Oblong High School | K3: 38502 | L3: 36 | M3: =IF(ISNUMBER(K3),VLOOKUP(K3,DATATABLE,2,0),"") -> Sydni Waidelich | N3: =IF(ISNUMBER(K3),VLOOKUP(K3,DATATABLE,3,0),"") -> Sullivan High School | U3: 35 | V3: =IF(ISNUMBER(Sheet2!E3),VLOOKUP(Sheet2!E3,DATATABLE,2,0),"") -> Rohan Pluta | W3: =IF(ISNUMBER(Sheet2!E3),VLOOKUP(Sheet2!E3,DATATABLE,3,0),"") -> Champaign Central High School
C4: Chemistry | D4: 19509 | E4: 24 | F4: =IF(ISNUMBER(D4),VLOOKUP(D4,DATATABLE,2,0),"") -> Daniel Bein | G4: =IF(ISNUMBER(D4),VLOOKUP(D4,DATATABLE,3,0),"") -> Fisher High School | K4: 34409 | L4: 36 | M4: =IF(ISNUMBER(K4),VLOOKUP(K4,DATATABLE,2,0),"") -> Jalyne Long | N4: =IF(ISNUMBER(K4),VLOOKUP(K4,DATATABLE,3,0),"") -> Robinson High School | U4: 35 | V4: =IF(ISNUMBER(Sheet2!E4),VLOOKUP(Sheet2!E4,DATATABLE,2,0),"") -> Keegan Pogue | W4: =IF(ISNUMBER(Sheet2!E4),VLOOKUP(Sheet2!E4,DATATABLE,3,0),"") -> Mahomet-Seymour High School
D5: 37406 | E5: 22 | F5: =IF(ISNUMBER(D5),VLOOKUP(D5,DATATABLE,2,0),"") -> Pierce Verdeyen | G5: =IF(ISNUMBER(D5),VLOOKUP(D5,DATATABLE,3,0),"") -> St. Anthony High School | J5: Chemistry | K5: 28305 | L5: 29 | M5: =IF(ISNUMBER(K5),VLOOKUP(K5,DATATABLE,2,0),"") -> Dylan Brown | N5: =IF(ISNUMBER(K5),VLOOKUP(K5,DATATABLE,3,0),"") -> Monticello High School | S5: Chemistry | U5: 32 | V5: =IF(ISNUMBER(Sheet2!E5),VLOOKUP(Sheet2!E5,DATATABLE,2,0),"") -> Ethan Hamilton | W5: =IF(ISNUMBER(Sheet2!E5),VLOOKUP(Sheet2!E5,DATATABLE,3,0),"") -> Mount Zion High School
D6: 14202 | E6: 21 | F6: =IF(ISNUMBER(D6),VLOOKUP(D6,DATATABLE,2,0),"") -> Connor Yates | G6: =IF(ISNUMBER(D6),VLOOKUP(D6,DATATABLE,3,0),"") -> Casey-Westfield Jr/Sr High School | K6: 38501 | L6: 24 | M6: =IF(ISNUMBER(K6),VLOOKUP(K6,DATATABLE,2,0),"") -> Paul Bates | N6: =IF(ISNUMBER(K6),VLOOKUP(K6,DATATABLE,3,0),"") -> Sullivan High School | U6: 32 | V6: =IF(ISNUMBER(Sheet2!E6),VLOOKUP(Sheet2!E6,DATATABLE,2,0),"") -> Stefan Popa | W6: =IF(ISNUMBER(Sheet2!E6),VLOOKUP(Sheet2!E6,DATATABLE,3,0),"") -> Champaign Central High School
C7: CompSci | D7: 17414 | E7: 23 | F7: =IF(ISNUMBER(D7),VLOOKUP(D7,DATATABLE,2,0),"") -> Ryan Rich | G7: =IF(ISNUMBER(D7),VLOOKUP(D7,DATATABLE,3,0),"") -> Dieterich High School | K7: 38505 | L7: 22 | M7: =IF(ISNUMBER(K7),VLOOKUP(K7,DATATABLE,2,0),"") -> Brent Helmuth | N7: =IF(ISNUMBER(K7),VLOOKUP(K7,DATATABLE,3,0),"") -> Sullivan High School | U7: 26 | V7: =IF(ISNUMBER(Sheet2!E7),VLOOKUP(Sheet2!E7,DATATABLE,2,0),"") -> Yuqi Zhang | W7: =IF(ISNUMBER(Sheet2!E7),VLOOKUP(Sheet2!E7,DATATABLE,3,0),"") -> Champaign Central High School
D8: 28010 | E8: 13 | F8: =IF(ISNUMBER(D8),VLOOKUP(D8,DATATABLE,2,0),"") -> Braden Bulla | G8: =IF(ISNUMBER(D8),VLOOKUP(D8,DATATABLE,3,0),"") -> Milford High School | J8: CompSci | K8: 28301 | L8: 20 | M8: =IF(ISNUMBER(K8),VLOOKUP(K8,DATATABLE,2,0),"") -> Jenna Fligor | N8: =IF(ISNUMBER(K8),VLOOKUP(K8,DATATABLE,3,0),"") -> Monticello High School | S8: CompSci | U8: 19 | V8: =IF(ISNUMBER(Sheet2!E8),VLOOKUP(Sheet2!E8,DATATABLE,2,0),"") -> Yuqi Zhang | W8: =IF(ISNUMBER(Sheet2!E8),VLOOKUP(Sheet2!E8,DATATABLE,3,0),"") -> Champaign Central High School
D9: 18414 | E9: 10 | F9: =IF(ISNUMBER(D9),VLOOKUP(D9,DATATABLE,2,0),"") -> Drew Wolfe | G9: =IF(ISNUMBER(D9),VLOOKUP(D9,DATATABLE,3,0),"") -> Edwards County High School | K9: 32101 | L9: 15 | M9: =IF(ISNUMBER(K9),VLOOKUP(K9,DATATABLE,2,0),"") -> Devin Milner | N9: =IF(ISNUMBER(K9),VLOOKUP(K9,DATATABLE,3,0),"") -> Paris High School | U9: 18 | V9: =IF(ISNUMBER(Sheet2!E9),VLOOKUP(Sheet2!E9,DATATABLE,2,0),"") -> Caden Raqual | W9: =IF(ISNUMBER(Sheet2!E9),VLOOKUP(Sheet2!E9,DATATABLE,3,0),"") -> Mahomet-Seymour High School
D10: 19514 | E10: 10 | F10: =IF(ISNUMBER(D10),VLOOKUP(D10,DATATABLE,2,0),"") -> Emily Landers | G10: =IF(ISNUMBER(D10),VLOOKUP(D10,DATATABLE,3,0),"") -> Fisher High School | K10: 31105 | L10: 14 | M10: =IF(ISNUMBER(K10),VLOOKUP(K10,DATATABLE,2,0),"") -> Bujar Haziri | N10: =IF(ISNUMBER(K10),VLOOKUP(K10,DATATABLE,3,0),"") -> Oakwood High School | U10: 17 | V10: =IF(ISNUMBER(Sheet2!E10),VLOOKUP(Sheet2!E10,DATATABLE,2,0),"") -> Andrew Robinson | W10: =IF(ISNUMBER(Sheet2!E10),VLOOKUP(Sheet2!E10,DATATABLE,3,0),"") -> Mahomet-Seymour High School
D11: 19504 | E11: 10 | F11: =IF(ISNUMBER(D11),VLOOKUP(D11,DATATABLE,2,0),"") -> Carter Dickey | G11: =IF(ISNUMBER(D11),VLOOKUP(D11,DATATABLE,3,0),"") -> Fisher High School | K11: 34410 | L11: 14 | M11: =IF(ISNUMBER(K11),VLOOKUP(K11,DATATABLE,2,0),"") -> Joe Quick | N11: =IF(ISNUMBER(K11),VLOOKUP(K11,DATATABLE,3,0),"") -> Robinson High School | S11: EngGraph | U11: 23 | V11: =IF(ISNUMBER(Sheet2!E11),VLOOKUP(Sheet2!E11,DATATABLE,2,0),"") -> Hope Roundcount | W11: =IF(ISNUMBER(Sheet2!E11),VLOOKUP(Sheet2!E11,DATATABLE,3,0),"") -> Mount Zion High School
D12: 31206 | E12: 10 | F12: =IF(ISNUMBER(D12),VLOOKUP(D12,DATATABLE,2,0),"") -> Maggie Bailey | G12: =IF(ISNUMBER(D12),VLOOKUP(D12,DATATABLE,3,0),"") -> Oblong High School | J12: EngGraph | K12: 28310 | L12: 23 | M12: =IF(ISNUMBER(K12),VLOOKUP(K12,DATATABLE,2,0),"") -> Ryder Schwoerer | N12: =IF(ISNUMBER(K12),VLOOKUP(K12,DATATABLE,3,0),"") -> Monticello High School | U12: 17 | V12: =IF(ISNUMBER(Sheet2!E12),VLOOKUP(Sheet2!E12,DATATABLE,2,0),"") -> Chris Carter | W12: =IF(ISNUMBER(Sheet2!E12),VLOOKUP(Sheet2!E12,DATATABLE,3,0),"") -> Mattoon High School
D13: 14404 | E13: 10 | F13: =IF(ISNUMBER(D13),VLOOKUP(D13,DATATABLE,2,0),"") -> Philip Lehman | G13: =IF(ISNUMBER(D13),VLOOKUP(D13,DATATABLE,3,0),"") -> Central A&M High School | K13: 19609 | L13: 19 | M13: =IF(ISNUMBER(K13),VLOOKUP(K13,DATATABLE,2,0),"") -> Beatriz de las Herras | N13: =IF(ISNUMBER(K13),VLOOKUP(K13,DATATABLE,3,0),"") -> Flora High School | U13: 16 | V13: =IF(ISNUMBER(Sheet2!E13),VLOOKUP(Sheet2!E13,DATATABLE,2,0),"") -> Eunice Kim | W13: =IF(ISNUMBER(Sheet2!E13),VLOOKUP(Sheet2!E13,DATATABLE,3,0),"") -> Champaign Central High School
D14: 37411 | E14: 10 | F14: =IF(ISNUMBER(D14),VLOOKUP(D14,DATATABLE,2,0),"") -> Will Hoene | G14: =IF(ISNUMBER(D14),VLOOKUP(D14,DATATABLE,3,0),"") -> St. Anthony High School | K14: 28312 | L14: 19 | M14: =IF(ISNUMBER(K14),VLOOKUP(K14,DATATABLE,2,0),"") -> Jade Glauner | N14: =IF(ISNUMBER(K14),VLOOKUP(K14,DATATABLE,3,0),"") -> Monticello High School | S14: English | U14: 73 | V14: =IF(ISNUMBER(Sheet2!E14),VLOOKUP(Sheet2!E14,DATATABLE,2,0),"") -> Sarah Kim | W14: =IF(ISNUMBER(Sheet2!E14),VLOOKUP(Sheet2!E14,DATATABLE,3,0),"") -> Champaign Central High School
D15: 31203 | E15: 10 | F15: =IF(ISNUMBER(D15),VLOOKUP(D15,DATATABLE,2,0),"") -> Gracie Lemmon | G15: =IF(ISNUMBER(D15),VLOOKUP(D15,DATATABLE,3,0),"") -> Oblong High School | K15: 31105 | L15: 19 | M15: =IF(ISNUMBER(K15),VLOOKUP(K15,DATATABLE,2,0),"") -> Bujar Haziri | N15: =IF(ISNUMBER(K15),VLOOKUP(K15,DATATABLE,3,0),"") -> Oakwood High School | U15: 73 | V15: =IF(ISNUMBER(Sheet2!E15),VLOOKUP(Sheet2!E15,DATATABLE,2,0),"") -> Hope Roundcount | W15: =IF(ISNUMBER(Sheet2!E15),VLOOKUP(Sheet2!E15,DATATABLE,3,0),"") -> Mount Zion High School
C16: EngGraph | D16: 14212 | E16: 21 | F16: =IF(ISNUMBER(D16),VLOOKUP(D16,DATATABLE,2,0),"") -> Andrew Ridriguez | G16: =IF(ISNUMBER(D16),VLOOKUP(D16,DATATABLE,3,0),"") -> Casey-Westfield Jr/Sr High School | J16: English | K16: 26412 | L16: 73 | M16: =IF(ISNUMBER(K16),VLOOKUP(K16,DATATABLE,2,0),"") -> Abi Tertocha | N16: =IF(ISNUMBER(K16),VLOOKUP(K16,DATATABLE,3,0),"") -> Maroa Forsyth High School | U16: 71 | V16: =IF(ISNUMBER(Sheet2!E16),VLOOKUP(Sheet2!E16,DATATABLE,2,0),"") -> Peyton Hamilton | W16: =IF(ISNUMBER(Sheet2!E16),VLOOKUP(Sheet2!E16,DATATABLE,3,0),"") -> Mount Zion High School
D17: 14201 | E17: 18 | F17: =IF(ISNUMBER(D17),VLOOKUP(D17,DATATABLE,2,0),"") -> Jacob Clement | G17: =IF(ISNUMBER(D17),VLOOKUP(D17,DATATABLE,3,0),"") -> Casey-Westfield Jr/Sr High School | K17: 38821 | L17: 70 | M17: =IF(ISNUMBER(K17),VLOOKUP(K17,DATATABLE,2,0),"") -> August Siemer | N17: =IF(ISNUMBER(K17),VLOOKUP(K17,DATATABLE,3,0),"") -> Teutopolis High School | U17: 70 | V17: =IF(ISNUMBER(Sheet2!E17),VLOOKUP(Sheet2!E17,DATATABLE,2,0),"") -> Elise Ionin | W17: =IF(ISNUMBER(Sheet2!E17),VLOOKUP(Sheet2!E17,DATATABLE,3,0),"") -> Champaign Central High School
D18: 18412 | E18: 16 | F18: =IF(ISNUMBER(D18),VLOOKUP(D18,DATATABLE,2,0),"") -> Caleb Stevens | G18: =IF(ISNUMBER(D18),VLOOKUP(D18,DATATABLE,3,0),"") -> Edwards County High School | K18: 26703 | L18: 69 | M18: =IF(ISNUMBER(K18),VLOOKUP(K18,DATATABLE,2,0),"") -> Bentley Delp | N18: =IF(ISNUMBER(K18),VLOOKUP(K18,DATATABLE,3,0),"") -> Marshall High School | S18: Math | U18: 27 | V18: =IF(ISNUMBER(Sheet2!E18),VLOOKUP(Sheet2!E18,DATATABLE,2,0),"") -> Andrew Robinson | W18: =IF(ISNUMBER(Sheet2!E18),VLOOKUP(Sheet2!E18,DATATABLE,3,0),"") -> Mahomet-Seymour High School
D19: 40805 | E19: 16 | F19: =IF(ISNUMBER(D19),VLOOKUP(D19,DATATABLE,2,0),"") -> Sam Bender | G19: =IF(ISNUMBER(D19),VLOOKUP(D19,DATATABLE,3,0),"") -> Villa Grove CUSD #302 | J19: Math | K19: 34408 | L19: 19 | M19: =IF(ISNUMBER(K19),VLOOKUP(K19,DATATABLE,2,0),"") -> Amos Kramme | N19: =IF(ISNUMBER(K19),VLOOKUP(K19,DATATABLE,3,0),"") -> Robinson High School | U19: 23 | V19: =IF(ISNUMBER(Sheet2!E19),VLOOKUP(Sheet2!E19,DATATABLE,2,0),"") -> Sebastian Chamorro | W19: =IF(ISNUMBER(Sheet2!E19),VLOOKUP(Sheet2!E19,DATATABLE,3,0),"") -> Mahomet-Seymour High School
D20: 14206 | E20: 16 | F20: =IF(ISNUMBER(D20),VLOOKUP(D20,DATATABLE,2,0),"") -> Megan Cribelar | G20: =IF(ISNUMBER(D20),VLOOKUP(D20,DATATABLE,3,0),"") -> Casey-Westfield Jr/Sr High School | K20: 28301 | L20: 17 | M20: =IF(ISNUMBER(K20),VLOOKUP(K20,DATATABLE,2,0),"") -> Jenna Fligor | N20: =IF(ISNUMBER(K20),VLOOKUP(K20,DATATABLE,3,0),"") -> Monticello High School | U20: 21 | V20: =IF(ISNUMBER(Sheet2!E20),VLOOKUP(Sheet2!E20,DATATABLE,2,0),"") -> Makobi Barnes Adams | W20: =IF(ISNUMBER(Sheet2!E20),VLOOKUP(Sheet2!E20,DATATABLE,3,0),"") -> Mount Zion High School
D21: 14208 | E21: 16 | F21: =IF(ISNUMBER(D21),VLOOKUP(D21,DATATABLE,2,0),"") -> Brian Wright | G21: =IF(ISNUMBER(D21),VLOOKUP(D21,DATATABLE,3,0),"") -> Casey-Westfield Jr/Sr High School | K21: 26404 | L21: 16 | M21: =IF(ISNUMBER(K21),VLOOKUP(K21,DATATABLE,2,0),"") -> Luke Aubry | N21: =IF(ISNUMBER(K21),VLOOKUP(K21,DATATABLE,3,0),"") -> Maroa Forsyth High School | U21: 21 | V21: =IF(ISNUMBER(Sheet2!E21),VLOOKUP(Sheet2!E21,DATATABLE,2,0),"") -> Jack Larson | W21: =IF(ISNUMBER(Sheet2!E21),VLOOKUP(Sheet2!E21,DATATABLE,3,0),"") -> Champaign Central High School
C22: English | D22: 14402 | E22: 71 | F22: =IF(ISNUMBER(D22),VLOOKUP(D22,DATATABLE,2,0),"") -> Dalia Taylor | G22: =IF(ISNUMBER(D22),VLOOKUP(D22,DATATABLE,3,0),"") -> Central A&M High School | K22: 34401 | L22: 16 | M22: =IF(ISNUMBER(K22),VLOOKUP(K22,DATATABLE,2,0),"") -> Hunter Cummins | N22: =IF(ISNUMBER(K22),VLOOKUP(K22,DATATABLE,3,0),"") -> Robinson High School | S22: Physics | U22: 19 | V22: =IF(ISNUMBER(Sheet2!E22),VLOOKUP(Sheet2!E22,DATATABLE,2,0),"") -> Jack Larson | W22: =IF(ISNUMBER(Sheet2!E22),VLOOKUP(Sheet2!E22,DATATABLE,3,0),"") -> Champaign Central High School
D23: 19509 | E23: 70 | F23: =IF(ISNUMBER(D23),VLOOKUP(D23,DATATABLE,2,0),"") -> Daniel Bein | G23: =IF(ISNUMBER(D23),VLOOKUP(D23,DATATABLE,3,0),"") -> Fisher High School | K23: 34407 | L23: 16 | M23: =IF(ISNUMBER(K23),VLOOKUP(K23,DATATABLE,2,0),"") -> Isabel Heidorn | N23: =IF(ISNUMBER(K23),VLOOKUP(K23,DATATABLE,3,0),"") -> Robinson High School | U23: 16 | V23: =IF(ISNUMBER(Sheet2!E23),VLOOKUP(Sheet2!E23,DATATABLE,2,0),"") -> Caden Raqual | W23: =IF(ISNUMBER(Sheet2!E23),VLOOKUP(Sheet2!E23,DATATABLE,3,0),"") -> Mahomet-Seymour High School
D24: 37412 | E24: 70 | F24: =IF(ISNUMBER(D24),VLOOKUP(D24,DATATABLE,2,0),"") -> Joanna Mitchell | G24: =IF(ISNUMBER(D24),VLOOKUP(D24,DATATABLE,3,0),"") -> St. Anthony High School | K24: 34400 | L24: 16 | M24: =IF(ISNUMBER(K24),VLOOKUP(K24,DATATABLE,2,0),"") -> #N/A | N24: =IF(ISNUMBER(K24),VLOOKUP(K24,DATATABLE,3,0),"") -> #N/A | U24: 14 | V24: =IF(ISNUMBER(Sheet2!E24),VLOOKUP(Sheet2!E24,DATATABLE,2,0),"") -> Isaac Rhee | W24: =IF(ISNUMBER(Sheet2!E24),VLOOKUP(Sheet2!E24,DATATABLE,3,0),"") -> Champaign Central High School
D25: 27603 | E25: 68 | F25: =IF(ISNUMBER(D25),VLOOKUP(D25,DATATABLE,2,0),"") -> Avril Morrell | G25: =IF(ISNUMBER(D25),VLOOKUP(D25,DATATABLE,3,0),"") -> Meridian High School | J25: Physics | K25: 26708 | L25: 15 | M25: =IF(ISNUMBER(K25),VLOOKUP(K25,DATATABLE,2,0),"") -> Colin Griguhn | N25: =IF(ISNUMBER(K25),VLOOKUP(K25,DATATABLE,3,0),"") -> Marshall High School
C26: Math | D26: 28010 | E26: 21 | F26: =IF(ISNUMBER(D26),VLOOKUP(D26,DATATABLE,2,0),"") -> Braden Bulla | G26: =IF(ISNUMBER(D26),VLOOKUP(D26,DATATABLE,3,0),"") -> Milford High School | K26: 19609 | L26: 13 | M26: =IF(ISNUMBER(K26),VLOOKUP(K26,DATATABLE,2,0),"") -> Beatriz de las Herras | N26: =IF(ISNUMBER(K26),VLOOKUP(K26,DATATABLE,3,0),"") -> Flora High School
D27: 37406 | E27: 20 | F27: =IF(ISNUMBER(D27),VLOOKUP(D27,DATATABLE,2,0),"") -> Pierce Verdeyen | G27: =IF(ISNUMBER(D27),VLOOKUP(D27,DATATABLE,3,0),"") -> St. Anthony High School | K27: 26403 | L27: 12 | M27: =IF(ISNUMBER(K27),VLOOKUP(K27,DATATABLE,2,0),"") -> Ryan Crowe | N27: =IF(ISNUMBER(K27),VLOOKUP(K27,DATATABLE,3,0),"") -> Maroa Forsyth High School
D28: 37401 | E28: 19 | F28: =IF(ISNUMBER(D28),VLOOKUP(D28,DATATABLE,2,0),"") -> Sam Deters | G28: =IF(ISNUMBER(D28),VLOOKUP(D28,DATATABLE,3,0),"") -> St. Anthony High School | K28: 30003 | L28: 12 | M28: =IF(ISNUMBER(K28),VLOOKUP(K28,DATATABLE,2,0),"") -> Jonathan Blecha | N28: =IF(ISNUMBER(K28),VLOOKUP(K28,DATATABLE,3,0),"") -> Newton Cmty High School
C29: Physics | D29: 16903 | E29: 15 | F29: =IF(ISNUMBER(D29),VLOOKUP(D29,DATATABLE,2,0),"") -> Denton Nebel | G29: =IF(ISNUMBER(D29),VLOOKUP(D29,DATATABLE,3,0),"") -> CUmberland High School | K29: 12107 | L29: 12 | M29: =IF(ISNUMBER(K29),VLOOKUP(K29,DATATABLE,2,0),"") -> Joshua Gernand | N29: =IF(ISNUMBER(K29),VLOOKUP(K29,DATATABLE,3,0),"") -> Bismarck-Henning Rossville-Alvin Cooperative High
D30: 16902 | E30: 14 | F30: =IF(ISNUMBER(D30),VLOOKUP(D30,DATATABLE,2,0),"") -> Marshall Tipsword | G30: =IF(ISNUMBER(D30),VLOOKUP(D30,DATATABLE,3,0),"") -> CUmberland High School | K30: 12102 | L30: 12 | M30: =IF(ISNUMBER(K30),VLOOKUP(K30,DATATABLE,2,0),"") -> Ethan Frattick | N30: =IF(ISNUMBER(K30),VLOOKUP(K30,DATATABLE,3,0),"") -> Bismarck-Henning Rossville-Alvin Cooperative High
D31: 37402 | E31: 13 | F31: =IF(ISNUMBER(D31),VLOOKUP(D31,DATATABLE,2,0),"") -> Elliot Frisbie | G31: =IF(ISNUMBER(D31),VLOOKUP(D31,DATATABLE,3,0),"") -> St. Anthony High School | K31: 16212 | L31: 12 | M31: =IF(ISNUMBER(K31),VLOOKUP(K31,DATATABLE,2,0),"") -> Heidi Humble | N31: =IF(ISNUMBER(K31),VLOOKUP(K31,DATATABLE,3,0),"") -> Clinton Community High School
D32: 27601 | E32: 13 | F32: =IF(ISNUMBER(D32),VLOOKUP(D32,DATATABLE,2,0),"") -> Markus Jesse | G32: =IF(ISNUMBER(D32),VLOOKUP(D32,DATATABLE,3,0),"") -> Meridian High School
A35: 110 | B35: 300 | C35: Biology | D35: 18806 | E35: 33 | F35: Anne Matusziak | G35: Elgin Academy | I35: 700 | J35: Biology | K35: 12901 | L35: 21 | M35: Brayden Baker | N35: Byron High School | R35: 1500 | S35: Biology | T35: 14706 | U35: 40 | V35: Ravindar Grewal | W35: Central High School CCUSD 301 | AA35: Unlimited | AB35: Biology | AC35: 34707 | AD35: 45 | AE35: Brielle Rach | AF35: Rockford Auburn HS
D36: 32508 | E36: 30 | F36: Allie McLevige | G36: Pecatonica High School | K36: 12901 | L36: 21 | M36: Brayden Baker | N36: Byron High School | T36: 14713 | U36: 32 | V36: Teegan Gonyea | W36: Central High School CCUSD 301 | AC36: 20301 | AD36: 41 | AE36: Karoline Anthony | AF36: Geneva High School
D37: 18814 | E37: 28 | F37: Nabi Noor Mohamed | G37: Elgin Academy | K37: 12902 | L37: 63 | M37: Lauryn Shank | N37: Byron High School | T37: 14710 | U37: 31 | V37: Libby Levine | W37: Central High School CCUSD 301 | AC37: 21701 | AD37: 40 | AE37: Genevieve Bangert | AF37: Hampshire High School
D38: 18322 | E38: 28 | F38: Kyla LaRue | G38: Eastland High School | K38: 12903 | L38: 18 | M38: Gorse Sober | N38: Byron High School | S38: Chemistry | T38: 14713 | U38: 18 | V38: Teegan Gonyea | W38: Central High School CCUSD 301 | AC38: 21702 | AD38: 40 | AE38: Shiv Patel | AF38: Hampshire High School
C39: Chemistry | D39: 18813 | E39: 21 | F39: Victoria Hill | G39: Elgin Academy | K39: 12904 | L39: 9 | M39: Maverick Galster | N39: Byron High School | T39: 14709 | U39: 16 | V39: Eirini Karavasis | W39: Central High School CCUSD 301 | AC39: 34702 | AD39: 40 | AE39: Alex Crowell | AF39: Rockford Auburn HS
D40: 18804 | E40: 20 | F40: Cassie Cowen | G40: Elgin Academy | K40: 12904 | L40: 20 | M40: Maverick Galster | N40: Byron High School | T40: 24407 | U40: 15 | V40: Caden Grabowski | W40: Kaneland High School | AB40: Chemistry | AC40: 34702 | AD40: 29 | AE40: Alex Crowell | AF40: Rockford Auburn HS
D41: 18812 | E41: 19 | F41: Eesha Peddhapati | G41: Elgin Academy | J41: Chemistry | K41: 12904 | L41: 9 | M41: Maverick Galster | N41: Byron High School | T41: 14708 | U41: 15 | V41: Robert Anderson | W41: Central High School CCUSD 301 | AC41: 34708 | AD41: 27 | AE41: Huan Lin | AF41: Rockford Auburn HS
C42: CompSci | D42: 18802 | E42: 13 | F42: Anika Jaitley | G42: Elgin Academy | K42: 12905 | L42: 12 | M42: Jack Sober | N42: Byron High School | S42: CompSci | T42: 14711 | U42: 14 | V42: Tiana Foreman | W42: Central High School CCUSD 301 | AC42: 22902 | AD42: 26 | AE42: Sean Patel | AF42: Hononegah Community High School
D43: 22509 | E43: 12 | F43: Dominic Porter | G43: Hiawatha High School | K43: 12905 | L43: 18 | M43: Jack Sober | N43: Byron High School | T43: 14705 | U43: 14 | V43: Michael Wood | W43: Central High School CCUSD 301 | AC43: 23908 | AD43: 26 | AE43: Anay Patel | AF43: Jacobs High School
D44: 32501 | E44: 11 | F44: Zach Linder | G44: Pecatonica High School | J44: CompSci | K44: 12907 | L44: 10 | M44: Colton Wick | N44: Byron High School | T44: 14707 | U44: 13 | V44: Abid Alnafoosi | W44: Central High School CCUSD 301 | AC44: 23906 | AD44: 26 | AE44: Ethan Hulewicz | AF44: Jacobs High School
D45: 18801 | E45: 11 | F45: Gary Wang | G45: Elgin Academy | K45: 12907 | L45: 10 | M45: Colton Wick | N45: Byron High School | T45: 24406 | U45: 11 | V45: Delilah Goldman | W45: Kaneland High School | AB45: CompSci | AC45: 20311 | AD45: 18 | AE45: Ved Vyas | AF45: Geneva High School
D46: 18810 | E46: 11 | F46: Lily Perez | G46: Elgin Academy | K46: 12908 | L46: 20 | M46: Lauren Carlson | N46: Byron High School | S46: EngGraph | T46: 14707 | U46: 20 | V46: Abid Alnafoosi | W46: Central High School CCUSD 301 | AC46: 20306 | AD46: 14 | AE46: Alex Kellick | AF46: Geneva High School
C47: EngGraph | D47: 34209 | E47: 22 | F47: Arthur Horn | G47: River Ridge (Hanover) High School | K47: 12911 | L47: 10 | M47: Shannon McHale | N47: Byron High School | T47: 24411 | U47: 17 | V47: Emily Olp | W47: Kaneland High School | AC47: 23912 | AD47: 14 | AE47: Jean-Denis de Beauvoir | AF47: Jacobs High School
D48: 34210 | E48: 19 | F48: Isaac Rife | G48: River Ridge (Hanover) High School | J48: EngGraph | K48: 12911 | L48: 67 | M48: Shannon McHale | N48: Byron High School | T48: 24412 | U48: 15 | V48: Emma Palatine | W48: Kaneland High School | AC48: 21713 | AD48: 13 | AE48: Aidan Nobbs | AF48: Hampshire High School
D49: 32512 | E49: 18 | F49: Gavin Fox | G49: Pecatonica High School | K49: 12911 | L49: 10 | M49: Shannon McHale | N49: Byron High School | S49: English | T49: 24406 | U49: 69 | V49: Delilah Goldman | W49: Kaneland High School | AC49: 23906 | AD49: 13 | AE49: Ethan Hulewicz | AF49: Jacobs High School
D50: 32503 | E50: 18 | F50: Miguel Gonzalez | G50: Pecatonica High School | K50: 12912 | L50: 17 | M50: Andrew Freedlund | N50: Byron High School | T50: 24401 | U50: 68 | V50: Lindsey Andrae | W50: Kaneland High School | AB50: EngGraph | AC50: 20309 | AD50: 29 | AE50: Alex Svoboda | AF50: Geneva High School
C51: English | D51: 32508 | E51: 73 | F51: Allie McLevige | G51: Pecatonica High School | J51: English | K51: 12912 | L51: 20 | M51: Andrew Freedlund | N51: Byron High School | T51: 14709 | U51: 67 | V51: Eirini Karavasis | W51: Central High School CCUSD 301 | AC51: 41814 | AD51: 25 | AE51: Anthony McCully | AF51: West Aurora High School
D52: 32505 | E52: 68 | F52: Sam Frank | G52: Pecatonica High School | K52: 12912 | L52: 17 | M52: Andrew Freedlund | N52: Byron High School | S52: Math | T52: 14702 | U52: 21 | V52: William Crumlett | W52: Central High School CCUSD 301 | AC52: 41806 | AD52: 25 | AE52: Caleb Ainsworth | AF52: West Aurora High School
D53: 18807 | E53: 67 | F53: Hisham Shrazi | G53: Elgin Academy | K53: 38302 | L53: 69 | M53: Nicholas Youman | N53: Stillman Valley High School | T53: 24408 | U53: 21 | V53: Jack Gusinde | W53: Kaneland High School | AC53: 21712 | AD53: 24 | AE53: Mason Kielinski | AF53: Hampshire High School
D54: 18309 | E54: 67 | F54: Ella Gunderson | G54: Eastland High School | K54: 38306 | L54: 9 | M54: Kennedy Swenson | N54: Stillman Valley High School | T54: 14701 | U54: 20 | V54: Youngwoo Cho | W54: Central High School CCUSD 301 | AB54: English | AC54: 21701 | AD54: 73 | AE54: Genevieve Bangert | AF54: Hampshire High School
C55: Math | D55: 18802 | E55: 15 | F55: Anika Jaitley | G55: Elgin Academy | J55: Math | K55: 41904 | L55: 69 | M55: Aubrey Charles | N55: West Carroll High School CUSD #314 | T55: 24414 | U55: 16 | V55: Paige Sparber | W55: Kaneland High School | AC55: 41804 | AD55: 72 | AE55: Andrew Weinert | AF55: West Aurora High School
D56: 22513 | E56: 14 | F56: Laila McDonald | G56: Hiawatha High School | K56: 41908 | L56: 9 | M56: Elise Legel | N56: West Carroll High School CUSD #314 | S56: Physics | T56: 24408 | U56: 15 | V56: Jack Gusinde | W56: Kaneland High School | AC56: 20305 | AD56: 72 | AE56: Claire Jennings | AF56: Geneva High School
D57: 18314 | E57: 13 | F57: Kyla LaRue | G57: Eastland High School | K57: 41912 | L57: 11 | M57: Connor Winter | N57: West Carroll High School CUSD #314 | T57: 24411 | U57: 13 | V57: Emily Olp | W57: Kaneland High School | AC57: 41805 | AD57: 72 | AE57: Gabe Escobeod | AF57: West Aurora High School
D58: 18801 | E58: 13 | F58: Gary Wang | G58: Elgin Academy | J58: Physics | K58: 43301 | L58: 11 | M58: Nathan Lyons | N58: Winnebago High School | T58: 14714 | U58: 12 | V58: Hailey Cunningham | W58: Central High School CCUSD 301 | AC58: 21706 | AD58: 69 | AE58: Gillian Bangert | AF58: Hampshire High School
D59: 23502 | E59: 13 | F59: Emma Wilson | G59: Indian Creek District #425 | K59: 43301 | L59: 30 | M59: Nathan Lyons | N59: Winnebago High School | T59: 24413 | U59: 12 | V59: Jaden Schneider | W59: Kaneland High School | AC59: 34704 | AD59: 69 | AE59: Nyla Sommer | AF59: Rockford Auburn HS
D60: 18805 | E60: 13 | F60: Sohan Avula | G60: Elgin Academy | K60: 43303 | L60: 15 | M60: Jonathan Claerbout | N60: Winnebago High School | T60: 14703 | U60: 12 | V60: Chaitan Grewal | W60: Central High School CCUSD 301 | AC60: 22905 | AD60: 69 | AE60: Emma Caver | AF60: Hononegah Community High School
D61: 18307 | E61: 13 | F61: Dylan Rominski | G61: Eastland High School | K61: 43303 | L61: 32 | M61: Jonathan Claerbout | N61: Winnebago High School | T61: 24412 | U61: 12 | V61: Emma Palatine | W61: Kaneland High School | AB61: Math | AC61: 21705 | AD61: 24 | AE61: Tyler Yu | AF61: Hampshire High School
D62: 18114 | E62: 13 | F62: Andrew Wilsey | G62: Durand High School | K62: 38306 | L62: 9 | M62: Kennedy Swenson | N62: Stillman Valley High School | AC62: 20312 | AD62: 22 | AE62: Josh Watson | AF62: Geneva High School
C63: Physics | D63: 23507 | E63: 14 | F63: Alexa Anderson | G63: Indian Creek District #425 | K63: 41908 | L63: 9 | M63: Elise Legel | N63: West Carroll High School CUSD #314 | AC63: 41801 | AD63: 22 | AE63: Quinlin Neuhaus | AF63: West Aurora High School
D64: 35909 | E64: 13 | F64: Isaac Heffernan | G64: Scales Mound High School | AC64: 22902 | AD64: 22 | AE64: Sean Patel | AF64: Hononegah Community High School
D65: 32509 | E65: 10 | F65: Lee Shrader | G65: Pecatonica High School | AC65: 34714 | AD65: 21 | AE65: Ekaterina Dmitrieva | AF65: Rockford Auburn HS
D66: 34221 | E66: 10 | F66: Sam Grzeslo | G66: River Ridge (Hanover) High School | AB66: Physics | AC66: 20312 | AD66: 23 | AE66: Josh Watson | AF66: Geneva High School
AC67: 34705 | AD67: 23 | AE67: Ruth Mathew | AF67: Rockford Auburn HS
AC68: 20306 | AD68: 20 | AE68: Alex Kellick | AF68: Geneva High School
AC69: 20303 | AD69: 19 | AE69: Jack Holtorf | AF69: Geneva High School
AC70: 21704 | AD70: 19 | AE70: Landon Lamarca | AF70: Hampshire High School
A73: 120 | B73: 300 | C73: Biology | D73: 20203 | E73: 38 | F73: CRUSON MADI | G73: GALLATIN_CO | I73: 700 | J73: Biology | K73: 11802 | L73: 11 | M73: MILLERBROCKTONA | N73: BENTON | R73: 1500 | S73: Biology | T73: 13209 | U73: 40 | V73: MATHIAS OLIVIA | W73: CARBONDALE
D74: 20803 | E74: 37 | F74: ZAGORSKI AUSTIN L | G74: GOREVILLE | K74: 11805 | L74: 19 | M74: COPPLE JOSEPH E | N74: BENTON | T74: 29009 | U74: 34 | V74: RANDALL MADDUX M | W74: MOUNT_VERNON
D75: 20807 | E75: 35 | F75: RHOADS DUNCAN J | G75: GOREVILLE | K75: 11812 | L75: 10 | M75: KAY JEREMIAH W | N75: BENTON | T75: 13210 | U75: 34 | V75: PITAFI DANIAL | W75: CARBONDALE
C76: Chemistry | D76: 15901 | E76: 18 | F76: ROYE SEAN | G76: CHRISTOPHER | J76: Chemistry | K76: 13804 | L76: 10 | M76: GATES JOSEPH W | N76: CARMI_WHITE | T76: 29003 | U76: 24 | V76: FEDERICI MOLLY E | W76: MOUNT_VERNON
D77: 30507 | E77: 16 | F77: HORTIN ELISE R | G77: NCOE | K77: 13810 | L77: 17 | M77: BOLERJACK LUKE CALEN | N77: CARMI_WHITE | S77: Chemistry | T77: 13202 | U77: 31 | V77: POWERS JACOB | W77: CARBONDALE
D78: 39208 | E78: 16 | F78: BUKER FIONA C | G78: TRICO | K78: 13812 | L78: 11 | M78: ADAMS TYLER J | N78: CARMI_WHITE | T78: 13206 | U78: 31 | V78: POWERS GIL | W78: CARBONDALE
D79: 20207 | E79: 14 | F79: RESPONDEK BRAIDEN A | G79: GALLATIN_CO | J79: CompSci | K79: 14001 | L79: 11 | M79: BATESCHRISV | N79: CARTERVILLE | T79: 13210 | U79: 18 | V79: PITAFI DANIAL | W79: CARBONDALE
D80: 39214 | E80: 14 | F80: HEINS BRADY A | G80: TRICO | K80: 14001 | L80: 23 | M80: BATESCHRISV | N80: CARTERVILLE | T80: 29008 | U80: 14 | V80: MAINES RYAN | W80: MOUNT_VERNON
D81: 30512 | E81: 14 | F81: GOEBEL REAGAN L | G81: NCOE | K81: 14002 | L81: 23 | M81: BEHAN SAM | N81: CARTERVILLE | S81: CompSci | T81: 13206 | U81: 19 | V81: POWERS GIL | W81: CARBONDALE
C82: CompSci | E82: 15 | F82: NICHOLAS SUTLIFF | G82: CARRIER_MILLS | K82: 14002 | L82: 70 | M82: BEHAN SAM | N82: CARTERVILLE | T82: 13204 | U82: 17 | V82: BILL XU | W82: CARBONDALE
D83: 20212 | E83: 13 | F83: BUCKMAN JAXSON T | G83: GALLATIN_CO | K83: 14003 | L83: 20 | M83: CHAPMANHAYDENJ | N83: CARTERVILLE | T83: 29013 | U83: 7 | V83: ARMSTRONGSNOLAN | W83: MOUNT_VERNON
D84: 39211 | E84: 12 | F84: MOORE SILAS K | G84: TRICO | J84: EngGraph | K84: 14009 | L84: 21 | M84: NOTO HUNTER R | N84: CARTERVILLE | T84: 29004 | U84: 7 | V84: WHITE CASSIE J | W84: MOUNT_VERNON
C85: EngGraph | D85: 20205 | E85: 19 | F85: BICKETT SYDNEY T | G85: GALLATIN_CO | K85: 14011 | L85: 12 | M85: RANGITSCHMATTHEWD | N85: CARTERVILLE | S85: EngGraph | T85: 29007 | U85: 22 | V85: BENDERSKY RYA *H | W85: MOUNT_VERNON
D86: 41602 | E86: 19 | F86: JACKSON WYATT | G86: WEBBER_TWP | K86: 21914 | L86: 71 | M86: FOY SADIE A | N86: HARRISBURG | T86: 29004 | U86: 22 | V86: WHITE CASSIE* | W86: MOUNT_VERNON
D87: 20209 | E87: 19 | F87: WILSON PRESTON M | G87: GALLATIN_CO | K87: 22203 | L87: 14 | M87: REYNOLDS ELLA K | N87: HERRIN | T87: 29005 | U87: 17 | V87: MILLS JACKSON A | W87: MOUNT_VERNON
D88: 20212 | E88: 18 | F88: BUCKMAN JAXSON T | G88: GALLATIN_CO | J88: English | K88: 22206 | L88: 10 | M88: JONES JOSHUA | N88: HERRIN | T88: 13211 | U88: 16 | V88: LEE JAY J | W88: CARBONDALE
E89: 16 | F89: HARDY CALEB | G89: WEBBER_TWP | K89: 22208 | L89: 16 | M89: CHAMPION VINCE | N89: HERRIN | S89: English | T89: 13209 | U89: 65 | V89: MATHIAS OLIVIA | W89: CARBONDALE
C90: English | D90: 20806 | E90: 72 | F90: GRAFF CONNOR W | G90: GOREVILLE | K90: 24201 | L90: 34 | M90: ANDERSON AVA | N90: JOHNSTON_CITY | T90: 29001 | U90: 64 | V90: HOULE CHARLIE | W90: MOUNT_VERNON
D91: 20201 | E91: 72 | F91: HOWARD SOPHIE E | G91: GALLATIN_CO | K91: 24201 | L91: 71 | M91: ANDERSON AVA | N91: JOHNSTON_CITY | T91: 13211 | U91: 62 | V91: LEE JAY J | W91: CARBONDALE
D92: 41601 | E92: 70 | F92: HULBERT SAVANNA | G92: WEBBER_TWP | K92: 27103 | L92: 11 | M92: MATTHEW CRADDOCK | N92: MASSAC_CO | S92: Math | T92: 13204 | U92: 29 | V92: BILL XU | W92: CARBONDALE
D93: 36304 | E93: 69 | F93: STUBBLEFIELDHUDSONB | G93: SESSER_VALIER | J93: Math | K93: 27114 | L93: 31 | M93: DUNBAR BREANA | N93: MASSAC_CO | T93: 13201 | U93: 25 | V93: WANG MICHELLE | W93: CARBONDALE
C94: Math | D94: 20221 | E94: 16 | F94: MOORE HAYDEN T | G94: GALLATIN_CO | K94: 32608 | L94: 11 | M94: RESTOFF SARAH | N94: PINCKNEYVILLE | T94: 29001 | U94: 18 | V94: HOULE CHARLIE | W94: MOUNT_VERNON
D95: 15901 | E95: 16 | F95: ROYE SEAN T | G95: CHRISTOPHER | K95: 32609 | L95: 21 | M95: WAGNER ANDREW | N95: PINCKNEYVILLE | S95: Physics | T95: 13201 | U95: 22 | V95: WANG MICHELLE | W95: CARBONDALE
D96: 16308 | E96: 15 | F96: KILPATRICK EMMA G | G96: COBDEN | J96: Physics | K96: 32614 | L96: 70 | M96: HEINEMEYER CHASE D | N96: PINCKNEYVILLE | T96: 13202 | U96: 21 | V96: POWERS JACOB | W96: CARBONDALE
D97: 20806 | E97: 14 | F97: GRAFF CONNOR W | G97: GOREVILLE | K97: 32614 | L97: 18 | M97: HEINEMEYER CHASE D | N97: PINCKNEYVILLE | T97: 29014 | U97: 12 | V97: HARRIS ELI N | W97: MOUNT_VERNON
C98: Physics | D98: 16301 | E98: 12 | F98: INGOLD SAMUEL B | G98: COBDEN | K98: 32604 | L98: 32 | M98: SMITH FAITH M | N98: PINCKNEYVILLE
D99: 30504 | E99: 11 | F99: HORTIN JOEL R | G99: NCOE | K99: 40701 | L99: 69 | M99: LARSON STELLA | N99: VIENNA
D100: 30502 | E100: 11 | F100: MENDOZA BRADEN | G100: NCOE | K100: 40703 | L100: 19 | M100: WOODWORTH BRADY | N100: VIENNA
D101: 30508 | E101: 10 | F101: VOLLMAN BREE M | G101: NCOE
D102: 39210 | E102: 10 | F102: KAMPFL LAYA | G102: TRICO
D103: 36301
D104: 36314
...

Sheet Sheet3
A1: 22101 | B1: 29603 | C1: 31209 | D1: 19509 | E1: 37406 | F1: 14202 | G1: 17414 | H1: 28010 | I1: 18414 | J1: 19514 | K1: 19504 | L1: 31206 | M1: 14404 | N1: 37411 | O1: 31203 | P1: 14212 | Q1: 14201 | R1: 18412 | S1: 40805 | T1: 14206 | U1: 14208 | V1: 14402 | W1: 19509 | X1: 37412 | Y1: 27603 | Z1: 28010 | AA1: 37406 | AB1: 37401 | AC1: 16903 | AD1: 16902 | AE1: 37402 | AF1: 27601 | AI1: 18806 | AJ1: 32508 | AK1: 18814 | AL1: 18322 | AM1: 18813 | AN1: 18804 | AO1: 18812 | AP1: 18802 | AQ1: 22509 | AR1: 32501 | AS1: 18801 | AT1: 18810 | AU1: 34209 | AV1: 34210 | AW1: 32512 | AX1: 32503 | AY1: 32508 | AZ1: 32505 | BA1: 18807 | BB1: 18309 | BC1: 18802 | BD1: 22513 | BE1: 18314 | BF1: 18801 | BG1: 23502 | BH1: 18805 | BI1: 18307 | BJ1: 18114 | BK1: 23507 | BL1: 35909 | BM1: 32509 | BN1: 34221 | BU1: 20203 | BV1: 20803 | BW1: 20807 | BX1: 15901 | BY1: 30507 | BZ1: 39208 | CA1: 20207 | CB1: 39214 | CC1: 30512 | CE1: 20212 | CF1: 39211 | CG1: 20205 | CH1: 41602 | CI1: 20209 | CJ1: 20212 | CK1: 41602 | CL1: 20806 | CM1: 20201 | CN1: 41601 | CO1: 36304 | CP1: 20221 | CQ1: 15901 | CR1: 16308 | CS1: 20806 | CT1: 16301 | CU1: 30504 | CV1: 30502 | CW1: 30508 | CX1: 39210 | CY1: 36301 | CZ1: 36314 | DE1: 17709 | DF1: 17701 | DG1: 17706 | DH1: 17708 | DI1: 17711 | DJ1: 17714 | DK1: 17702 | DL1: 17709 | DM1: 17714 | DN1: 17710 | DO1: 17705 | DP1: 17701 | DQ1: 17705 | DR1: 17712 | DS1: 17710 | EH1: 42305 | EI1: 42307 | EJ1: 42308 | EK1: 42305 | EL1: 42307 | EM1: 42302 | EN1: 42306 | EO1: 42306 | EP1: 42302 | EQ1: 42304 | ER1: 42303 | ES1: 42309 | ET1: 42301 | EU1: 42303 | EV1: 42304 | EW1: 42301 | EX1: 42308 | FL1: 42911 | FM1: 42913 | FN1: 42904 | FO1: 10302 | FP1: 39702 | FQ1: 21605 | FR1: 42908 | FS1: 42914 | FT1: 10409 | FU1: 21611 | FV1: 10406 | FW1: 39708 | FX1: 21610 | FY1: 10403 | FZ1: 10302 | GA1: 21603 | GB1: 10403 | GC1: 10405 | GD1: 42906 | GE1: 10409 | GF1: 39707 | GG1: 42908 | GH1: 12504 | GI1: 39707 | GJ1: 39711 | GK1: 21604 | GN1: 27807 | GO1: 42213 | GP1: 42207 | GQ1: 42208 | GR1: 20602 | GS1: 17902 | GT1: 42206 | GU1: 20601 | GV1: 17912 | GW1: 20610 | GX1: 20612 | GY1: 27804 | GZ1: 27805 | HA1: 27804 | HB1: 20610 | HC1: 20606 | HD1: 44802 | HE1: 42208 | HF1: 27802 | HG1: 27811 | HH1: 20603 | HI1: 44802 | HJ1: 45124 | HK1: 20612 | HL1: 20607 | HM1: 17903 | HN1: 42205 | HO1: 27814 | HP1: 20601 | HQ1: 20609 | HR1: 44805 | HS1: 44804 | HV1: 23709 | HW1: 23707 | HX1: 23724 | HY1: 40012 | HZ1: 23709 | IA1: 40011 | IB1: 40001 | IC1: 17605 | ID1: 40012 | IE1: 40007 | IF1: 44905 | IG1: 17607 | IH1: 40004 | II1: 17611 | IJ1: 40008 | IK1: 23702 | IL1: 17607 | IM1: 23708 | IN1: 40011 | IO1: 23702 | IP1: 23714 | IQ1: 40002 | IR1: 40001 | IS1: 40013 | IT1: 40003 | IU1: 40010 | IV1: 40013 | IW1: 40008 | IX1: 40002 | JA1: 12402 | JB1: 12407 | JC1: 37522 | JD1: 30301 | JE1: 14512 | JF1: 22010 | JG1: 14509 | JH1: 26507 | JI1: 32303 | JJ1: 14511 | JK1: 32908 | JL1: 22004 | JM1: 29206 | JN1: 26508 | JO1: 22406 | JP1: 32911 | JQ1: 14504 | JR1: 26502 | JS1: 14508 | JT1: 34108 | JU1: 14503 | JV1: 22005 | JW1: 22410 | JX1: 14503 | JY1: 22404 | JZ1: 22410 | KA1: 14504 | KB1: 31209 | KC1: 37411 | KD1: 32505 | KE1: 18309 | KF1: 18807 | KG1: 42906 | KH1: 42207 | KI1: 27802 | KJ1: 27811 | KK1: 23724 | KL1: 23712 | KM1: 23710 | KN1: 23721 | KO1: 23714 | KP1: 23704 | KQ1: 23701 | KR1: 23723 | KS1: 23714 | KT1: 40007 | KU1: 44903 | KV1: 40014 | KW1: 30301 | KX1: 34108 | KY1: 37521 | KZ1: 14513
A3: 26402 | B3: 26401 | C3: 38502 | D3: 34409 | E3: 28305 | F3: 38501 | G3: 38505 | H3: 28301 | I3: 32101 | J3: 31105 | K3: 34410 | L3: 28310 | M3: 19609 | N3: 28312 | O3: 31105 | P3: 26412 | Q3: 38821 | R3: 26703 | S3: 34408 | T3: 28301 | U3: 26404 | V3: 34401 | W3: 34407 | X3: 34400 | Y3: 26708 | Z3: 19609 | AA3: 26403 | AB3: 30003 | AC3: 12107 | AD3: 12102 | AE3: 16212 | AI3: 12912 | AJ3: 12907 | AK3: 12911 | AL3: 12904 | AM3: 38306 | AN3: 41908 | AO3: 12901 | AP3: 12904 | AQ3: 12903 | AR3: 43303 | AS3: 12905 | AT3: 41912 | AU3: 43301 | AV3: 43303 | AW3: 43301 | AX3: 12908 | AY3: 41904 | AZ3: 38302 | BA3: 12911 | BB3: 12902 | BC3: 12901 | BD3: 12912 | BE3: 12905 | BF3: 12912 | BG3: 12907 | BH3: 12911 | BI3: 12904 | BJ3: 38306 | BK3: 41908 | BU3: 24201 | BV3: 32904 | BW3: 27114 | BX3: 14002 | BY3: 14009 | BZ3: 14003 | CA3: 14011 | CB3: 13812 | CC3: 14001 | CD3: 27103 | CE3: 22206 | CF3: 14001 | CG3: 32609 | CH3: 40703 | CI3: 11805 | CJ3: 21914 | CK3: 24201 | CL3: 14002 | CM3: 32614 | CN3: 40701 | CO3: 32614 | CP3: 13810 | CQ3: 22208 | CR3: 22203 | CS3: 32608 | CT3: 11802 | CU3: 11812 | CV3: 13804 | DE3: 16129 | DF3: 16111 | DG3: 16107 | DH3: 23102 | DI3: 16108 | DJ3: 16101 | DK3: 16110 | DL3: 31606 | DM3: 16109 | DN3: 31614 | DO3: 16113 | DP3: 16104 | DQ3: 31605 | DR3: 23106 | DS3: 16114 | DT3: 23101 | DU3: 31603 | DV3: 16103 | DW3: 16114 | DX3: 16108 | DY3: 16101 | DZ3: 16110 | EA3: 23101 | EH3: 33805 | EI3: 33807 | EJ3: 26102 | EK3: 33804 | EL3: 33805 | EM3: 33621 | EN3: 26113 | EO3: 33802 | EP3: 26128 | EQ3: 33811 | ER3: 26112 | ES3: 33813 | ET3: 33803 | EU3: 33603 | EV3: 26103 | EW3: 26208 | EX3: 33804 | EY3: 33801 | EZ3: 33603 | FA3: 26110 | FB3: 26107 | FC3: 33605 | FD3: 33622 | FL3: 19207 | FM3: 23408 | FN3: 23407 | FO3: 23404 | FP3: 23402 | FQ3: 19203 | FR3: 23403 | FS3: 23401 | FT3: 23406 | FU3: 23405 | FV3: 19205 | FW3: 19202 | FX3: 19205 | FY3: 19206 | FZ3: 23407 | GA3: 23403 | GB3: 23404 | GC3: 19208 | GD3: 19201 | GE3: 23402 | GF3: 23406 | GG3: 19208 | GH3: 23409 | GI3: 19203 | GN3: 14609 | GO3: 19804 | GP3: 13402 | GQ3: 19811 | GR3: 19814 | GS3: 16407 | GT3: 19812 | GU3: 19813 | GV3: 33322 | GW3: 44022 | GX3: 16412 | GY3: 19808 | GZ3: 14608 | HA3: 16408 | HB3: 19809 | HC3: 14606 | HD3: 14614 | HE3: 44023 | HF3: 16403 | HG3: 16407 | HH3: 35721 | HI3: 44021 | HJ3: 16410 | HK3: 16402 | HL3: 16401 | HM3: 13405 | HN3: 19807 | HO3: 16401 | HP3: 19801 | HQ3: 16411 | HR3: 19813 | HS3: 41703 | HV3: 39006 | HW3: 26606 | HX3: 39001 | HY3: 26605 | HZ3: 26604 | IA3: 22308 | IB3: 15209 | IC3: 33513 | ID3: 22303 | IE3: 15206 | IF3: 39004 | IG3: 39011 | IH3: 15214 | II3: 15203 | IJ3: 15204 | IK3: 39009 | IL3: 42602 | IM3: 22302 | IN3: 39005 | IO3: 42605 | IP3: 39005 | IQ3: 22301 | IR3: 39010 | IS3: 39003 | IT3: 42605 | IU3: 39011 | IV3: 39012 | JA3: 44309 | JB3: 27409 | JC3: 11406 | JD3: 36210 | JE3: 44313 | JF3: 44309 | JG3: 32701 | JH3: 32705 | JI3: 39503 | JJ3: 44313 | JK3: 39502 | JL3: 43903 | JM3: 39512 | JN3: 36203 | JO3: 44312 | JP3: 43902 | JQ3: 27409 | JR3: 11413 | JS3: 36208 | JT3: 39504 | JU3: 39505 | JV3: 27408 | JW3: 39509 | JX3: 32707 | JY3: 44321 | JZ3: 44307 | KA3: 44311 | KB3: 39504 | KC3: 38502 | KD3: 34409 | KE3: 38501 | KF3: 34411 | KG3: 42503 | KH3: 16209 | KI3: 26701 | KJ3: 26703 | KK3: 23006 | KL3: 28302 | KM3: 34405 | KN3: 34407 | KO3: 26414 | KP3: 19110 | KQ3: 30010 | KR3: 32103 | KS3: 12902 | KT3: 26102 | KU3: 26208 | KV3: 33802 | KW3: 26112 | KX3: 13402 | KY3: 14603 | KZ3: 33323 | LA3: 35721 | LB3: 14612 | LC3: 44021 | LD3: 13408 | LE3: 35721 | LF3: 44021 | LG3: 16410 | LH3: 14603 | LI3: 19812 | LJ3: 41713 | LK3: 19814 | LL3: 33323 | LM3: 14610 | LN3: 16414 | LO3: 39001 | LP3: 23302 | LQ3: 15210 | LR3: 39005 | LS3: 15210 | LT3: 15204 | LU3: 39014 | LV3: 26606 | LW3: 39002 | LX3: 15211 | LY3: 22301 | LZ3: 11406 | MA3: 36210 | MB3: 27410 | MC3: 11413 | MD3: 39514 | ME3: 39513 | MF3: 30703 | MG3: 43911 | MH3: 32701 | MI3: 11414 | MJ3: 43913 | MK3: 27405 | ML3: 43922 | MM3: 27412 | MN3: 30704 | MO3: 31512
A5: 33713 | B5: 28907 | C5: 14908 | D5: 25809 | E5: 28906 | F5: 14912 | G5: 14910 | H5: 14910 | I5: 25810 | J5: 25811 | K5: 28913 | L5: 27303 | M5: 14902 | N5: 14903 | O5: 28913 | P5: 28907 | Q5: 14905 | R5: 25811 | S5: 25802 | T5: 28901 | U5: 14906 | V5: 14906 | W5: 25810 | X5: 14909 | AI5: 14706 | AJ5: 14713 | AK5: 14710 | AL5: 14713 | AM5: 14709 | AN5: 24407 | AO5: 14708 | AP5: 14711 | AQ5: 14705 | AR5: 14707 | AS5: 24406 | AT5: 14707 | AU5: 24411 | AV5: 24412 | AW5: 24406 | AX5: 24401 | AY5: 14709 | AZ5: 14702 | BA5: 24408 | BB5: 14701 | BC5: 24414 | BD5: 24408 | BE5: 24411 | BF5: 14714 | BG5: 24413 | BH5: 14703 | BI5: 24412 | BU5: 13209 | BV5: 29009 | BW5: 13210 | BX5: 29003 | BY5: 13202 | BZ5: 13206 | CA5: 13210 | CB5: 29008 | CC5: 13206 | CD5: 13204 | CE5: 29013 | CF5: 29004 | CG5: 29007 | CH5: 29004 | CI5: 29005 | CJ5: 13211 | CK5: 13209 | CL5: 29001 | CM5: 13211 | CN5: 13204 | CO5: 13201 | CP5: 29001 | CQ5: 13201 | CR5: 13202 | CS5: 29014 | DE5: 41305 | DF5: 41304 | DG5: 41103 | DH5: 41308 | DI5: 41108 | DJ5: 41302 | DK5: 41101 | DL5: 41102 | DM5: 41302 | DN5: 41311 | DO5: 41307 | DP5: 41301 | DQ5: 41313 | DR5: 41130 | DS5: 41112 | DT5: 41102 | DU5: 41109 | DV5: 41106 | DW5: 41132 | DX5: 41301 | DY5: 41309 | DZ5: 41105 | EA5: 41303 | EB5: 41130 | EC5: 41103 | ED5: 41132 | EE5: 41312 | EH5: 13614 | EI5: 17208 | EJ5: 35601 | EK5: 17203 | EL5: 17211 | EM5: 17204 | EN5: 13614 | EO5: 13611 | EP5: 17210 | EQ5: 17202 | ER5: 32806 | ES5: 17202 | ET5: 17212 | EU5: 17205 | EV5: 13621 | EW5: 17201 | EX5: 17203 | EY5: 17206 | EZ5: 14104 | FA5: 17210 | FB5: 35603 | FC5: 41503 | FD5: 41511 | FE5: 32805 | FF5: 35610 | FG5: 16809 | FH5: 13632 | FI5: 17205 | FL5: 20106 | FM5: 20107 | FN5: 20104 | FO5: 20101 | FP5: 20106 | FQ5: 20103 | FR5: 20104 | FS5: 20102 | FT5: 20101 | FU5: 20107 | FV5: 20102 | FW5: 20103 | GN5: 26907 | GO5: 41406 | GP5: 41402 | GQ5: 41412 | GR5: 41404 | GS5: 41403 | GT5: 41408 | GU5: 41407 | GV5: 26904 | GW5: 26908 | GX5: 24109 | GY5: 24104 | GZ5: 26906 | HA5: 26904 | HB5: 41409 | HC5: 26903 | HD5: 41401 | HE5: 26907 | HF5: 41407 | HG5: 41403 | HH5: 24102 | HI5: 26902 | HV5: 19312 | HW5: 19313 | HX5: 25307 | HY5: 19308 | HZ5: 19313 | IA5: 19312 | IB5: 25305 | IC5: 19306 | ID5: 25309 | IE5: 25314 | IF5: 19309 | IG5: 19305 | IH5: 19310 | II5: 19301 | IJ5: 25312 | IK5: 19301 | IL5: 25312 | IM5: 19311 | IN5: 19310 | JA5: 20707 | JB5: 28502 | JC5: 28507 | JD5: 44505 | JE5: 20711 | JF5: 20713 | JG5: 44501 | JH5: 44514 | JI5: 44510 | JJ5: 31809 | JK5: 28510 | JL5: 20706 | JM5: 28511 | JN5: 28507 | JO5: 28509 | JP5: 44502 | JQ5: 20705 | JR5: 44504 | JS5: 44513 | JT5: 28504 | JU5: 34607 | JV5: 20706 | JW5: 44514 | JX5: 44503 | JY5: 44502 | JZ5: 44509 | KA5: 44501 | KB5: 28503 | KC5: 20714 | KD5: 14908 | KE5: 25809 | KF5: 28912 | KG5: 33712 | KH5: 14905 | KI5: 25803 | KJ5: 28901 | KK5: 14906 | KL5: 14903 | KM5: 28909 | KN5: 41304 | KO5: 41102 | KP5: 41109 | KQ5: 41106 | KR5: 35601 | KS5: 17203 | KT5: 13609 | KU5: 17209 | KV5: 14104 | KW5: 35608 | KX5: 41510 | KY5: 41503 | KZ5: 16806 | LA5: 13609 | LB5: 16814 | LC5: 14108 | LD5: 41512 | LE5: 41511 | LF5: 35610 | LG5: 41501 | LH5: 35614 | LI5: 17201 | LJ5: 13612 | LK5: 41513 | LL5: 25307 | LM5: 19305 | LN5: 25301 | LO5: 25311 | LP5: 19323 | LQ5: 28507 | LR5: 44505 | LS5: 20711 | LT5: 20713 | LU5: 44511 | LV5: 44510 | LW5: 23810 | LX5: 20703 | LY5: 23801 | LZ5: 31802 | MA5: 44513 | MB5: 28504 | MC5: 23801 | MD5: 20704 | ME5: 28509 | MF5: 44509 | MG5: 28521 | MH5: 34607 | MI5: 20706 | MJ5: 44514 | MK5: 44503 | ML5: 44502 | MM5: 28502 | MN5: 28510 | MO5: 44513 | MP5: 20708 | MQ5: 28501 | MR5: 28511
A7: 34707 | B7: 20301 | C7: 21701 | D7: 21702 | E7: 34702 | F7: 34702 | G7: 34708 | H7: 22902 | I7: 23908 | J7: 23906 | K7: 20311 | L7: 20306 | M7: 23912 | N7: 21713 | O7: 23906 | P7: 20309 | Q7: 41814 | R7: 41806 | S7: 21712 | T7: 21701 | U7: 41804 | V7: 20305 | W7: 41805 | X7: 21706 | Y7: 34704 | Z7: 22905 | AA7: 21705 | AB7: 20312 | AC7: 41801 | AD7: 22902 | AE7: 34714 | AF7: 20312 | AG7: 34705 | AH7: 20306 | AI7: 20303 | AJ7: 21704 | CZ7: 19005 | DA7: 10229 | DB7: 10213 | DC7: 16705 | DD7: 10204 | DE7: 12705 | DF7: 10227 | DG7: 10225 | DH7: 24012 | DI7: 10210 | DJ7: 12704 | DK7: 10207 | DL7: 24005 | DM7: 10214 | DN7: 16709 | DO7: 10203 | DP7: 10201 | DQ7: 10202 | DR7: 16705 | DS7: 10206 | DT7: 10205 | DU7: 10208 | DV7: 19007 | DW7: 10207 | DX7: 19009 | FF7: 31307 | FG7: 31310 | FH7: 31305 | FI7: 31303 | FJ7: 31301 | FK7: 31304 | FL7: 31302 | FM7: 31311 | FN7: 31307 | FO7: 31305 | FP7: 31313 | FQ7: 31303 | FR7: 31302 | FS7: 31313 | FT7: 31308 | FU7: 31311 | FV7: 31309 | FW7: 31310 | FX7: 31301 | FY7: 31309 | FZ7: 31306 | GA7: 31308 | GN7: 29409 | GO7: 36008 | GP7: 13302 | GQ7: 29409 | GR7: 29410 | GS7: 22704 | GT7: 40605 | GU7: 25608 | GV7: 22710 | GW7: 13313 | GX7: 22714 | GY7: 22705 | GZ7: 22702 | HA7: 13302 | HB7: 22712 | HC7: 29401 | HD7: 22706 | HE7: 22801 | HF7: 29401 | HG7: 29404 | HH7: 22713 | HI7: 22711 | HJ7: 22801 | HK7: 29403 | HL7: 22708 | HM7: 22701 | HN7: 36014 | HO7: 22713 | HV7: 21701 | HW7: 21702 | HX7: 34702 | HY7: 20305 | HZ7: 22903 | IA7: 34703 | IB7: 20314 | IC7: 21706 | ID7: 34704 | IE7: 22905 | IF7: 21702 | IG7: 16705 | IH7: 19013 | II7: 16712 | IJ7: 12709 | IK7: 16714 | IL7: 10201 | IM7: 12711 | IN7: 19013 | IO7: 10226 | IP7: 10206 | IQ7: 12703 | IR7: 10203 | IS7: 25511 | IT7: 10205 | IU7: 13302 | IV7: 22708 | IW7: 29410 | IX7: 22704 | IY7: 25605 | IZ7: 29401 | JA7: 22706 | JB7: 22801 | JC7: 25609 | JD7: 25606 | JE7: 36021 | JF7: 25607 | JG7: 25602 | JH7: 29403 | JI7: 22709

Sheet Sheet4
A1: 31209 | B1: 38502 | C1: 14908 | D1: 21701
A2: 37411 | B2: 34409 | C2: 25809 | D2: 21702
A3: 32505 | B3: 38501 | C3: 28912 | D3: 34702
A4: 18309 | B4: 34411 | C4: 33712 | D4: 20305
A5: 18807 | B5: 42503 | C5: 14905 | D5: 22903
A6: 42906 | B6: 16209 | C6: 25803 | D6: 34703
A7: 42207 | B7: 26701 | C7: 28901 | D7: 20314
A8: 27802 | B8: 26703 | C8: 14906 | D8: 21706
A9: 27811 | B9: 23006 | C9: 14903 | D9: 34704
A10: 23724 | B10: 28302 | C10: 28909 | D10: 22905
A11: 23712 | B11: 34405 | C11: 41304 | D11: 21702
A12: 23710 | B12: 34407 | C12: 41102 | D12: 16705
... A25: 14513 | B25: 35721 | C25: 16814 | D25: 10205
B26: 14612 | C26: 14108 | D26: 13302
B27: 44021 | C27: 41512 | D27: 22708
B28: 13408 | C28: 41511 | D28: 29410
B29: 35721 | C29: 35610 | D29: 22704
B30: 44021 | C30: 41501 | D30: 25605
B31: 16410 | C31: 35614 | D31: 29401
B32: 14603 | C32: 17201 | D32: 22706
B33: 19812 | C33: 13612 | D33: 22801
B34: 41713 | C34: 41513 | D34: 25609
B35: 19814 | C35: 25307 | D35: 25606
B36: 33323 | C36: 19305 | D36: 36021
B37: 14610 | C37: 25301 | D37: 25607
... B40: 23302 | C40: 28507 | D40: 22709
B41: 15210 | C41: 44505
B42: 39005 | C42: 20711
B43: 15210 | C43: 20713
B44: 15204 | C44: 44511
B45: 39014 | C45: 44510
B46: 26606 | C46: 23810
B47: 39002 | C47: 20703
B48: 15211 | C48: 23801
B49: 22301 | C49: 31802
B50: 11406 | C50: 44513
B51: 36210 | C51: 28504
B52: 27410 | C52: 23801
... B65: 31512 | C65: 20708
C66: 28501
C67: 28511
