Workbook
Name _1500TEAM: WORK2!$BB$4:$BR$75
Name _300TEAM: WORK2!$T$4:$AJ$75
Name _700TEAM: WORK2!$AK$4:$BA$75
Name _UNLTEAMS: WORK2!$BS$4:$CI$75
Name CATCOL: WORK2!$G$2:$G$6000
Name COUNT1500: WORK2!#REF!
Name COUNT300: WORK2!$T$2
Name COUNT700: WORK2!#REF!
Name COUNTUNL: WORK2!#REF!
Name DATA: Entry!$A$12:'Entry'!$DD$6000
Name DATATABLE: ROSTER!$A$1:$G5999
Name EXAMCODE: Entry!$A$10
Name EXAMCOL: WORK2!$B$2:$B$6000
Name FIRSTRESPONSE: Entry!$B$10
Name ID: Entry!$C$10
Name KEYS: Entry!$A$3:$CC$9
Name NEW: [1]Entry!$A$11:$D$5458
Name NEWI: [1]Entry!$C$10
Name NEWT: TEAMS!$O$1:$Q$500
Name NEWX: [1]Entry!$A$10
Name SCORECOL: WORK2!$A$2:$A$6000
Name SCORETABLE: Entry!$A$11:$M$5458
Name TEAMCOL: WORK2!$D$2:$D$6000
Name TEAMLIST: WORK2!$M$1:$O$500
Name WORKTABLE: WORK2!$A$1:$G$6000

Sheet Entry
A1: ENTER SCORE TABLE HERE
A2: KEYS | B2: 1 | C2: 2 | D2: 3 | E2: 4 | F2: 5 | G2: 6 | H2: 7 | I2: 8 | J2: 9 | K2: 10 | L2: 11 | M2: 12 | N2: 13 | O2: 14 | P2: 15 | Q2: 16 | R2: 17 | S2: 18 | T2: 19 | U2: 20 | V2: 21 | W2: 22 | X2: 23 | Y2: 24 | Z2: 25 | AA2: 26 | AB2: 27 | AC2: 28 | AD2: 29 | AE2: 30 | AF2: 31 | AG2: 32 | AH2: 33 | AI2: 34 | AJ2: 35 | AK2: 36 | AL2: 37 | AM2: 38 | AN2: 39 | AO2: 40 | AP2: 41 | AQ2: 42 | AR2: 43 | AS2: 44 | AT2: 45 | AU2: 46 | AV2: 47 | AW2: 48 | AX2: 49 | AY2: 50 | AZ2: 51 | BA2: 52 | BB2: 53 | BC2: 54 | BD2: 55 | BE2: 56 | BF2: 57 | BG2: 58 | BH2: 59 | BI2: 60 | BJ2: 61 | BK2: 62 | BL2: 63 | BM2: 64 | BN2: 65 | BO2: 66 | BP2: 67 | BQ2: 68 | BR2: 69 | BS2: 70 | BT2: 71 | BU2: 72 | BV2: 73 | BW2: 74 | BX2: 75 | BY2: 76 | BZ2: 77 | CA2: 78 | CB2: 79 | CC2: 80
A3: 1 | B3: A | C3: D | D3: D | E3: C | F3: C | G3: D | H3: A | I3: E | J3: E | K3: A | L3: C | M3: B | N3: E | O3: B | P3: E | Q3: B | R3: D | S3: C | T3: D | U3: E | V3: C | W3: A | X3: D | Y3: B | Z3: A | AA3: B | AB3: D | AC3: D | AD3: A | AE3: A | AF3: E | AG3: C | AH3: E | AI3: B | AJ3: D | AK3: A | AL3: D | AM3: E | AN3: C | AO3: A | AP3: A | AQ3: D | AR3: B | AS3: E | AT3: B | AU3: A | AV3: B | AW3: A | AX3: C | AY3: C
A4: 2 | B4: C | C4: A | D4: E | E4: D | F4: B | G4: C | H4: E | I4: D | J4: A | K4: A | L4: B | M4: E | N4: D | O4: C | P4: B | Q4: C | R4: E | S4: D | T4: A | U4: E | V4: C | W4: B | X4: C | Y4: E | Z4: C | AA4: D | AB4: A | AC4: E | AD4: A | AE4: B | AF4: D | AG4: A | AH4: B | AI4: E | AJ4: D | AK4: D | AL4: B | AM4: A | AN4: B | AO4: C
A5: 3 | B5: C | C5: D | D5: B | E5: D | F5: D | G5: A | H5: D | I5: D | J5: A | K5: E | L5: C | M5: B | N5: D | O5: E | P5: B | Q5: A | R5: C | S5: E | T5: B | U5: E | V5: D | W5: D | X5: C | Y5: E | Z5: B | AA5: D | AB5: C | AC5: C | AD5: C | AE5: D
A6: 4 | B6: D | C6: C | D6: C | E6: A | F6: A | G6: B | H6: A | I6: E | J6: B | K6: C | L6: D | M6: E | N6: D | O6: D | P6: B | Q6: E | R6: B | S6: C | T6: E | U6: C | V6: D | W6: A | X6: B | Y6: E | Z6: A | AA6: D | AB6: E | AC6: A | AD6: B | AE6: A | AF6: B | AG6: E | AH6: C | AI6: D | AJ6: C | AK6: D | AL6: E | AM6: B | AN6: C | AO6: B
A7: 5 | B7: C | C7: A | D7: A | E7: C | F7: B | G7: D | H7: A | I7: B | J7: D | K7: C | L7: C | M7: B | N7: A | O7: C | P7: D | Q7: B | R7: B | S7: D | T7: C | U7: A | V7: C | W7: B | X7: B | Y7: D | Z7: C | AA7: A | AB7: B | AC7: C | AD7: B | AE7: D | AF7: C | AG7: B | AH7: A | AI7: C | AJ7: D | AK7: A | AL7: C | AM7: D | AN7: A | AO7: B | AP7: C | AQ7: C | AR7: B | AS7: D | AT7: B | AU7: D | AV7: B | AW7: A | AX7: B | AY7: C | AZ7: C | BA7: B | BB7: A | BC7: C | BD7: A | BE7: B | BF7: B | BG7: C | BH7: D | BI7: B | BJ7: B | BK7: C | BL7: D | BM7: C | BN7: D | BO7: A | BP7: D | BQ7: D | BR7: A | BS7: C | BT7: B | BU7: D | BV7: A | BW7: C | BX7: A | BY7: B | BZ7: D | CA7: D | CB7: C | CC7: B
A8: 6 | B8: D | C8: C | D8: B | E8: E | F8: B | G8: C | H8: E | I8: B | J8: D | K8: A | L8: A | M8: A | N8: C | O8: C | P8: B | Q8: C | R8: B | S8: E | T8: C | U8: C | V8: A | W8: B | X8: D | Y8: C | Z8: D | AA8: D | AB8: C | AC8: D | AD8: A | AE8: B
A9: 7 | B9: D | C9: B | D9: D | E9: E | F9: B | G9: C | H9: C | I9: B | J9: B | K9: C | L9: C | M9: E | N9: B | O9: C | P9: C | Q9: A | R9: A | S9: B | T9: C | U9: C | V9: B | W9: D | X9: A | Y9: B | Z9: B | AA9: C | AB9: E | AC9: D | AD9: E | AE9: D | AF9: D | AG9: A | AH9: E | AI9: D | AJ9: A
A10: {=MIN(IF(A11:N11 = "EXAM CODE",{1,2,3,4,5,6,7,8,9,10,11,12,13}))} -> 8 | B10: {=MIN(IF(A11:N11 = "Q1",{1,2,3,4,5,6,7,8,9,10,11,12,13}))} -> 10 | C10: {=MIN(IF(A11:N11 = "ID",{1,2,3,4,5,6,7,8,9,10,11,12,13}))} -> 2
A11: SCORE | B11: ID | C11: NAME | D11: SCHOOL | E11: DIVISION | F11: CATEGORY | G11: EXAM NAME | H11: EXAM CODE | I11: EXAM PERIOD | J11: Q1 | K11: Q2 | L11: Q3 | M11: Q4 | N11: Q5 | O11: Q6 | P11: Q7 | Q11: Q8 | R11: Q9 | S11: Q10 | T11: Q11 | U11: Q12 | V11: Q13 | W11: Q14
A12: 27 | B12: 15301 | C12: Owen Gunderson | D12: Eastland High School | E12: 300 | F12: Varsity | G12: Biology | H12: 1 | I12: 1
A13: 14 | B13: 15301 | C13: Owen Gunderson | D13: Eastland High School | E13: 300 | F13: Varsity | G13: Engineering Graphics | H13: 4 | I13: 2
A14: 20 | B14: 15302 | C14: Kalena Rominski | D14: Eastland High School | E14: 300 | F14: Varsity | G14: Biology | H14: 1 | I14: 1
A15: 50 | B15: 15302 | C15: Kalena Rominski | D15: Eastland High School | E15: 300 | F15: Varsity | G15: English | H15: 5 | I15: 2
A16: 22 | B16: 15303 | C16: Shelby Groezinger | D16: Eastland High School | E16: 300 | F16: Varsity | G16: Chemistry | H16: 2 | I16: 1
A17: 60 | B17: 15303 | C17: Shelby Groezinger | D17: Eastland High School | E17: 300 | F17: Varsity | G17: English | H17: 5 | I17: 2
A18: 34 | B18: 15304 | C18: Kaleb LaRue | D18: Eastland High School | E18: 300 | F18: Varsity | G18: Biology | H18: 1 | I18: 1
A19: 14 | B19: 15304 | C19: Kaleb LaRue | D19: Eastland High School | E19: 300 | F19: Varsity | G19: Mathemathics | H19: 6 | I19: 2
A20: 15 | B20: 15305 | C20: Jaidyn McKinney | D20: Eastland High School | E20: 300 | F20: Varsity | G20: Chemistry | H20: 2 | I20: 1
A21: 14 | B21: 15305 | C21: Jaidyn McKinney | D21: Eastland High School | E21: 300 | F21: Varsity | G21: Engineering Graphics | H21: 4 | I21: 2
A22: 32 | B22: 15306 | C22: Ellie Hanviriyapunt | D22: Eastland High School | E22: 300 | F22: Varsity | G22: Biology | H22: 1 | I22: 1
A23: 51 | B23: 15306 | C23: Ellie Hanviriyapunt | D23: Eastland High School | E23: 300 | F23: Varsity | G23: English | H23: 5 | I23: 2
... A185: 9 | B185: 32014 | C185: Kenneth Clemens | D185: West Carroll High School CUSD #314 | E185: 300 | F185: Varsity | G185: Computer Science | H185: 3 | I185: 2
A5001: 0 | B5001: 99601 | C5001: 1 | D5001: 1 | E5001: 300 | F5001: 1 | G5001: 1 | H5001: 1 | I5001: 1 | J5001: 1 | K5001: 1 | L5001: 1 | M5001: 1
A5002: 0 | B5002: 99601 | C5002: 2 | D5002: 2 | E5002: 300 | F5002: 2 | G5002: 2 | H5002: 2 | I5002: 2 | J5002: 2 | K5002: 2 | L5002: 2 | M5002: 2
A5003: 0 | B5003: 99601 | C5003: 3 | D5003: 3 | E5003: 300 | F5003: 3 | G5003: 3 | H5003: 3 | I5003: 3 | J5003: 3 | K5003: 3 | L5003: 3 | M5003: 3
A5004: 0 | B5004: 99601 | C5004: 4 | D5004: 4 | E5004: 300 | F5004: 4 | G5004: 4 | H5004: 4 | I5004: 4 | J5004: 4 | K5004: 4 | L5004: 4 | M5004: 4
A5005: 0 | B5005: 99601 | C5005: 5 | D5005: 5 | E5005: 300 | F5005: 5 | G5005: 5 | H5005: 5 | I5005: 5 | J5005: 5 | K5005: 5 | L5005: 5 | M5005: 5
A5006: 0 | B5006: 99601 | C5006: 6 | D5006: 6 | E5006: 300 | F5006: 6 | G5006: 6 | H5006: 6 | I5006: 6 | J5006: 6 | K5006: 6 | L5006: 6 | M5006: 6
A5007: 0 | B5007: 99601 | C5007: 7 | D5007: 7 | E5007: 300 | F5007: 7 | G5007: 7 | H5007: 7 | I5007: 7 | J5007: 7 | K5007: 7 | L5007: 7 | M5007: 7
A5008: 0 | B5008: 99701 | C5008: 1 | D5008: 1 | E5008: 700 | F5008: 1 | G5008: 1 | H5008: 1 | I5008: 1 | J5008: 1 | K5008: 1 | L5008: 1 | M5008: 1
A5009: 0 | B5009: 99701 | C5009: 2 | D5009: 2 | E5009: 700 | F5009: 2 | G5009: 2 | H5009: 2 | I5009: 2 | J5009: 2 | K5009: 2 | L5009: 2 | M5009: 2
A5010: 0 | B5010: 99701 | C5010: 3 | D5010: 3 | E5010: 700 | F5010: 3 | G5010: 3 | H5010: 3 | I5010: 3 | J5010: 3 | K5010: 3 | L5010: 3 | M5010: 3
A5011: 0 | B5011: 99701 | C5011: 4 | D5011: 4 | E5011: 700 | F5011: 4 | G5011: 4 | H5011: 4 | I5011: 4 | J5011: 4 | K5011: 4 | L5011: 4 | M5011: 4
A5012: 0 | B5012: 99701 | C5012: 5 | D5012: 5 | E5012: 700 | F5012: 5 | G5012: 5 | H5012: 5 | I5012: 5 | J5012: 5 | K5012: 5 | L5012: 5 | M5012: 5
... A5021: 0 | B5021: 99801 | C5021: 7 | D5021: 7 | E5021: 150 | F5021: 7 | G5021: 7 | H5021: 7 | I5021: 7 | J5021: 7 | K5021: 7 | L5021: 7 | M5021: 7
A5022: 0 | B5022: 99901 | C5022: 1 | D5022: 1 | E5022: UNL | F5022: 1 | G5022: 1 | H5022: 1 | I5022: 1 | J5022: 1 | K5022: 1 | L5022: 1 | M5022: 1
A5023: 0 | B5023: 99901 | C5023: 2 | D5023: 2 | E5023: UNL | F5023: 2 | G5023: 2 | H5023: 2 | I5023: 2 | J5023: 2 | K5023: 2 | L5023: 2 | M5023: 2
A5024: 0 | B5024: 99901 | C5024: 3 | D5024: 3 | E5024: UNL | F5024: 3 | G5024: 3 | H5024: 3 | I5024: 3 | J5024: 3 | K5024: 3 | L5024: 3 | M5024: 3
...

Sheet ROSTER
A1: ID | B1: NAME | C1: SCHOOL | D1: DIVISION | E1: CATEGORY | F1: EXAM NAME | G1: EXAM CODE | H1: EXAMPERIOD
A2: 10001 | B2: Timothy Bui | C2: A. E. Stevenson | D2: Unlimited | E2: Varsity
A3: 10002 | B3: Deborah Lee | C3: A. E. Stevenson | D3: Unlimited | E3: Varsity
A4: 10003 | B4: Ruudrakshi Ganguly | C4: A. E. Stevenson | D4: Unlimited | E4: Varsity
A5: 10004 | B5: Rhubyn Letuchy | C5: A. E. Stevenson | D5: Unlimited | E5: Varsity
A6: 10005 | B6: Orlando Sirais | C6: A. E. Stevenson | D6: Unlimited | E6: Varsity
A7: 10006 | B7: Evelyn Chan | C7: A. E. Stevenson | D7: Unlimited | E7: Varsity
A8: 10007 | B8: Katherine Yin | C8: A. E. Stevenson | D8: Unlimited | E8: Varsity
A9: 10008 | B9: Kevin Yang | C9: A. E. Stevenson | D9: Unlimited | E9: Varsity
A10: 10009 | B10: Vedansh Wadhwani | C10: A. E. Stevenson | D10: Unlimited | E10: Varsity
A11: 10010 | B11: Joseph Wang | C11: A. E. Stevenson | D11: Unlimited | E11: Varsity
A12: 10011 | B12: Dannan Li | C12: A. E. Stevenson | D12: Unlimited | E12: Varsity
A13: 10012 | B13: Ethan Base | C13: A. E. Stevenson | D13: Unlimited | E13: Varsity
... A43: 10074 | B43: Manashyu Kumar | C43: A. E. Stevenson | D43: Unlimited | E43: Junior Varsity
A44: 10101 | B44: Marcella Healy | C44: Alleman Catholic High School | D44: 700 | E44: Varsity
A45: 10102 | B45: Molly Nonnenmann | C45: Alleman Catholic High School | D45: 700 | E45: Varsity
A46: 10103 | B46: Claire Mehochko | C46: Alleman Catholic High School | D46: 700 | E46: Varsity
A47: 10104 | B47: Lindsey Britton | C47: Alleman Catholic High School | D47: 700 | E47: Varsity
A48: 10105 | B48: Garrett Myers | C48: Alleman Catholic High School | D48: 700 | E48: Varsity
A49: 10106 | B49: Gretchen Ellis | C49: Alleman Catholic High School | D49: 700 | E49: Varsity
A50: 10107 | B50: Anthony Clark | C50: Alleman Catholic High School | D50: 700 | E50: Varsity
A51: 10108 | B51: Amacher Andrew | C51: Alleman Catholic High School | D51: 700 | E51: Varsity
A52: 10109 | B52: Nate Bishop | C52: Alleman Catholic High School | D52: 700 | E52: Varsity
A53: 10110 | B53: Hannah Andrews | C53: Alleman Catholic High School | D53: 700 | E53: Varsity
A54: 10111 | B54: Adam Jacks | C54: Alleman Catholic High School | D54: 700 | E54: Varsity
A55: 10112 | B55: Caden Jenulis | C55: Alleman Catholic High School | D55: 700 | E55: Varsity
... A74: 10214 | B74: Blake Berg | C74: Altamont Community High School | D74: 300 | E74: Varsity
A75: 10301 | B75: Indre Luksys | C75: Amos Alonzo Stagg High School | D75: Unlimited | E75: Varsity
A76: 10302 | B76: Ethan Phillips | C76: Amos Alonzo Stagg High School | D76: Unlimited | E76: Varsity
A77: 10303 | B77: Adrian Komorowski | C77: Amos Alonzo Stagg High School | D77: Unlimited | E77: Varsity
A78: 10304 | B78: Jack Glod | C78: Amos Alonzo Stagg High School | D78: Unlimited | E78: Varsity
A79: 10305 | B79: Yousef Hashish | C79: Amos Alonzo Stagg High School | D79: Unlimited | E79: Varsity
A80: 10306 | B80: Medad Hammad | C80: Amos Alonzo Stagg High School | D80: Unlimited | E80: Varsity
A81: 10307 | B81: Marcel Kepa | C81: Amos Alonzo Stagg High School | D81: Unlimited | E81: Varsity
A82: 10308 | B82: Emerson Kim | C82: Amos Alonzo Stagg High School | D82: Unlimited | E82: Varsity
A83: 10309 | B83: David Enriquez | C83: Amos Alonzo Stagg High School | D83: Unlimited | E83: Varsity
A84: 10310 | B84: Ammar Abuzir | C84: Amos Alonzo Stagg High School | D84: Unlimited | E84: Varsity
A85: 10311 | B85: Khabiba Khamidova | C85: Amos Alonzo Stagg High School | D85: Unlimited | E85: Varsity
A86: 10312 | B86: Kacper Liszka | C86: Amos Alonzo Stagg High School | D86: Unlimited | E86: Varsity
... A88: 10314 | B88: Max Jankowski | C88: Amos Alonzo Stagg High School | D88: Unlimited | E88: Varsity
...

Sheet 300
A1: BIOLOGY | F1: CHEMISTRY | K1: COMPUTATIONAL SCIENCE | P1: ENGINEERING GRAPHICS | U1: ENGLISH | Z1: MATHEMATICS | AE1: PHYSICS
A2: DIVISION | B2: 300 | F2: DIVISION | G2: 300 | K2: DIVISION | L2: 300 | P2: DIVISION | Q2: 300 | U2: DIVISION | V2: 300 | Z2: DIVISION | AA2: 300 | AE2: DIVISION | AF2: 300 | AK2: TEAM RESULTS
A3: EXAMCODE | B3: 1 | F3: EXAMCODE | G3: 2 | K3: EXAMCODE | L3: 3 | P3: EXAMCODE | Q3: 4 | U3: EXAMCODE | V3: 5 | Z3: EXAMCODE | AA3: 6 | AE3: EXAMCODE | AF3: 7 | AK3: Row Labels | AL3: Sum of Row Labels
A4: CATEGORY | B4: (Multiple Items) | F4: CATEGORY | G4: (Multiple Items) | K4: CATEGORY | L4: (Multiple Items) | P4: CATEGORY | Q4: (Multiple Items) | U4: CATEGORY | V4: (Multiple Items) | Z4: CATEGORY | AA4: (Multiple Items) | AE4: CATEGORY | AF4: (Multiple Items) | AL4: 0 | AM4: =IF(ISNUMBER(AK4),VLOOKUP(AL4,TEAMLIST,2),"")
AJ5: 1st | AK5: 471.32785 | AL5: 153 | AM5: =IF(AK5<>0,VLOOKUP(AL5,TEAMLIST,2),"") -> Eastland High School
A6: Row Labels | B6: Sum of SCORE | F6: Row Labels | G6: Sum of SCORE | K6: Row Labels | L6: Sum of SCORE | P6: Row Labels | Q6: Sum of SCORE | U6: Row Labels | V6: Sum of SCORE | Z6: Row Labels | AA6: Sum of SCORE | AE6: Row Labels | AF6: Sum of SCORE | AJ6: 2nd | AK6: 455.95785 | AL6: 168 | AM6: =IF(AK6<>0,VLOOKUP(AL6,TEAMLIST,2),"") -> Galena High School
A7: 32003 | B7: 35 | C7: =IF(A7<>0,VLOOKUP(A7,DATATABLE,2,0),"") -> Elise Legel | D7: =IF(ISNUMBER(A7),VLOOKUP(A7,DATATABLE,3,0),"") -> West Carroll High School CUSD #314 | F7: 15308 | G7: 23 | H7: =IF(ISNUMBER(F7),VLOOKUP(F7,DATATABLE,2,0),"") -> Dylan Rominski | I7: =IF(ISNUMBER(F7),VLOOKUP(F7,DATATABLE,3,0),"") -> Eastland High School | K7: 16805 | L7: 10 | M7: =IF(ISNUMBER(K7),VLOOKUP(K7,DATATABLE,2,0),"") -> Justin Lin | N7: =IF(ISNUMBER(K7),VLOOKUP(K7,DATATABLE,3,0),"") -> Galena High School | P7: 16801 | Q7: 22 | R7: =IF(ISNUMBER(P7),VLOOKUP(P7,DATATABLE,2,0),"") -> Brady Turner | S7: =IF(ISNUMBER(P7),VLOOKUP(P7,DATATABLE,3,0),"") -> Galena High School | U7: 15303 | V7: 60 | W7: =IF(ISNUMBER(U7),VLOOKUP(U7,DATATABLE,2,0),"") -> Shelby Groezinger | X7: =IF(ISNUMBER(U7),VLOOKUP(U7,DATATABLE,3,0),"") -> Eastland High School | Z7: 32003 | AA7: 18 | AB7: =IF(ISNUMBER(Z7),VLOOKUP(Z7,DATATABLE,2,0),"") -> Elise Legel | AC7: =IF(ISNUMBER(Z7),VLOOKUP(Z7,DATATABLE,3,0),"") -> West Carroll High School CUSD #314 | AE7: 28508 | AF7: 10 | AG7: =IF(ISNUMBER(AE7),VLOOKUP(AE7,DATATABLE,2,0),"") -> Zoie Koehler | AH7: =IF(ISNUMBER(AE7),VLOOKUP(AE7,DATATABLE,3,0),"") -> Scales Mound High School | AJ7: 3rd | AK7: 451.51114 | AL7: 320 | AM7: =IF(AK7<>0,VLOOKUP(AL7,TEAMLIST,2),"") -> West Carroll High School CUSD #314
A8: 15304 | B8: 34 | C8: =IF(A8<>0,VLOOKUP(A8,DATATABLE,2,0),"") -> Kaleb LaRue | D8: =IF(ISNUMBER(A8),VLOOKUP(A8,DATATABLE,3,0),"") -> Eastland High School | F8: 15303 | G8: 22 | H8: =IF(ISNUMBER(F8),VLOOKUP(F8,DATATABLE,2,0),"") -> Shelby Groezinger | I8: =IF(ISNUMBER(F8),VLOOKUP(F8,DATATABLE,3,0),"") -> Eastland High School | K8: 16801 | L8: 10 | M8: =IF(ISNUMBER(K8),VLOOKUP(K8,DATATABLE,2,0),"") -> Brady Turner | N8: =IF(ISNUMBER(K8),VLOOKUP(K8,DATATABLE,3,0),"") -> Galena High School | P8: 32009 | Q8: 20 | R8: =IF(ISNUMBER(P8),VLOOKUP(P8,DATATABLE,2,0),"") -> Connor Winter | S8: =IF(ISNUMBER(P8),VLOOKUP(P8,DATATABLE,3,0),"") -> West Carroll High School CUSD #314 | U8: 27507 | V8: 59 | W8: =IF(ISNUMBER(U8),VLOOKUP(U8,DATATABLE,2,0),"") -> Katie Cobine | X8: =IF(ISNUMBER(U8),VLOOKUP(U8,DATATABLE,3,0),"") -> River Ridge (Hanover) High School | Z8: 15308 | AA8: 18 | AB8: =IF(ISNUMBER(Z8),VLOOKUP(Z8,DATATABLE,2,0),"") -> Dylan Rominski | AC8: =IF(ISNUMBER(Z8),VLOOKUP(Z8,DATATABLE,3,0),"") -> Eastland High School | AE8: 28503 | AF8: 9 | AG8: =IF(ISNUMBER(AE8),VLOOKUP(AE8,DATATABLE,2,0),"") -> Derrick Distler | AH8: =IF(ISNUMBER(AE8),VLOOKUP(AE8,DATATABLE,3,0),"") -> Scales Mound High School | AJ8: 4th | AK8: 436.50862 | AL8: 285 | AM8: =IF(AK8<>0,VLOOKUP(AL8,TEAMLIST,2),"") -> Scales Mound High School
A9: 32012 | B9: 34 | C9: =IF(A9<>0,VLOOKUP(A9,DATATABLE,2,0),"") -> Caitlin Nolte | D9: =IF(ISNUMBER(A9),VLOOKUP(A9,DATATABLE,3,0),"") -> West Carroll High School CUSD #314 | F9: 28502 | G9: 21 | H9: =IF(ISNUMBER(F9),VLOOKUP(F9,DATATABLE,2,0),"") -> Katherine Bilderback | I9: =IF(ISNUMBER(F9),VLOOKUP(F9,DATATABLE,3,0),"") -> Scales Mound High School | K9: 28505 | L9: 9 | M9: =IF(ISNUMBER(K9),VLOOKUP(K9,DATATABLE,2,0),"") -> Kaden Duerr | N9: =IF(ISNUMBER(K9),VLOOKUP(K9,DATATABLE,3,0),"") -> Scales Mound High School | P9: 16824 | Q9: 16 | R9: =IF(ISNUMBER(P9),VLOOKUP(P9,DATATABLE,2,0),"") -> Andrew Koenigs | S9: =IF(ISNUMBER(P9),VLOOKUP(P9,DATATABLE,3,0),"") -> Galena High School | U9: 32006 | V9: 59 | W9: =IF(ISNUMBER(U9),VLOOKUP(U9,DATATABLE,2,0),"") -> Emma Herrell | X9: =IF(ISNUMBER(U9),VLOOKUP(U9,DATATABLE,3,0),"") -> West Carroll High School CUSD #314 | Z9: 27506 | AA9: 17 | AB9: =IF(ISNUMBER(Z9),VLOOKUP(Z9,DATATABLE,2,0),"") -> Lucius Mendenhall | AC9: =IF(ISNUMBER(Z9),VLOOKUP(Z9,DATATABLE,3,0),"") -> River Ridge (Hanover) High School | AE9: 28509 | AF9: 9 | AG9: =IF(ISNUMBER(AE9),VLOOKUP(AE9,DATATABLE,2,0),"") -> Kamran Meftahi | AH9: =IF(ISNUMBER(AE9),VLOOKUP(AE9,DATATABLE,3,0),"") -> Scales Mound High School | AJ9: 5th | AK9: 435.49665 | AL9: 275 | AM9: =IF(ISNUMBER(AK9),VLOOKUP(AL9,TEAMLIST,2),"") -> River Ridge (Hanover) High School
A10: 32001 | B10: 32 | C10: =IF(A10<>0,VLOOKUP(A10,DATATABLE,2,0),"") -> Dru McIntyre | D10: =IF(ISNUMBER(A10),VLOOKUP(A10,DATATABLE,3,0),"") -> West Carroll High School CUSD #314 | F10: 32006 | G10: 21 | H10: =IF(ISNUMBER(F10),VLOOKUP(F10,DATATABLE,2,0),"") -> Emma Herrell | I10: =IF(ISNUMBER(F10),VLOOKUP(F10,DATATABLE,3,0),"") -> West Carroll High School CUSD #314 | K10: 32014 | L10: 9 | M10: =IF(ISNUMBER(K10),VLOOKUP(K10,DATATABLE,2,0),"") -> Kenneth Clemens | N10: =IF(ISNUMBER(K10),VLOOKUP(K10,DATATABLE,3,0),"") -> West Carroll High School CUSD #314 | P10: 16828 | Q10: 16 | R10: =IF(ISNUMBER(P10),VLOOKUP(P10,DATATABLE,2,0),"") -> Roman Romer | S10: =IF(ISNUMBER(P10),VLOOKUP(P10,DATATABLE,3,0),"") -> Galena High School | U10: 15310 | V10: 56 | W10: =IF(ISNUMBER(U10),VLOOKUP(U10,DATATABLE,2,0),"") -> Callie Blevins | X10: =IF(ISNUMBER(U10),VLOOKUP(U10,DATATABLE,3,0),"") -> Eastland High School | Z10: 16802 | AA10: 16 | AB10: =IF(ISNUMBER(Z10),VLOOKUP(Z10,DATATABLE,2,0),"") -> Lex Abt | AC10: =IF(ISNUMBER(Z10),VLOOKUP(Z10,DATATABLE,3,0),"") -> Galena High School | AE10: 16821 | AF10: 8 | AG10: =IF(ISNUMBER(AE10),VLOOKUP(AE10,DATATABLE,2,0),"") -> Kallan Kropp | AH10: =IF(ISNUMBER(AE10),VLOOKUP(AE10,DATATABLE,3,0),"") -> Galena High School | AJ10: 6th | AM10: =IF(ISNUMBER(AK10),VLOOKUP(AL10,TEAMLIST,2),"")
A11: 15306 | B11: 32 | C11: =IF(A11<>0,VLOOKUP(A11,DATATABLE,2,0),"") -> Ellie Hanviriyapunt | D11: =IF(ISNUMBER(A11),VLOOKUP(A11,DATATABLE,3,0),"") -> Eastland High School | F11: 27504 | G11: 21 | H11: =IF(ISNUMBER(F11),VLOOKUP(F11,DATATABLE,2,0),"") -> Camden Flack | I11: =IF(ISNUMBER(F11),VLOOKUP(F11,DATATABLE,3,0),"") -> River Ridge (Hanover) High School | K11: 16823 | L11: 9 | M11: =IF(ISNUMBER(K11),VLOOKUP(K11,DATATABLE,2,0),"") -> Achillies Morales | N11: =IF(ISNUMBER(K11),VLOOKUP(K11,DATATABLE,3,0),"") -> Galena High School | P11: 16810 | Q11: 15 | R11: =IF(ISNUMBER(P11),VLOOKUP(P11,DATATABLE,2,0),"") -> Conner Soat | S11: =IF(ISNUMBER(P11),VLOOKUP(P11,DATATABLE,3,0),"") -> Galena High School | U11: 27505 | V11: 55 | W11: =IF(ISNUMBER(U11),VLOOKUP(U11,DATATABLE,2,0),"") -> Aizlynn Griffiths | X11: =IF(ISNUMBER(U11),VLOOKUP(U11,DATATABLE,3,0),"") -> River Ridge (Hanover) High School | Z11: 16807 | AA11: 16 | AB11: =IF(ISNUMBER(Z11),VLOOKUP(Z11,DATATABLE,2,0),"") -> Evelyn Callahan | AC11: =IF(ISNUMBER(Z11),VLOOKUP(Z11,DATATABLE,3,0),"") -> Galena High School | AE11: 16814 | AF11: 8 | AG11: =IF(ISNUMBER(AE11),VLOOKUP(AE11,DATATABLE,2,0),"") -> Quinlan Wells | AH11: =IF(ISNUMBER(AE11),VLOOKUP(AE11,DATATABLE,3,0),"") -> Galena High School | AJ11: 7th | AM11: =IF(ISNUMBER(AK11),VLOOKUP(AL11,TEAMLIST,2),"")
A12: 32010 | B12: 31 | C12: =IF(A12<>0,VLOOKUP(A12,DATATABLE,2,0),"") -> Isaac Becker | D12: =IF(ISNUMBER(A12),VLOOKUP(A12,DATATABLE,3,0),"") -> West Carroll High School CUSD #314 | F12: 32001 | G12: 18 | H12: =IF(ISNUMBER(F12),VLOOKUP(F12,DATATABLE,2,0),"") -> Dru McIntyre | I12: =IF(ISNUMBER(F12),VLOOKUP(F12,DATATABLE,3,0),"") -> West Carroll High School CUSD #314 | K12: 28507 | L12: 7 | M12: =IF(ISNUMBER(K12),VLOOKUP(K12,DATATABLE,2,0),"") -> Graham Koehler | N12: =IF(ISNUMBER(K12),VLOOKUP(K12,DATATABLE,3,0),"") -> Scales Mound High School | P12: 28506 | Q12: 15 | R12: =IF(ISNUMBER(P12),VLOOKUP(P12,DATATABLE,2,0),"") -> Connor Ellis | S12: =IF(ISNUMBER(P12),VLOOKUP(P12,DATATABLE,3,0),"") -> Scales Mound High School | U12: 16826 | V12: 52 | W12: =IF(ISNUMBER(U12),VLOOKUP(U12,DATATABLE,2,0),"") -> Luna Pham | X12: =IF(ISNUMBER(U12),VLOOKUP(U12,DATATABLE,3,0),"") -> Galena High School | Z12: 16803 | AA12: 15 | AB12: =IF(ISNUMBER(Z12),VLOOKUP(Z12,DATATABLE,2,0),"") -> Gus Nack | AC12: =IF(ISNUMBER(Z12),VLOOKUP(Z12,DATATABLE,3,0),"") -> Galena High School | AE12: 27508 | AF12: 8 | AG12: =IF(ISNUMBER(AE12),VLOOKUP(AE12,DATATABLE,2,0),"") -> Elaina Doms | AH12: =IF(ISNUMBER(AE12),VLOOKUP(AE12,DATATABLE,3,0),"") -> River Ridge (Hanover) High School | AJ12: 8th | AM12: =IF(ISNUMBER(AK12),VLOOKUP(AL12,TEAMLIST,2),"")
A13: 16805 | B13: 29 | C13: =IF(A13<>0,VLOOKUP(A13,DATATABLE,2,0),"") -> Justin Lin | D13: =IF(ISNUMBER(A13),VLOOKUP(A13,DATATABLE,3,0),"") -> Galena High School | F13: 16828 | G13: 18 | H13: =IF(ISNUMBER(F13),VLOOKUP(F13,DATATABLE,2,0),"") -> Roman Romer | I13: =IF(ISNUMBER(F13),VLOOKUP(F13,DATATABLE,3,0),"") -> Galena High School | K13: 28504 | L13: 7 | M13: =IF(ISNUMBER(K13),VLOOKUP(K13,DATATABLE,2,0),"") -> Levi Distler | N13: =IF(ISNUMBER(K13),VLOOKUP(K13,DATATABLE,3,0),"") -> Scales Mound High School | P13: 32014 | Q13: 14 | R13: =IF(ISNUMBER(P13),VLOOKUP(P13,DATATABLE,2,0),"") -> Kenneth Clemens | S13: =IF(ISNUMBER(P13),VLOOKUP(P13,DATATABLE,3,0),"") -> West Carroll High School CUSD #314 | U13: 27508 | V13: 52 | W13: =IF(ISNUMBER(U13),VLOOKUP(U13,DATATABLE,2,0),"") -> Elaina Doms | X13: =IF(ISNUMBER(U13),VLOOKUP(U13,DATATABLE,3,0),"") -> River Ridge (Hanover) High School | Z13: 28509 | AA13: 15 | AB13: =IF(ISNUMBER(Z13),VLOOKUP(Z13,DATATABLE,2,0),"") -> Kamran Meftahi | AC13: =IF(ISNUMBER(Z13),VLOOKUP(Z13,DATATABLE,3,0),"") -> Scales Mound High School | AE13: 27514 | AF13: 8 | AG13: =IF(ISNUMBER(AE13),VLOOKUP(AE13,DATATABLE,2,0),"") -> Sarah Winter | AH13: =IF(ISNUMBER(AE13),VLOOKUP(AE13,DATATABLE,3,0),"") -> River Ridge (Hanover) High School | AJ13: 9th | AM13: =IF(ISNUMBER(AK13),VLOOKUP(AL13,TEAMLIST,2),"")
A14: 28510 | B14: 28 | C14: =IF(A14<>0,VLOOKUP(A14,DATATABLE,2,0),"") -> Anika Stadel | D14: =IF(ISNUMBER(A14),VLOOKUP(A14,DATATABLE,3,0),"") -> Scales Mound High School | F14: 32005 | G14: 18 | H14: =IF(ISNUMBER(F14),VLOOKUP(F14,DATATABLE,2,0),"") -> Catia Wilson | I14: =IF(ISNUMBER(F14),VLOOKUP(F14,DATATABLE,3,0),"") -> West Carroll High School CUSD #314 | K14: 28506 | L14: 7 | M14: =IF(ISNUMBER(K14),VLOOKUP(K14,DATATABLE,2,0),"") -> Connor Ellis | N14: =IF(ISNUMBER(K14),VLOOKUP(K14,DATATABLE,3,0),"") -> Scales Mound High School | P14: 27506 | Q14: 14 | R14: =IF(ISNUMBER(P14),VLOOKUP(P14,DATATABLE,2,0),"") -> Lucius Mendenhall | S14: =IF(ISNUMBER(P14),VLOOKUP(P14,DATATABLE,3,0),"") -> River Ridge (Hanover) High School | U14: 16811 | V14: 51 | W14: =IF(ISNUMBER(U14),VLOOKUP(U14,DATATABLE,2,0),"") -> Ella Dodds | X14: =IF(ISNUMBER(U14),VLOOKUP(U14,DATATABLE,3,0),"") -> Galena High School | Z14: 28511 | AA14: 15 | AB14: =IF(ISNUMBER(Z14),VLOOKUP(Z14,DATATABLE,2,0),"") -> Josie Vandigo | AC14: =IF(ISNUMBER(Z14),VLOOKUP(Z14,DATATABLE,3,0),"") -> Scales Mound High School | AE14: 28511 | AF14: 8 | AG14: =IF(ISNUMBER(AE14),VLOOKUP(AE14,DATATABLE,2,0),"") -> Josie Vandigo | AH14: =IF(ISNUMBER(AE14),VLOOKUP(AE14,DATATABLE,3,0),"") -> Scales Mound High School | AJ14: 10th | AM14: =IF(ISNUMBER(AK14),VLOOKUP(AL14,TEAMLIST,2),"")
A15: 16802 | B15: 28 | C15: =IF(A15<>0,VLOOKUP(A15,DATATABLE,2,0),"") -> Lex Abt | D15: =IF(ISNUMBER(A15),VLOOKUP(A15,DATATABLE,3,0),"") -> Galena High School | F15: 27505 | G15: 16 | H15: =IF(ISNUMBER(F15),VLOOKUP(F15,DATATABLE,2,0),"") -> Aizlynn Griffiths | I15: =IF(ISNUMBER(F15),VLOOKUP(F15,DATATABLE,3,0),"") -> River Ridge (Hanover) High School | K15: 32009 | L15: 6 | M15: =IF(ISNUMBER(K15),VLOOKUP(K15,DATATABLE,2,0),"") -> Connor Winter | N15: =IF(ISNUMBER(K15),VLOOKUP(K15,DATATABLE,3,0),"") -> West Carroll High School CUSD #314 | P15: 15301 | Q15: 14 | R15: =IF(ISNUMBER(P15),VLOOKUP(P15,DATATABLE,2,0),"") -> Owen Gunderson | S15: =IF(ISNUMBER(P15),VLOOKUP(P15,DATATABLE,3,0),"") -> Eastland High School | U15: 32012 | V15: 51 | W15: =IF(ISNUMBER(U15),VLOOKUP(U15,DATATABLE,2,0),"") -> Caitlin Nolte | X15: =IF(ISNUMBER(U15),VLOOKUP(U15,DATATABLE,3,0),"") -> West Carroll High School CUSD #314 | Z15: 15304 | AA15: 14 | AB15: =IF(ISNUMBER(Z15),VLOOKUP(Z15,DATATABLE,2,0),"") -> Kaleb LaRue | AC15: =IF(ISNUMBER(Z15),VLOOKUP(Z15,DATATABLE,3,0),"") -> Eastland High School | AE15: 27511 | AF15: 7 | AG15: =IF(ISNUMBER(AE15),VLOOKUP(AE15,DATATABLE,2,0),"") -> Sawyer Fry | AH15: =IF(ISNUMBER(AE15),VLOOKUP(AE15,DATATABLE,3,0),"") -> River Ridge (Hanover) High School | AJ15: 11th | AM15: =IF(ISNUMBER(AK15),VLOOKUP(AL15,TEAMLIST,2),"")
A16: 28512 | B16: 27 | C16: =IF(A16<>0,VLOOKUP(A16,DATATABLE,2,0),"") -> Carley Weis | D16: =IF(ISNUMBER(A16),VLOOKUP(A16,DATATABLE,3,0),"") -> Scales Mound High School | F16: 16803 | G16: 16 | H16: =IF(ISNUMBER(F16),VLOOKUP(F16,DATATABLE,2,0),"") -> Gus Nack | I16: =IF(ISNUMBER(F16),VLOOKUP(F16,DATATABLE,3,0),"") -> Galena High School | K16: 15307 | L16: 0 | M16: =IF(ISNUMBER(K16),VLOOKUP(K16,DATATABLE,2,0),"") -> Jon Spoerlein | N16: =IF(ISNUMBER(K16),VLOOKUP(K16,DATATABLE,3,0),"") -> Eastland High School | P16: 15305 | Q16: 14 | R16: =IF(ISNUMBER(P16),VLOOKUP(P16,DATATABLE,2,0),"") -> Jaidyn McKinney | S16: =IF(ISNUMBER(P16),VLOOKUP(P16,DATATABLE,3,0),"") -> Eastland High School | U16: 15306 | V16: 51 | W16: =IF(ISNUMBER(U16),VLOOKUP(U16,DATATABLE,2,0),"") -> Ellie Hanviriyapunt | X16: =IF(ISNUMBER(U16),VLOOKUP(U16,DATATABLE,3,0),"") -> Eastland High School | Z16: 27507 | AA16: 14 | AB16: =IF(ISNUMBER(Z16),VLOOKUP(Z16,DATATABLE,2,0),"") -> Katie Cobine | AC16: =IF(ISNUMBER(Z16),VLOOKUP(Z16,DATATABLE,3,0),"") -> River Ridge (Hanover) High School | AE16: 15311 | AF16: 7 | AG16: =IF(ISNUMBER(AE16),VLOOKUP(AE16,DATATABLE,2,0),"") -> Vance Crichton | AH16: =IF(ISNUMBER(AE16),VLOOKUP(AE16,DATATABLE,3,0),"") -> Eastland High School | AJ16: 12th | AM16: =IF(ISNUMBER(AK16),VLOOKUP(AL16,TEAMLIST,2),"")
A17: 28514 | B17: 27 | C17: =IF(A17<>0,VLOOKUP(A17,DATATABLE,2,0),"") -> Ava Wiederholt | D17: =IF(ISNUMBER(A17),VLOOKUP(A17,DATATABLE,3,0),"") -> Scales Mound High School | F17: 15305 | G17: 15 | H17: =IF(ISNUMBER(F17),VLOOKUP(F17,DATATABLE,2,0),"") -> Jaidyn McKinney | I17: =IF(ISNUMBER(F17),VLOOKUP(F17,DATATABLE,3,0),"") -> Eastland High School | K17: 16830 | L17: 0 | M17: =IF(ISNUMBER(K17),VLOOKUP(K17,DATATABLE,2,0),"") -> Student J Galena | N17: =IF(ISNUMBER(K17),VLOOKUP(K17,DATATABLE,3,0),"") -> Galena High School | P17: 27502 | Q17: 13 | R17: =IF(ISNUMBER(P17),VLOOKUP(P17,DATATABLE,2,0),"") -> Nate Haas | S17: =IF(ISNUMBER(P17),VLOOKUP(P17,DATATABLE,3,0),"") -> River Ridge (Hanover) High School | U17: 16807 | V17: 50 | W17: =IF(ISNUMBER(U17),VLOOKUP(U17,DATATABLE,2,0),"") -> Evelyn Callahan | X17: =IF(ISNUMBER(U17),VLOOKUP(U17,DATATABLE,3,0),"") -> Galena High School | Z17: 27511 | AA17: 13 | AB17: =IF(ISNUMBER(Z17),VLOOKUP(Z17,DATATABLE,2,0),"") -> Sawyer Fry | AC17: =IF(ISNUMBER(Z17),VLOOKUP(Z17,DATATABLE,3,0),"") -> River Ridge (Hanover) High School | AE17: 16813 | AF17: 7 | AG17: =IF(ISNUMBER(AE17),VLOOKUP(AE17,DATATABLE,2,0),"") -> Molly Beadle | AH17: =IF(ISNUMBER(AE17),VLOOKUP(AE17,DATATABLE,3,0),"") -> Galena High School | AJ17: 13th | AM17: =IF(ISNUMBER(AK17),VLOOKUP(AL17,TEAMLIST,2),"")
A18: 15301 | B18: 27 | C18: =IF(A18<>0,VLOOKUP(A18,DATATABLE,2,0),"") -> Owen Gunderson | D18: =IF(ISNUMBER(A18),VLOOKUP(A18,DATATABLE,3,0),"") -> Eastland High School | F18: 28501 | G18: 15 | H18: =IF(ISNUMBER(F18),VLOOKUP(F18,DATATABLE,2,0),"") -> Grace Behlke | I18: =IF(ISNUMBER(F18),VLOOKUP(F18,DATATABLE,3,0),"") -> Scales Mound High School | K18: 16834 | L18: 0 | M18: =IF(ISNUMBER(K18),VLOOKUP(K18,DATATABLE,2,0),"") -> Student N Galena | N18: =IF(ISNUMBER(K18),VLOOKUP(K18,DATATABLE,3,0),"") -> Galena High School | P18: 28505 | Q18: 13 | R18: =IF(ISNUMBER(P18),VLOOKUP(P18,DATATABLE,2,0),"") -> Kaden Duerr | S18: =IF(ISNUMBER(P18),VLOOKUP(P18,DATATABLE,3,0),"") -> Scales Mound High School | U18: 28512 | V18: 50 | W18: =IF(ISNUMBER(U18),VLOOKUP(U18,DATATABLE,2,0),"") -> Carley Weis | X18: =IF(ISNUMBER(U18),VLOOKUP(U18,DATATABLE,3,0),"") -> Scales Mound High School | Z18: 16809 | AA18: 13 | AB18: =IF(ISNUMBER(Z18),VLOOKUP(Z18,DATATABLE,2,0),"") -> Alfonso Grajales | AC18: =IF(ISNUMBER(Z18),VLOOKUP(Z18,DATATABLE,3,0),"") -> Galena High School | AE18: 15312 | AF18: 7 | AG18: =IF(ISNUMBER(AE18),VLOOKUP(AE18,DATATABLE,2,0),"") -> Linus Reuter | AH18: =IF(ISNUMBER(AE18),VLOOKUP(AE18,DATATABLE,3,0),"") -> Eastland High School | AJ18: 14th | AM18: =IF(ISNUMBER(AK18),VLOOKUP(AL18,TEAMLIST,2),"")
A19: 27503 | B19: 27 | C19: =IF(A19<>0,VLOOKUP(A19,DATATABLE,2,0),"") -> Laiken Haas | D19: =IF(ISNUMBER(A19),VLOOKUP(A19,DATATABLE,3,0),"") -> River Ridge (Hanover) High School | F19: 16810 | G19: 15 | H19: =IF(ISNUMBER(F19),VLOOKUP(F19,DATATABLE,2,0),"") -> Conner Soat | I19: =IF(ISNUMBER(F19),VLOOKUP(F19,DATATABLE,3,0),"") -> Galena High School | K19: 16825 | L19: 0 | M19: =IF(ISNUMBER(K19),VLOOKUP(K19,DATATABLE,2,0),"") -> Macklan Murphy | N19: =IF(ISNUMBER(K19),VLOOKUP(K19,DATATABLE,3,0),"") -> Galena High School | P19: 15314 | Q19: 13 | R19: =IF(ISNUMBER(P19),VLOOKUP(P19,DATATABLE,2,0),"") -> Deya Nieves | S19: =IF(ISNUMBER(P19),VLOOKUP(P19,DATATABLE,3,0),"") -> Eastland High School | U19: 15302 | V19: 50 | W19: =IF(ISNUMBER(U19),VLOOKUP(U19,DATATABLE,2,0),"") -> Kalena Rominski | X19: =IF(ISNUMBER(U19),VLOOKUP(U19,DATATABLE,3,0),"") -> Eastland High School | Z19: 16804 | AA19: 13 | AB19: =IF(ISNUMBER(Z19),VLOOKUP(Z19,DATATABLE,2,0),"") -> Violet Doyle | AC19: =IF(ISNUMBER(Z19),VLOOKUP(Z19,DATATABLE,3,0),"") -> Galena High School | AE19: 32010 | AF19: 6 | AG19: =IF(ISNUMBER(AE19),VLOOKUP(AE19,DATATABLE,2,0),"") -> Isaac Becker | AH19: =IF(ISNUMBER(AE19),VLOOKUP(AE19,DATATABLE,3,0),"") -> West Carroll High School CUSD #314 | AJ19: 15th | AM19: =IF(ISNUMBER(AK19),VLOOKUP(AL19,TEAMLIST,2),"")
A20: 16829 | B20: 24 | C20: =IF(A20<>0,VLOOKUP(A20,DATATABLE,2,0),"") -> Student I Galena | D20: =IF(ISNUMBER(A20),VLOOKUP(A20,DATATABLE,3,0),"") -> Galena High School | F20: 28508 | G20: 13 | H20: =IF(ISNUMBER(F20),VLOOKUP(F20,DATATABLE,2,0),"") -> Zoie Koehler | I20: =IF(ISNUMBER(F20),VLOOKUP(F20,DATATABLE,3,0),"") -> Scales Mound High School | M20: =IF(ISNUMBER(K20),VLOOKUP(K20,DATATABLE,2,0),"") | N20: =IF(ISNUMBER(K20),VLOOKUP(K20,DATATABLE,3,0),"") | P20: 16809 | Q20: 13 | R20: =IF(ISNUMBER(P20),VLOOKUP(P20,DATATABLE,2,0),"") -> Alfonso Grajales | S20: =IF(ISNUMBER(P20),VLOOKUP(P20,DATATABLE,3,0),"") -> Galena High School | U20: 16827 | V20: 49 | W20: =IF(ISNUMBER(U20),VLOOKUP(U20,DATATABLE,2,0),"") -> Max Schulz | X20: =IF(ISNUMBER(U20),VLOOKUP(U20,DATATABLE,3,0),"") -> Galena High School | Z20: 27514 | AA20: 12 | AB20: =IF(ISNUMBER(Z20),VLOOKUP(Z20,DATATABLE,2,0),"") -> Sarah Winter | AC20: =IF(ISNUMBER(Z20),VLOOKUP(Z20,DATATABLE,3,0),"") -> River Ridge (Hanover) High School | AE20: 16824 | AF20: 5 | AG20: =IF(ISNUMBER(AE20),VLOOKUP(AE20,DATATABLE,2,0),"") -> Andrew Koenigs | AH20: =IF(ISNUMBER(AE20),VLOOKUP(AE20,DATATABLE,3,0),"") -> Galena High School | AJ20: 16th | AM20: =IF(ISNUMBER(AK20),VLOOKUP(AL20,TEAMLIST,2),"")
A21: 27512 | B21: 24 | C21: =IF(A21<>0,VLOOKUP(A21,DATATABLE,2,0),"") -> Nick Cobine | D21: =IF(ISNUMBER(A21),VLOOKUP(A21,DATATABLE,3,0),"") -> River Ridge (Hanover) High School | F21: 16812 | G21: 13 | H21: =IF(ISNUMBER(F21),VLOOKUP(F21,DATATABLE,2,0),"") -> Liliana Asta | I21: =IF(ISNUMBER(F21),VLOOKUP(F21,DATATABLE,3,0),"") -> Galena High School | M21: =IF(ISNUMBER(K21),VLOOKUP(K21,DATATABLE,2,0),"") | N21: =IF(ISNUMBER(K21),VLOOKUP(K21,DATATABLE,3,0),"") | P21: 16821 | Q21: 12 | R21: =IF(ISNUMBER(P21),VLOOKUP(P21,DATATABLE,2,0),"") -> Kallan Kropp | S21: =IF(ISNUMBER(P21),VLOOKUP(P21,DATATABLE,3,0),"") -> Galena High School | U21: 16813 | V21: 49 | W21: =IF(ISNUMBER(U21),VLOOKUP(U21,DATATABLE,2,0),"") -> Molly Beadle | X21: =IF(ISNUMBER(U21),VLOOKUP(U21,DATATABLE,3,0),"") -> Galena High School | Z21: 27501 | AA21: 11 | AB21: =IF(ISNUMBER(Z21),VLOOKUP(Z21,DATATABLE,2,0),"") -> Ian Wachter | AC21: =IF(ISNUMBER(Z21),VLOOKUP(Z21,DATATABLE,3,0),"") -> River Ridge (Hanover) High School | AE21: 32008 | AF21: 0 | AG21: =IF(ISNUMBER(AE21),VLOOKUP(AE21,DATATABLE,2,0),"") -> Abigail Grzemski | AH21: =IF(ISNUMBER(AE21),VLOOKUP(AE21,DATATABLE,3,0),"") -> West Carroll High School CUSD #314 | AJ21: 18th | AM21: =IF(ISNUMBER(AK21),VLOOKUP(AL21,TEAMLIST,2),"")
A22: 15310 | B22: 24 | C22: =IF(A22<>0,VLOOKUP(A22,DATATABLE,2,0),"") -> Callie Blevins | D22: =IF(ISNUMBER(A22),VLOOKUP(A22,DATATABLE,3,0),"") -> Eastland High School | F22: 27509 | G22: 13 | H22: =IF(ISNUMBER(F22),VLOOKUP(F22,DATATABLE,2,0),"") -> Harmony Packard | I22: =IF(ISNUMBER(F22),VLOOKUP(F22,DATATABLE,3,0),"") -> River Ridge (Hanover) High School | M22: =IF(ISNUMBER(K22),VLOOKUP(K22,DATATABLE,2,0),"") | N22: =IF(ISNUMBER(K22),VLOOKUP(K22,DATATABLE,3,0),"") | P22: 16827 | Q22: 11 | R22: =IF(ISNUMBER(P22),VLOOKUP(P22,DATATABLE,2,0),"") -> Max Schulz | S22: =IF(ISNUMBER(P22),VLOOKUP(P22,DATATABLE,3,0),"") -> Galena High School | U22: 16806 | V22: 48 | W22: =IF(ISNUMBER(U22),VLOOKUP(U22,DATATABLE,2,0),"") -> Jayme Frank | X22: =IF(ISNUMBER(U22),VLOOKUP(U22,DATATABLE,3,0),"") -> Galena High School | Z22: 28501 | AA22: 11 | AB22: =IF(ISNUMBER(Z22),VLOOKUP(Z22,DATATABLE,2,0),"") -> Grace Behlke | AC22: =IF(ISNUMBER(Z22),VLOOKUP(Z22,DATATABLE,3,0),"") -> Scales Mound High School | AE22: 32007 | AF22: 0 | AG22: =IF(ISNUMBER(AE22),VLOOKUP(AE22,DATATABLE,2,0),"") -> Rowan Rannow | AH22: =IF(ISNUMBER(AE22),VLOOKUP(AE22,DATATABLE,3,0),"") -> West Carroll High School CUSD #314 | AJ22: 17th | AM22: =IF(ISNUMBER(AK22),VLOOKUP(AL22,TEAMLIST,2),"")
A23: 28504 | B23: 23 | C23: =IF(A23<>0,VLOOKUP(A23,DATATABLE,2,0),"") -> Levi Distler | D23: =IF(ISNUMBER(A23),VLOOKUP(A23,DATATABLE,3,0),"") -> Scales Mound High School | F23: 28513 | G23: 11 | H23: =IF(ISNUMBER(F23),VLOOKUP(F23,DATATABLE,2,0),"") -> Alyssa Wentz | I23: =IF(ISNUMBER(F23),VLOOKUP(F23,DATATABLE,3,0),"") -> Scales Mound High School | M23: =IF(ISNUMBER(K23),VLOOKUP(K23,DATATABLE,2,0),"") | N23: =IF(ISNUMBER(K23),VLOOKUP(K23,DATATABLE,3,0),"") | P23: 27501 | Q23: 11 | R23: =IF(ISNUMBER(P23),VLOOKUP(P23,DATATABLE,2,0),"") -> Ian Wachter | S23: =IF(ISNUMBER(P23),VLOOKUP(P23,DATATABLE,3,0),"") -> River Ridge (Hanover) High School | U23: 27522 | V23: 46 | W23: =IF(ISNUMBER(U23),VLOOKUP(U23,DATATABLE,2,0),"") -> Joe DuBord | X23: =IF(ISNUMBER(U23),VLOOKUP(U23,DATATABLE,3,0),"") -> River Ridge (Hanover) High School | Z23: 28503 | AA23: 11 | AB23: =IF(ISNUMBER(Z23),VLOOKUP(Z23,DATATABLE,2,0),"") -> Derrick Distler | AC23: =IF(ISNUMBER(Z23),VLOOKUP(Z23,DATATABLE,3,0),"") -> Scales Mound High School | AG23: =IF(ISNUMBER(AE23),VLOOKUP(AE23,DATATABLE,2,0),"") | AH23: =IF(ISNUMBER(AE23),VLOOKUP(AE23,DATATABLE,3,0),"") | AJ23: 19th | AM23: =IF(ISNUMBER(AK23),VLOOKUP(AL23,TEAMLIST,2),"")
A24: 27523 | B24: 23 | C24: =IF(A24<>0,VLOOKUP(A24,DATATABLE,2,0),"") -> Hamish Boden | D24: =IF(ISNUMBER(A24),VLOOKUP(A24,DATATABLE,3,0),"") -> River Ridge (Hanover) High School | F24: 16808 | G24: 11 | H24: =IF(ISNUMBER(F24),VLOOKUP(F24,DATATABLE,2,0),"") -> Jalyn Walker | I24: =IF(ISNUMBER(F24),VLOOKUP(F24,DATATABLE,3,0),"") -> Galena High School | M24: =IF(ISNUMBER(K24),VLOOKUP(K24,DATATABLE,2,0),"") | N24: =IF(ISNUMBER(K24),VLOOKUP(K24,DATATABLE,3,0),"") | P24: 27510 | Q24: 10 | R24: =IF(ISNUMBER(P24),VLOOKUP(P24,DATATABLE,2,0),"") -> Sam Rife | S24: =IF(ISNUMBER(P24),VLOOKUP(P24,DATATABLE,3,0),"") -> River Ridge (Hanover) High School | U24: 28514 | V24: 46 | W24: =IF(ISNUMBER(U24),VLOOKUP(U24,DATATABLE,2,0),"") -> Ava Wiederholt | X24: =IF(ISNUMBER(U24),VLOOKUP(U24,DATATABLE,3,0),"") -> Scales Mound High School | Z24: 15311 | AA24: 11 | AB24: =IF(ISNUMBER(Z24),VLOOKUP(Z24,DATATABLE,2,0),"") -> Vance Crichton | AC24: =IF(ISNUMBER(Z24),VLOOKUP(Z24,DATATABLE,3,0),"") -> Eastland High School | AG24: =IF(ISNUMBER(AE24),VLOOKUP(AE24,DATATABLE,2,0),"") | AH24: =IF(ISNUMBER(AE24),VLOOKUP(AE24,DATATABLE,3,0),"") | AJ24: 20th | AM24: =IF(ISNUMBER(AK24),VLOOKUP(AL24,TEAMLIST,2),"")
A25: 16832 | B25: 23 | C25: =IF(A25<>0,VLOOKUP(A25,DATATABLE,2,0),"") -> Student L Galena | D25: =IF(ISNUMBER(A25),VLOOKUP(A25,DATATABLE,3,0),"") -> Galena High School | F25: 16829 | G25: 10 | H25: =IF(ISNUMBER(F25),VLOOKUP(F25,DATATABLE,2,0),"") -> Student I Galena | I25: =IF(ISNUMBER(F25),VLOOKUP(F25,DATATABLE,3,0),"") -> Galena High School | M25: =IF(ISNUMBER(K25),VLOOKUP(K25,DATATABLE,2,0),"") | N25: =IF(ISNUMBER(K25),VLOOKUP(K25,DATATABLE,3,0),"") | P25: 27522 | Q25: 10 | R25: =IF(ISNUMBER(P25),VLOOKUP(P25,DATATABLE,2,0),"") -> Joe DuBord | S25: =IF(ISNUMBER(P25),VLOOKUP(P25,DATATABLE,3,0),"") -> River Ridge (Hanover) High School | U25: 27502 | V25: 45 | W25: =IF(ISNUMBER(U25),VLOOKUP(U25,DATATABLE,2,0),"") -> Nate Haas | X25: =IF(ISNUMBER(U25),VLOOKUP(U25,DATATABLE,3,0),"") -> River Ridge (Hanover) High School | Z25: 28502 | AA25: 10 | AB25: =IF(ISNUMBER(Z25),VLOOKUP(Z25,DATATABLE,2,0),"") -> Katherine Bilderback | AC25: =IF(ISNUMBER(Z25),VLOOKUP(Z25,DATATABLE,3,0),"") -> Scales Mound High School | AG25: =IF(ISNUMBER(AE25),VLOOKUP(AE25,DATATABLE,2,0),"") | AH25: =IF(ISNUMBER(AE25),VLOOKUP(AE25,DATATABLE,3,0),"") | AJ25: 21st | AM25: =IF(ISNUMBER(AK25),VLOOKUP(AL25,TEAMLIST,2),"")
A26: 16822 | B26: 22 | C26: =IF(ISNUMBER(A26),VLOOKUP(A26,DATATABLE,2,0),"") -> Vincent Gullone | D26: =IF(ISNUMBER(A26),VLOOKUP(A26,DATATABLE,3,0),"") -> Galena High School | F26: 16831 | G26: 6 | H26: =IF(ISNUMBER(F26),VLOOKUP(F26,DATATABLE,2,0),"") -> Student K Galena | I26: =IF(ISNUMBER(F26),VLOOKUP(F26,DATATABLE,3,0),"") -> Galena High School | M26: =IF(ISNUMBER(K26),VLOOKUP(K26,DATATABLE,2,0),"") | N26: =IF(ISNUMBER(K26),VLOOKUP(K26,DATATABLE,3,0),"") | P26: 16832 | Q26: 10 | R26: =IF(ISNUMBER(P26),VLOOKUP(P26,DATATABLE,2,0),"") -> Student L Galena | S26: =IF(ISNUMBER(P26),VLOOKUP(P26,DATATABLE,3,0),"") -> Galena High School | U26: 16812 | V26: 45 | W26: =IF(ISNUMBER(U26),VLOOKUP(U26,DATATABLE,2,0),"") -> Liliana Asta | X26: =IF(ISNUMBER(U26),VLOOKUP(U26,DATATABLE,3,0),"") -> Galena High School | Z26: 27510 | AA26: 10 | AB26: =IF(ISNUMBER(Z26),VLOOKUP(Z26,DATATABLE,2,0),"") -> Sam Rife | AC26: =IF(ISNUMBER(Z26),VLOOKUP(Z26,DATATABLE,3,0),"") -> River Ridge (Hanover) High School | AG26: =IF(ISNUMBER(AE26),VLOOKUP(AE26,DATATABLE,2,0),"") | AH26: =IF(ISNUMBER(AE26),VLOOKUP(AE26,DATATABLE,3,0),"") | AJ26: 22nd | AM26: =IF(ISNUMBER(AK26),VLOOKUP(AL26,TEAMLIST,2),"")
A27: 16811 | B27: 21 | C27: =IF(ISNUMBER(A27),VLOOKUP(A27,DATATABLE,2,0),"") -> Ella Dodds | D27: =IF(ISNUMBER(A27),VLOOKUP(A27,DATATABLE,3,0),"") -> Galena High School | H27: =IF(ISNUMBER(F27),VLOOKUP(F27,DATATABLE,2,0),"") | I27: =IF(ISNUMBER(F27),VLOOKUP(F27,DATATABLE,3,0),"") | M27: =IF(ISNUMBER(K27),VLOOKUP(K27,DATATABLE,2,0),"") | N27: =IF(ISNUMBER(K27),VLOOKUP(K27,DATATABLE,3,0),"") | P27: 32004 | Q27: 0 | R27: =IF(ISNUMBER(P27),VLOOKUP(P27,DATATABLE,2,0),"") -> Carter Sedivy | S27: =IF(ISNUMBER(P27),VLOOKUP(P27,DATATABLE,3,0),"") -> West Carroll High School CUSD #314 | U27: 28510 | V27: 43 | W27: =IF(ISNUMBER(U27),VLOOKUP(U27,DATATABLE,2,0),"") -> Anika Stadel | X27: =IF(ISNUMBER(U27),VLOOKUP(U27,DATATABLE,3,0),"") -> Scales Mound High School | Z27: 16814 | AA27: 10 | AB27: =IF(ISNUMBER(Z27),VLOOKUP(Z27,DATATABLE,2,0),"") -> Quinlan Wells | AC27: =IF(ISNUMBER(Z27),VLOOKUP(Z27,DATATABLE,3,0),"") -> Galena High School | AG27: =IF(ISNUMBER(AE27),VLOOKUP(AE27,DATATABLE,2,0),"") | AH27: =IF(ISNUMBER(AE27),VLOOKUP(AE27,DATATABLE,3,0),"") | AJ27: 23rd | AM27: =IF(ISNUMBER(AK27),VLOOKUP(AL27,TEAMLIST,2),"")
A28: 32013 | B28: 21 | C28: =IF(ISNUMBER(A28),VLOOKUP(A28,DATATABLE,2,0),"") -> Riley Runions | D28: =IF(ISNUMBER(A28),VLOOKUP(A28,DATATABLE,3,0),"") -> West Carroll High School CUSD #314 | H28: =IF(ISNUMBER(F28),VLOOKUP(F28,DATATABLE,2,0),"") | I28: =IF(ISNUMBER(F28),VLOOKUP(F28,DATATABLE,3,0),"") | M28: =IF(ISNUMBER(K28),VLOOKUP(K28,DATATABLE,2,0),"") | N28: =IF(ISNUMBER(K28),VLOOKUP(K28,DATATABLE,3,0),"") | P28: 16830 | Q28: 0 | R28: =IF(ISNUMBER(P28),VLOOKUP(P28,DATATABLE,2,0),"") -> Student J Galena | S28: =IF(ISNUMBER(P28),VLOOKUP(P28,DATATABLE,3,0),"") -> Galena High School | U28: 27512 | V28: 43 | W28: =IF(ISNUMBER(U28),VLOOKUP(U28,DATATABLE,2,0),"") -> Nick Cobine | X28: =IF(ISNUMBER(U28),VLOOKUP(U28,DATATABLE,3,0),"") -> River Ridge (Hanover) High School | Z28: 27521 | AA28: 9 | AB28: =IF(ISNUMBER(Z28),VLOOKUP(Z28,DATATABLE,2,0),"") -> Gracie Schnitzler | AC28: =IF(ISNUMBER(Z28),VLOOKUP(Z28,DATATABLE,3,0),"") -> River Ridge (Hanover) High School | AG28: =IF(ISNUMBER(AE28),VLOOKUP(AE28,DATATABLE,2,0),"") | AH28: =IF(ISNUMBER(AE28),VLOOKUP(AE28,DATATABLE,3,0),"") | AJ28: 24th | AM28: =IF(ISNUMBER(AK28),VLOOKUP(AL28,TEAMLIST,2),"")
A29: 16823 | B29: 21 | C29: =IF(ISNUMBER(A29),VLOOKUP(A29,DATATABLE,2,0),"") -> Achillies Morales | D29: =IF(ISNUMBER(A29),VLOOKUP(A29,DATATABLE,3,0),"") -> Galena High School | H29: =IF(ISNUMBER(F29),VLOOKUP(F29,DATATABLE,2,0),"") | I29: =IF(ISNUMBER(F29),VLOOKUP(F29,DATATABLE,3,0),"") | M29: =IF(ISNUMBER(K29),VLOOKUP(K29,DATATABLE,2,0),"") | N29: =IF(ISNUMBER(K29),VLOOKUP(K29,DATATABLE,3,0),"") | R29: =IF(ISNUMBER(P29),VLOOKUP(P29,DATATABLE,2,0),"") | S29: =IF(ISNUMBER(P29),VLOOKUP(P29,DATATABLE,3,0),"") | U29: 27509 | V29: 42 | W29: =IF(ISNUMBER(U29),VLOOKUP(U29,DATATABLE,2,0),"") -> Harmony Packard | X29: =IF(ISNUMBER(U29),VLOOKUP(U29,DATATABLE,3,0),"") -> River Ridge (Hanover) High School | Z29: 27504 | AA29: 9 | AB29: =IF(ISNUMBER(Z29),VLOOKUP(Z29,DATATABLE,2,0),"") -> Camden Flack | AC29: =IF(ISNUMBER(Z29),VLOOKUP(Z29,DATATABLE,3,0),"") -> River Ridge (Hanover) High School | AG29: =IF(ISNUMBER(AE29),VLOOKUP(AE29,DATATABLE,2,0),"") | AH29: =IF(ISNUMBER(AE29),VLOOKUP(AE29,DATATABLE,3,0),"") | AJ29: 25th | AM29: =IF(ISNUMBER(AK29),VLOOKUP(AL29,TEAMLIST,2),"")
A30: 16806 | B30: 20 | C30: =IF(ISNUMBER(A30),VLOOKUP(A30,DATATABLE,2,0),"") -> Jayme Frank | D30: =IF(ISNUMBER(A30),VLOOKUP(A30,DATATABLE,3,0),"") -> Galena High School | H30: =IF(ISNUMBER(F30),VLOOKUP(F30,DATATABLE,2,0),"") | I30: =IF(ISNUMBER(F30),VLOOKUP(F30,DATATABLE,3,0),"") | M30: =IF(ISNUMBER(K30),VLOOKUP(K30,DATATABLE,2,0),"") | N30: =IF(ISNUMBER(K30),VLOOKUP(K30,DATATABLE,3,0),"") | R30: =IF(ISNUMBER(P30),VLOOKUP(P30,DATATABLE,2,0),"") | S30: =IF(ISNUMBER(P30),VLOOKUP(P30,DATATABLE,3,0),"") | U30: 15314 | V30: 42 | W30: =IF(ISNUMBER(U30),VLOOKUP(U30,DATATABLE,2,0),"") -> Deya Nieves | X30: =IF(ISNUMBER(U30),VLOOKUP(U30,DATATABLE,3,0),"") -> Eastland High School | Z30: 15312 | AA30: 8 | AB30: =IF(ISNUMBER(Z30),VLOOKUP(Z30,DATATABLE,2,0),"") -> Linus Reuter | AC30: =IF(ISNUMBER(Z30),VLOOKUP(Z30,DATATABLE,3,0),"") -> Eastland High School | AG30: =IF(ISNUMBER(AE30),VLOOKUP(AE30,DATATABLE,2,0),"") | AH30: =IF(ISNUMBER(AE30),VLOOKUP(AE30,DATATABLE,3,0),"") | AJ30: 26th | AM30: =IF(ISNUMBER(AK30),VLOOKUP(AL30,TEAMLIST,2),"")
A31: 16826 | B31: 20 | C31: =IF(ISNUMBER(A31),VLOOKUP(A31,DATATABLE,2,0),"") -> Luna Pham | D31: =IF(ISNUMBER(A31),VLOOKUP(A31,DATATABLE,3,0),"") -> Galena High School | H31: =IF(ISNUMBER(F31),VLOOKUP(F31,DATATABLE,2,0),"") | I31: =IF(ISNUMBER(F31),VLOOKUP(F31,DATATABLE,3,0),"") | M31: =IF(ISNUMBER(K31),VLOOKUP(K31,DATATABLE,2,0),"") | N31: =IF(ISNUMBER(K31),VLOOKUP(K31,DATATABLE,3,0),"") | R31: =IF(ISNUMBER(P31),VLOOKUP(P31,DATATABLE,2,0),"") | S31: =IF(ISNUMBER(P31),VLOOKUP(P31,DATATABLE,3,0),"") | U31: 27523 | V31: 40 | W31: =IF(ISNUMBER(U31),VLOOKUP(U31,DATATABLE,2,0),"") -> Hamish Boden | X31: =IF(ISNUMBER(U31),VLOOKUP(U31,DATATABLE,3,0),"") -> River Ridge (Hanover) High School | Z31: 16822 | AA31: 8 | AB31: =IF(ISNUMBER(Z31),VLOOKUP(Z31,DATATABLE,2,0),"") -> Vincent Gullone | AC31: =IF(ISNUMBER(Z31),VLOOKUP(Z31,DATATABLE,3,0),"") -> Galena High School | AG31: =IF(ISNUMBER(AE31),VLOOKUP(AE31,DATATABLE,2,0),"") | AH31: =IF(ISNUMBER(AE31),VLOOKUP(AE31,DATATABLE,3,0),"") | AJ31: 27th | AM31: =IF(ISNUMBER(AK31),VLOOKUP(AL31,TEAMLIST,2),"")
A32: 15302 | B32: 20 | C32: =IF(ISNUMBER(A32),VLOOKUP(A32,DATATABLE,2,0),"") -> Kalena Rominski | D32: =IF(ISNUMBER(A32),VLOOKUP(A32,DATATABLE,3,0),"") -> Eastland High School | H32: =IF(ISNUMBER(F32),VLOOKUP(F32,DATATABLE,2,0),"") | I32: =IF(ISNUMBER(F32),VLOOKUP(F32,DATATABLE,3,0),"") | M32: =IF(ISNUMBER(K32),VLOOKUP(K32,DATATABLE,2,0),"") | N32: =IF(ISNUMBER(K32),VLOOKUP(K32,DATATABLE,3,0),"") | R32: =IF(ISNUMBER(P32),VLOOKUP(P32,DATATABLE,2,0),"") | S32: =IF(ISNUMBER(P32),VLOOKUP(P32,DATATABLE,3,0),"") | U32: 32013 | V32: 39 | W32: =IF(ISNUMBER(U32),VLOOKUP(U32,DATATABLE,2,0),"") -> Riley Runions | X32: =IF(ISNUMBER(U32),VLOOKUP(U32,DATATABLE,3,0),"") -> West Carroll High School CUSD #314 | Z32: 32004 | AA32: 7 | AB32: =IF(ISNUMBER(Z32),VLOOKUP(Z32,DATATABLE,2,0),"") -> Carter Sedivy | AC32: =IF(ISNUMBER(Z32),VLOOKUP(Z32,DATATABLE,3,0),"") -> West Carroll High School CUSD #314 | AG32: =IF(ISNUMBER(AE32),VLOOKUP(AE32,DATATABLE,2,0),"") | AH32: =IF(ISNUMBER(AE32),VLOOKUP(AE32,DATATABLE,3,0),"") | AJ32: 28th | AM32: =IF(ISNUMBER(AK32),VLOOKUP(AL32,TEAMLIST,2),"")
A33: 28507 | B33: 19 | C33: =IF(ISNUMBER(A33),VLOOKUP(A33,DATATABLE,2,0),"") -> Graham Koehler | D33: =IF(ISNUMBER(A33),VLOOKUP(A33,DATATABLE,3,0),"") -> Scales Mound High School | H33: =IF(ISNUMBER(F33),VLOOKUP(F33,DATATABLE,2,0),"") | I33: =IF(ISNUMBER(F33),VLOOKUP(F33,DATATABLE,3,0),"") | M33: =IF(ISNUMBER(K33),VLOOKUP(K33,DATATABLE,2,0),"") | N33: =IF(ISNUMBER(K33),VLOOKUP(K33,DATATABLE,3,0),"") | R33: =IF(ISNUMBER(P33),VLOOKUP(P33,DATATABLE,2,0),"") | S33: =IF(ISNUMBER(P33),VLOOKUP(P33,DATATABLE,3,0),"") | U33: 15313 | V33: 39 | W33: =IF(ISNUMBER(U33),VLOOKUP(U33,DATATABLE,2,0),"") -> Madison Schubert | X33: =IF(ISNUMBER(U33),VLOOKUP(U33,DATATABLE,3,0),"") -> Eastland High School | Z33: 32002 | AA33: 4 | AB33: =IF(ISNUMBER(Z33),VLOOKUP(Z33,DATATABLE,2,0),"") -> Ashlyn Foster | AC33: =IF(ISNUMBER(Z33),VLOOKUP(Z33,DATATABLE,3,0),"") -> West Carroll High School CUSD #314 | AG33: =IF(ISNUMBER(AE33),VLOOKUP(AE33,DATATABLE,2,0),"") | AH33: =IF(ISNUMBER(AE33),VLOOKUP(AE33,DATATABLE,3,0),"") | AJ33: 29th | AM33: =IF(ISNUMBER(AK33),VLOOKUP(AL33,TEAMLIST,2),"")
A34: 16808 | B34: 18 | C34: =IF(ISNUMBER(A34),VLOOKUP(A34,DATATABLE,2,0),"") -> Jalyn Walker | D34: =IF(ISNUMBER(A34),VLOOKUP(A34,DATATABLE,3,0),"") -> Galena High School | H34: =IF(ISNUMBER(F34),VLOOKUP(F34,DATATABLE,2,0),"") | I34: =IF(ISNUMBER(F34),VLOOKUP(F34,DATATABLE,3,0),"") | M34: =IF(ISNUMBER(K34),VLOOKUP(K34,DATATABLE,2,0),"") | N34: =IF(ISNUMBER(K34),VLOOKUP(K34,DATATABLE,3,0),"") | R34: =IF(ISNUMBER(P34),VLOOKUP(P34,DATATABLE,2,0),"") | S34: =IF(ISNUMBER(P34),VLOOKUP(P34,DATATABLE,3,0),"") | U34: 27503 | V34: 38 | W34: =IF(ISNUMBER(U34),VLOOKUP(U34,DATATABLE,2,0),"") -> Laiken Haas | X34: =IF(ISNUMBER(U34),VLOOKUP(U34,DATATABLE,3,0),"") -> River Ridge (Hanover) High School | Z34: 15307 | AA34: 0 | AB34: =IF(ISNUMBER(Z34),VLOOKUP(Z34,DATATABLE,2,0),"") -> Jon Spoerlein | AC34: =IF(ISNUMBER(Z34),VLOOKUP(Z34,DATATABLE,3,0),"") -> Eastland High School | AG34: =IF(ISNUMBER(AE34),VLOOKUP(AE34,DATATABLE,2,0),"") | AH34: =IF(ISNUMBER(AE34),VLOOKUP(AE34,DATATABLE,3,0),"") | AJ34: 30th | AM34: =IF(ISNUMBER(AK34),VLOOKUP(AL34,TEAMLIST,2),"")
A35: 16831 | B35: 18 | C35: =IF(ISNUMBER(A35),VLOOKUP(A35,DATATABLE,2,0),"") -> Student K Galena | D35: =IF(ISNUMBER(A35),VLOOKUP(A35,DATATABLE,3,0),"") -> Galena High School | H35: =IF(ISNUMBER(F35),VLOOKUP(F35,DATATABLE,2,0),"") | I35: =IF(ISNUMBER(F35),VLOOKUP(F35,DATATABLE,3,0),"") | M35: =IF(ISNUMBER(K35),VLOOKUP(K35,DATATABLE,2,0),"") | N35: =IF(ISNUMBER(K35),VLOOKUP(K35,DATATABLE,3,0),"") | R35: =IF(ISNUMBER(P35),VLOOKUP(P35,DATATABLE,2,0),"") | S35: =IF(ISNUMBER(P35),VLOOKUP(P35,DATATABLE,3,0),"") | U35: 28513 | V35: 38 | W35: =IF(ISNUMBER(U35),VLOOKUP(U35,DATATABLE,2,0),"") -> Alyssa Wentz | X35: =IF(ISNUMBER(U35),VLOOKUP(U35,DATATABLE,3,0),"") -> Scales Mound High School | Z35: 16833 | AA35: 0 | AB35: =IF(ISNUMBER(Z35),VLOOKUP(Z35,DATATABLE,2,0),"") -> Student M Galena | AC35: =IF(ISNUMBER(Z35),VLOOKUP(Z35,DATATABLE,3,0),"") -> Galena High School | AG35: =IF(ISNUMBER(AE35),VLOOKUP(AE35,DATATABLE,2,0),"") | AH35: =IF(ISNUMBER(AE35),VLOOKUP(AE35,DATATABLE,3,0),"") | AJ35: 31st | AM35: =IF(ISNUMBER(AK35),VLOOKUP(AL35,TEAMLIST,2),"")
A36: 32005 | B36: 17 | C36: =IF(ISNUMBER(A36),VLOOKUP(A36,DATATABLE,2,0),"") -> Catia Wilson | D36: =IF(ISNUMBER(A36),VLOOKUP(A36,DATATABLE,3,0),"") -> West Carroll High School CUSD #314 | H36: =IF(ISNUMBER(F36),VLOOKUP(F36,DATATABLE,2,0),"") | I36: =IF(ISNUMBER(F36),VLOOKUP(F36,DATATABLE,3,0),"") | M36: =IF(ISNUMBER(K36),VLOOKUP(K36,DATATABLE,2,0),"") | N36: =IF(ISNUMBER(K36),VLOOKUP(K36,DATATABLE,3,0),"") | R36: =IF(ISNUMBER(P36),VLOOKUP(P36,DATATABLE,2,0),"") | S36: =IF(ISNUMBER(P36),VLOOKUP(P36,DATATABLE,3,0),"") | U36: 16804 | V36: 36 | W36: =IF(ISNUMBER(U36),VLOOKUP(U36,DATATABLE,2,0),"") -> Violet Doyle | X36: =IF(ISNUMBER(U36),VLOOKUP(U36,DATATABLE,3,0),"") -> Galena High School | Z36: 32007 | AA36: 0 | AB36: =IF(ISNUMBER(Z36),VLOOKUP(Z36,DATATABLE,2,0),"") -> Rowan Rannow | AC36: =IF(ISNUMBER(Z36),VLOOKUP(Z36,DATATABLE,3,0),"") -> West Carroll High School CUSD #314 | AG36: =IF(ISNUMBER(AE36),VLOOKUP(AE36,DATATABLE,2,0),"") | AH36: =IF(ISNUMBER(AE36),VLOOKUP(AE36,DATATABLE,3,0),"") | AJ36: 32nd | AM36: =IF(ISNUMBER(AK36),VLOOKUP(AL36,TEAMLIST,2),"")
A37: 27513 | B37: 15 | C37: =IF(ISNUMBER(A37),VLOOKUP(A37,DATATABLE,2,0),"") -> Berkeley Mensendike | D37: =IF(ISNUMBER(A37),VLOOKUP(A37,DATATABLE,3,0),"") -> River Ridge (Hanover) High School | H37: =IF(ISNUMBER(F37),VLOOKUP(F37,DATATABLE,2,0),"") | I37: =IF(ISNUMBER(F37),VLOOKUP(F37,DATATABLE,3,0),"") | M37: =IF(ISNUMBER(K37),VLOOKUP(K37,DATATABLE,2,0),"") | N37: =IF(ISNUMBER(K37),VLOOKUP(K37,DATATABLE,3,0),"") | R37: =IF(ISNUMBER(P37),VLOOKUP(P37,DATATABLE,2,0),"") | S37: =IF(ISNUMBER(P37),VLOOKUP(P37,DATATABLE,3,0),"") | U37: 27513 | V37: 33 | W37: =IF(ISNUMBER(U37),VLOOKUP(U37,DATATABLE,2,0),"") -> Berkeley Mensendike | X37: =IF(ISNUMBER(U37),VLOOKUP(U37,DATATABLE,3,0),"") -> River Ridge (Hanover) High School | Z37: 32008 | AA37: 0 | AB37: =IF(ISNUMBER(Z37),VLOOKUP(Z37,DATATABLE,2,0),"") -> Abigail Grzemski | AC37: =IF(ISNUMBER(Z37),VLOOKUP(Z37,DATATABLE,3,0),"") -> West Carroll High School CUSD #314 | AG37: =IF(ISNUMBER(AE37),VLOOKUP(AE37,DATATABLE,2,0),"") | AH37: =IF(ISNUMBER(AE37),VLOOKUP(AE37,DATATABLE,3,0),"") | AJ37: 33rd | AM37: =IF(ISNUMBER(AK37),VLOOKUP(AL37,TEAMLIST,2),"")
A38: 15313 | B38: 10 | C38: =IF(ISNUMBER(A38),VLOOKUP(A38,DATATABLE,2,0),"") -> Madison Schubert | D38: =IF(ISNUMBER(A38),VLOOKUP(A38,DATATABLE,3,0),"") -> Eastland High School | H38: =IF(ISNUMBER(F38),VLOOKUP(F38,DATATABLE,2,0),"") | I38: =IF(ISNUMBER(F38),VLOOKUP(F38,DATATABLE,3,0),"") | M38: =IF(ISNUMBER(K38),VLOOKUP(K38,DATATABLE,2,0),"") | N38: =IF(ISNUMBER(K38),VLOOKUP(K38,DATATABLE,3,0),"") | R38: =IF(ISNUMBER(P38),VLOOKUP(P38,DATATABLE,2,0),"") | S38: =IF(ISNUMBER(P38),VLOOKUP(P38,DATATABLE,3,0),"") | U38: 27521 | V38: 29 | W38: =IF(ISNUMBER(U38),VLOOKUP(U38,DATATABLE,2,0),"") -> Gracie Schnitzler | X38: =IF(ISNUMBER(U38),VLOOKUP(U38,DATATABLE,3,0),"") -> River Ridge (Hanover) High School | Z38: 15309 | AA38: 0 | AB38: =IF(ISNUMBER(Z38),VLOOKUP(Z38,DATATABLE,2,0),"") -> Breanna Sweitzer | AC38: =IF(ISNUMBER(Z38),VLOOKUP(Z38,DATATABLE,3,0),"") -> Eastland High School | AG38: =IF(ISNUMBER(AE38),VLOOKUP(AE38,DATATABLE,2,0),"") | AH38: =IF(ISNUMBER(AE38),VLOOKUP(AE38,DATATABLE,3,0),"") | AJ38: 34th | AM38: =IF(ISNUMBER(AK38),VLOOKUP(AL38,TEAMLIST,2),"")
A39: 32011 | B39: 0 | C39: =IF(ISNUMBER(A39),VLOOKUP(A39,DATATABLE,2,0),"") -> Isabel Herrell | D39: =IF(ISNUMBER(A39),VLOOKUP(A39,DATATABLE,3,0),"") -> West Carroll High School CUSD #314 | H39: =IF(ISNUMBER(F39),VLOOKUP(F39,DATATABLE,2,0),"") | I39: =IF(ISNUMBER(F39),VLOOKUP(F39,DATATABLE,3,0),"") | M39: =IF(ISNUMBER(K39),VLOOKUP(K39,DATATABLE,2,0),"") | N39: =IF(ISNUMBER(K39),VLOOKUP(K39,DATATABLE,3,0),"") | R39: =IF(ISNUMBER(P39),VLOOKUP(P39,DATATABLE,2,0),"") | S39: =IF(ISNUMBER(P39),VLOOKUP(P39,DATATABLE,3,0),"") | U39: 32002 | V39: 29 | W39: =IF(ISNUMBER(U39),VLOOKUP(U39,DATATABLE,2,0),"") -> Ashlyn Foster | X39: =IF(ISNUMBER(U39),VLOOKUP(U39,DATATABLE,3,0),"") -> West Carroll High School CUSD #314 | AB39: =IF(ISNUMBER(Z39),VLOOKUP(Z39,DATATABLE,2,0),"") | AC39: =IF(ISNUMBER(Z39),VLOOKUP(Z39,DATATABLE,3,0),"") | AG39: =IF(ISNUMBER(AE39),VLOOKUP(AE39,DATATABLE,2,0),"") | AH39: =IF(ISNUMBER(AE39),VLOOKUP(AE39,DATATABLE,3,0),"") | AJ39: 35th | AM39: =IF(ISNUMBER(AK39),VLOOKUP(AL39,TEAMLIST,2),"")
A40: 16833 | B40: 0 | C40: =IF(ISNUMBER(A40),VLOOKUP(A40,DATATABLE,2,0),"") -> Student M Galena | D40: =IF(ISNUMBER(A40),VLOOKUP(A40,DATATABLE,3,0),"") -> Galena High School | H40: =IF(ISNUMBER(F40),VLOOKUP(F40,DATATABLE,2,0),"") | I40: =IF(ISNUMBER(F40),VLOOKUP(F40,DATATABLE,3,0),"") | M40: =IF(ISNUMBER(K40),VLOOKUP(K40,DATATABLE,2,0),"") | N40: =IF(ISNUMBER(K40),VLOOKUP(K40,DATATABLE,3,0),"") | R40: =IF(ISNUMBER(P40),VLOOKUP(P40,DATATABLE,2,0),"") | S40: =IF(ISNUMBER(P40),VLOOKUP(P40,DATATABLE,3,0),"") | U40: 16825 | V40: 0 | W40: =IF(ISNUMBER(U40),VLOOKUP(U40,DATATABLE,2,0),"") -> Macklan Murphy | X40: =IF(ISNUMBER(U40),VLOOKUP(U40,DATATABLE,3,0),"") -> Galena High School | AB40: =IF(ISNUMBER(Z40),VLOOKUP(Z40,DATATABLE,2,0),"") | AC40: =IF(ISNUMBER(Z40),VLOOKUP(Z40,DATATABLE,3,0),"") | AG40: =IF(ISNUMBER(AE40),VLOOKUP(AE40,DATATABLE,2,0),"") | AH40: =IF(ISNUMBER(AE40),VLOOKUP(AE40,DATATABLE,3,0),"") | AJ40: 36th | AM40: =IF(ISNUMBER(AK40),VLOOKUP(AL40,TEAMLIST,2),"")
...

Sheet 700
A1: BIOLOGY | F1: CHEMISTRY | K1: COMPUTATIONAL SCIENCE | P1: ENGINEERING GRAPHICS | U1: ENGLISH | Z1: MATHEMATICS | AE1: PHYSICS | AK1: TEAM RESULTS
A2: DIVISION | B2: 700 | F2: DIVISION | G2: 700 | K2: DIVISION | L2: 700 | P2: DIVISION | Q2: 700 | U2: DIVISION | V2: 700 | Z2: DIVISION | AA2: 700 | AE2: DIVISION | AF2: 700 | AK2: Row Labels | AL2: Sum of Row Labels
A3: EXAMCODE | B3: 1 | F3: EXAMCODE | G3: 2 | K3: EXAMCODE | L3: 3 | P3: EXAMCODE | Q3: 4 | U3: EXAMCODE | V3: 5 | Z3: EXAMCODE | AA3: 6 | AE3: EXAMCODE | AF3: 7 | AL3: 0 | AM3: =IF(AND(AL3>0,AL3<600),VLOOKUP(AL3,TEAMLIST,2,0),"")
A4: CATEGORY | B4: (Multiple Items) | F4: CATEGORY | G4: (Multiple Items) | K4: CATEGORY | L4: (Multiple Items) | P4: CATEGORY | Q4: (Multiple Items) | U4: CATEGORY | V4: (Multiple Items) | Z4: CATEGORY | AA4: (Multiple Items) | AE4: CATEGORY | AF4: (Multiple Items) | AJ4: 1st | AM4: =IF(AND(AL4>0,AL4<600),VLOOKUP(AL4,TEAMLIST,2,0),"")
AJ5: 2nd | AM5: =VLOOKUP(AL5,TEAMLIST,2,0) -> #N/A
A6: Row Labels | B6: Sum of SCORE | F6: Row Labels | G6: Sum of SCORE | K6: Row Labels | L6: Sum of SCORE | P6: Row Labels | Q6: Sum of SCORE | U6: Row Labels | V6: Sum of SCORE | Z6: Row Labels | AA6: Sum of SCORE | AE6: Row Labels | AF6: Sum of SCORE | AJ6: 3rd | AM6: =IF(AL6<>0,VLOOKUP(AL6,TEAMLIST,2,0),"")
C7: =IF(ISNUMBER(A7),VLOOKUP(A7,DATATABLE,2,0),"") | D7: =IF(ISNUMBER(A7),VLOOKUP(A7,DATATABLE,3,0),"") | H7: =IF(ISNUMBER(F7),VLOOKUP(F7,DATATABLE,2,0),"") | I7: =IF(ISNUMBER(F7),VLOOKUP(F7,DATATABLE,3,0),"") | M7: =IF(ISNUMBER(K7),VLOOKUP(K7,DATATABLE,2,0),"") | N7: =IF(ISNUMBER(K7),VLOOKUP(K7,DATATABLE,3,0),"") | R7: =IF(ISNUMBER(P7),VLOOKUP(P7,DATATABLE,2,0),"") | S7: =IF(ISNUMBER(P7),VLOOKUP(P7,DATATABLE,3,0),"") | W7: =IF(ISNUMBER(U7),VLOOKUP(U7,DATATABLE,2,0),"") | X7: =IF(ISNUMBER(U7),VLOOKUP(U7,DATATABLE,3,0),"") | AB7: =IF(ISNUMBER(Z7),VLOOKUP(Z7,DATATABLE,2,0),"") | AC7: =IF(ISNUMBER(Z7),VLOOKUP(Z7,DATATABLE,3,0),"") | AG7: =IF(ISNUMBER(AE7),VLOOKUP(AE7,DATATABLE,2,0),"") | AH7: =IF(ISNUMBER(AE7),VLOOKUP(AE7,DATATABLE,3,0),"") | AJ7: 4th | AM7: =IF(AL7<>0,VLOOKUP(AL7,TEAMLIST,2,0),"")
C8: =IF(ISNUMBER(A8),VLOOKUP(A8,DATATABLE,2,0),"") | D8: =IF(ISNUMBER(A8),VLOOKUP(A8,DATATABLE,3,0),"") | H8: =IF(ISNUMBER(F8),VLOOKUP(F8,DATATABLE,2,0),"") | I8: =IF(ISNUMBER(F8),VLOOKUP(F8,DATATABLE,3,0),"") | M8: =IF(ISNUMBER(K8),VLOOKUP(K8,DATATABLE,2,0),"") | N8: =IF(ISNUMBER(K8),VLOOKUP(K8,DATATABLE,3,0),"") | R8: =IF(ISNUMBER(P8),VLOOKUP(P8,DATATABLE,2,0),"") | S8: =IF(ISNUMBER(P8),VLOOKUP(P8,DATATABLE,3,0),"") | W8: =IF(ISNUMBER(U8),VLOOKUP(U8,DATATABLE,2,0),"") | X8: =IF(ISNUMBER(U8),VLOOKUP(U8,DATATABLE,3,0),"") | AB8: =IF(ISNUMBER(Z8),VLOOKUP(Z8,DATATABLE,2,0),"") | AC8: =IF(ISNUMBER(Z8),VLOOKUP(Z8,DATATABLE,3,0),"") | AG8: =IF(ISNUMBER(AE8),VLOOKUP(AE8,DATATABLE,2,0),"") | AH8: =IF(ISNUMBER(AE8),VLOOKUP(AE8,DATATABLE,3,0),"") | AJ8: 5th | AM8: =IF(AND(AL8>0,AL8<600),VLOOKUP(AL8,TEAMLIST,2,0),"")
C9: =IF(ISNUMBER(A9),VLOOKUP(A9,DATATABLE,2,0),"") | D9: =IF(ISNUMBER(A9),VLOOKUP(A9,DATATABLE,3,0),"") | H9: =IF(ISNUMBER(F9),VLOOKUP(F9,DATATABLE,2,0),"") | I9: =IF(ISNUMBER(F9),VLOOKUP(F9,DATATABLE,3,0),"") | M9: =IF(ISNUMBER(K9),VLOOKUP(K9,DATATABLE,2,0),"") | N9: =IF(ISNUMBER(K9),VLOOKUP(K9,DATATABLE,3,0),"") | R9: =IF(ISNUMBER(P9),VLOOKUP(P9,DATATABLE,2,0),"") | S9: =IF(ISNUMBER(P9),VLOOKUP(P9,DATATABLE,3,0),"") | W9: =IF(ISNUMBER(U9),VLOOKUP(U9,DATATABLE,2,0),"") | X9: =IF(ISNUMBER(U9),VLOOKUP(U9,DATATABLE,3,0),"") | AB9: =IF(ISNUMBER(Z9),VLOOKUP(Z9,DATATABLE,2,0),"") | AC9: =IF(ISNUMBER(Z9),VLOOKUP(Z9,DATATABLE,3,0),"") | AG9: =IF(ISNUMBER(AE9),VLOOKUP(AE9,DATATABLE,2,0),"") | AH9: =IF(ISNUMBER(AE9),VLOOKUP(AE9,DATATABLE,3,0),"") | AJ9: 6th | AM9: =IF(AND(AL9>0,AL9<600),VLOOKUP(AL9,TEAMLIST,2,0),"")
C10: =IF(ISNUMBER(A10),VLOOKUP(A10,DATATABLE,2,0),"") | D10: =IF(ISNUMBER(A10),VLOOKUP(A10,DATATABLE,3,0),"") | H10: =IF(ISNUMBER(F10),VLOOKUP(F10,DATATABLE,2,0),"") | I10: =IF(ISNUMBER(F10),VLOOKUP(F10,DATATABLE,3,0),"") | M10: =IF(ISNUMBER(K10),VLOOKUP(K10,DATATABLE,2,0),"") | N10: =IF(ISNUMBER(K10),VLOOKUP(K10,DATATABLE,3,0),"") | R10: =IF(ISNUMBER(P10),VLOOKUP(P10,DATATABLE,2,0),"") | S10: =IF(ISNUMBER(P10),VLOOKUP(P10,DATATABLE,3,0),"") | W10: =IF(ISNUMBER(U10),VLOOKUP(U10,DATATABLE,2,0),"") | X10: =IF(ISNUMBER(U10),VLOOKUP(U10,DATATABLE,3,0),"") | AB10: =IF(ISNUMBER(Z10),VLOOKUP(Z10,DATATABLE,2,0),"") | AC10: =IF(ISNUMBER(Z10),VLOOKUP(Z10,DATATABLE,3,0),"") | AG10: =IF(ISNUMBER(AE10),VLOOKUP(AE10,DATATABLE,2,0),"") | AH10: =IF(ISNUMBER(AE10),VLOOKUP(AE10,DATATABLE,3,0),"") | AJ10: 7th | AM10: =IF(AND(AL10>0,AL10<600),VLOOKUP(AL10,TEAMLIST,2,0),"")
